Workbook

Sheet Hướng dẫn
A1: HƯỚNG DẪN LÀM KPI UBND XÃ - PHÒNG VĂN HÓA XÃ HỘI THEO HD 02 CỦA BAN TỔ CHỨC TRUNG ƯƠNG
C2: Nguyễn Hùng Cường | kinhcan24 | blognhansu.net.vn
A3: I. | B3: Giới thiệu tài liệu
C4: Chi tiết:
A5: II. | B5: Các bước tiến hành
B6: 1 | C6: Bước 1: Xây dựng danh mục và sản phẩm công việc. Để ra danh mục này như hướng dẫn 02, chúng ta có các bước nhỏ:
C7: - Bước 1.1: Việc đầu tiên là cần xác định được chức năng nhiệm vụ của Phòng rồi phân bổ cho các vị trí.
C8: - Bước 1.2: Xác định các sản phẩm có được với từng đầu việc.
C9: - Bước 1.3: Xác định hệ số quy đổi.Hệ số quy đổi = Điểm chấm công việc / Điểm chấm công việc thấp nhất (công việc chuẩn).
B10: 2 | C10: Bước 2: Tính điểm KPI cho từng đầu mục số lượng (A), chất lượng (B), tiến độ (C), thực hiện theo chỉ đạo (D)
C11: - Bước 1.4: Tính điểm đối với tất cả các sản phẩm/công việc khác theo điểm của đơn vị sản phẩm/công việc chuẩn.
C12: + Số lượng quy đổi = Số lượng (sản phẩm) * Hệ Số quy đổi.
C13: + quy đổi = Thực tế hoàn thành / Số lượng (sản phẩm) * Số lượng quy đổi
C14: - Bước 2.2: Tính điểm KPI số lượng, chất lượng, tiến độ, lãnh đạo
C15: - Tổng A (số lượng) = Quy đổi điểm số lượng công việc 1 + Quy đổi điểm số lượng công việc 2 +...
C16: - Tổng B (chất lượng) = Quy đổi điểm chất lượng công việc 1 + Quy đổi điểm chất lượng công việc 2 +...
C17: - Tổng C (tiến độ) = Quy đổi điểm tiến độ công việc 1 + Quy đổi điểm tiến độ công việc 2 +...
C18: - Tổng D (thực hiện theo chỉ đạo) = Quy đổi điểm hoàn thành theo chỉ đạo công việc 1 + Quy đổi điểm hoàn thành theo chỉ đạo công việc 2 +...
B19: 3 | C19: Bước 3: Tính % hoàn thành KPI theo công thức: KPI = (A+B+C+D)/4

Sheet Co cau UBND
A1: DANH MỤC CÔNG VIỆC UBND
P2: Nguyễn Hùng Cường | kinhcan24 | blognhansu.net.vn
A3: TT | B3: Hoạt động lớn | E3: Phân bổ nhiệm vụ
E4: Chủ tịch Ủy ban | F4: Phó chủ tịch văn hóa xã hội | G4: Phó chủ tịch xây dựng | H4: Ủy viên An ninh | I4: Ủy viên Quân sự | J4: Văn phòng - Thống kê | K4: Văn hóa - xã hội | L4: Địa chính-Nông nghiệp - Xây dựng và Môi trường | M4: Tư pháp - Hộ tịch | N4: Ban chỉ huy quân sự xã | O4: Tài chính - Kế toán | P4: Công an xã
A5: 1 | B5: Chức năng của UBND cấp xã: Chức năng chính của Ủy ban nhân dân cấp xã đó là quản lý hành chính nhà nước trên địa bàn xã trong các lĩnh vực kinh tế, xã hội và an ninh quốc phòng theo các chủ trương chính sách của Đảng, pháp luật của nhà nước và theo sự phân công chỉ đạo thực hiện của Ủy ban nhân dân cấp huyện. Qua đó, phát huy quyền làm chủ của nhân dân, bảo đảm quyền và nghĩa vụ công dân, góp phần xây dựng đời sống vật chất và tinh thần trong sáng, vững mạnh cho người dân.
B6: Các chức năng cụ thể bao gồm:
B7: Tổ chức và hướng dẫn cho nhân dân, các tổ chức chính trị, tổ chức chính trị - xã hội, tổ chức xã hội trên địa bàn thực hiện tốt các chính sách của Đảng và pháp luật của nhà nước. | E7: C | F7: C1 | G7: C1 | H7: C1 | I7: C | J7: T | K7: T | L7: T | M7: T | N7: T | O7: T | P7: T
B8: Tạo điều kiện cho nhân dân làm ăn và phát triển kinh tế địa phương, nắm bắt rõ các tâm tư, nguyện vọng của người dân để nhanh chóng giải quyết hoặc phản ánh lên cấp trên. | E8: C | F8: C1 | G8: C1 | H8: C1 | I8: C | J8: T | K8: T | L8: T | M8: T | N8: T | O8: T | P8: T
B9: Kiểm tra và giám sát việc thực hiện các chủ trương, chính sách của đảng và nhà nước tại các cơ quan, tổ chức ở Địa phương | E9: C | F9: C1 | G9: C1 | H9: C1 | I9: C | J9: T | K9: T | L9: T | M9: T | N9: T | O9: T | P9: T
B10: Tổ chức thực hiện tốt các kế hoạch về kinh tế xã hội và kế hoạch ngân sách xã được Ủy ban nhân dân cấp huyện giao hằng năm. | E10: C | F10: C1 | G10: C1 | H10: C1 | I10: C | J10: T | K10: T | L10: T | M10: T | N10: T | O10: T | P10: T
B11: Xây dựng dự toán ngân sách năm sau trình UBND huyện phê duyệt. | E11: C | F11: C1 | G11: C1 | H11: C1 | I11: C | J11: T | K11: T | L11: T | M11: T | N11: T | O11: T | P11: T
A12: 2 | B12: Nhiệm vụ của UBND cấp xã. UBND cấp xã có các nhiệm vụ sau đây:
B13: - Xây dựng, trình HĐND xã quyết định một số nội dung thuộc nhiệm vụ và quyền hạn của HĐND xã như: | E13: C
B14: + Ban hành nghị quyết về những vấn đề thuộc nhiệm vụ, quyền hạn của Hội đồng nhân dân xã. | E14: C | J14: T
B15: + Quyết định biện pháp bảo đảm trật tự, an toàn xã hội, đấu tranh, phòng, chống tội phạm và các hành vi vi phạm pháp luật khác, phòng, chống quan liêu, tham nhũng trong phạm vi được phân quyền; biện pháp bảo vệ tài sản của cơ quan, tổ chức, bảo hộ tính mạng, tự do, danh dự, nhân phẩm, tài sản, các quyền và lợi ích hợp pháp khác của công dân trên địa bàn xã. | E15: C | H15: C1 | P15: T
B16: + Thông qua kế hoạch phát triển kinh tế - xã hội hằng năm của xã trước khi trình Ủy ban nhân dân huyện, thị xã, thành phố thuộc tỉnh, thành phố thuộc thành phố trực thuộc trung ương phê duyệt. Quyết định dự toán thu ngân sách nhà nước trên địa bàn; dự toán thu, chi ngân sách xã; điều chỉnh dự toán ngân sách xã trong trường hợp cần thiết; phê chuẩn quyết toán ngân sách xã. Quyết định chủ trương đầu tư chương trình, dự án của xã trong phạm vi được phân quyền. | E16: C | F16: C1 | G16: C1 | H16: C1 | I16: C | J16: T | K16: T | L16: T | M16: T | N16: T | O16: T | P16: T
B17: - Và tổ chức thực hiện các nghị quyết của HĐND xã. | E17: C | F17: C1 | G17: C1 | H17: C1 | I17: C | J17: T | K17: T | L17: T | M17: T | N17: T | O17: T | P17: T
B18: - Tổ chức thực hiện ngân sách địa phương trên cơ sở số ngân sách đã được phê duyệt. | E18: C | F18: C1 | G18: C1 | H18: C1 | I18: C | J18: T | K18: T | L18: T | M18: T | N18: T | O18: T | P18: T
B19: -Thực hiện nhiệm vụ, quyền hạn do cơ quan nhà nước cấp trên phân cấp, ủy quyền cho Ủy ban nhân dân xã./. | E19: C | F19: C1 | G19: C1 | H19: C1 | I19: C | J19: T | K19: T | L19: T | M19: T | N19: T | O19: T | P19: T
C20: (1) Lĩnh vực Tài chính: | E20: C | F20: C1 | G20: C1 | O20: T
C21: Nghị định 125/2025/NĐ-CP quy định Ủy ban nhân dân cấp xã thực hiện một số nhiệm vụ, quyền hạn của Ủy ban nhân dân cấp huyện (trước đây) gồm: | E21: C | F21: C1 | G21: C1 | O21: T
C22: - Quản lý, tổ chức thực hiện các chương trình mục tiêu quốc gia (Điều 5), | E22: C | F22: C1 | G22: C1 | O22: T
C23: - Quản lý, thanh toán, quyết toán dự án sử dụng vốn đầu tư công (Điều 6); | E23: C | F23: C1 | G23: C1 | O23: T
C24: - Đầu tư theo phương thức đối tác công tư (Điều 8); | E24: C | F24: C1 | G24: C1 | O24: T
C25: - Đấu thầu (Điều 9, 10, 11); | E25: C | F25: C1 | G25: C1 | O25: T
C26: - Trưng mua, trưng dụng tài sản, tài chính đất đai (Điều 13); | E26: C | F26: C1 | G26: C1 | O26: T
C27: - Quản lý, sử dụng tài sản công tại cơ quan, tổ chức, đơn vị (Điều 14); | E27: C | F27: C1 | G27: C1 | O27: T
C28: - Quản lý, sử dụng và khai thác tài sản kết cấu hạ tầng giao thông đường bộ (Điều 16); | E28: C | F28: C1 | G28: C1 | O28: T
C29: - Quản lý, sử dụng và khai thác tài sản kết cấu hạ tầng chợ (Điều 17); | E29: C | F29: C1 | G29: C1 | O29: T
C30: - Quản lý, sử dụng và khai thác tài sản kết cấu hạ tầng thủy lợi (Điều 18); | E30: C | F30: C1 | G30: C1 | O30: T
C31: - Quản lý, sử dụng và khai thác tài sản kết cấu hạ tầng đường thủy nội địa (Điều 19); | E31: C | F31: C1 | G31: C1 | O31: T
... C48: Ngoài ra, tùy điều kiện cụ thể của địa phương, Ủy ban nhân dân cấp tỉnh có thể xem xét, giao cho Ủy ban nhân dân cấp xã thực hiện một số nhiệm vụ, quyền hạn khác của Ủy ban nhân dân cấp huyện, cơ quan chuyên môn thuộc Ủy ban nhân dân cấp huyện (Điều 7, Điều 16, khoản 2 Điều 45). | E48: C | F48: C1 | G48: C1 | O48: T
C49: (2) Lĩnh vực Nông nghiệp và Môi trường | E49: C | G49: C1 | L49: T
C50: Đối với lĩnh vực nông nghiệp và môi trường Nghị định 131/2025/NĐ-CP quy định nhiệm vụ, quyền hạn của Ủy ban nhân dân cấp xã gồm: | E50: C | G50: C1 | L50: T
C51: - Trồng trọt và bảo vệ thực vật (Điều 4); | E51: C | G51: C1 | L51: T
C52: - Chăn nuôi và thú y (Điều 6); | E52: C | G52: C1 | L52: T
C53: - Lâm nghiệp và Kiểm ngư (Điều 12); | E53: C | G53: C1 | L53: T
C54: - Thủy lợi (Điều 16); | E54: C | G54: C1 | L54: T
C55: - Đê điều và phòng chống thiên tai (Điều 18); | E55: C | G55: C1 | L55: T
C56: - Tài nguyên nước (Điều 22); | E56: C | G56: C1 | L56: T
...

Sheet Co cau P VHXH
A1: DANH MỤC CÔNG VIỆC PHÒNG VĂN HÓA XÃ HỘI
R2: Nguyễn Hùng Cường | kinhcan24 | blognhansu.net.vn
A3: TT | B3: Chức năng | J3: Phân bổ nhiệm vụ
J4: Trưởng phòng | K4: Phó trưởng phòng | L4: Chuyên viên 1 - Kế toán UB | M4: Chuyên viên 2 - Lao động XH | N4: Chuyên viên 3 - VT Thủ quỹ | O4: HĐKCT | P4: HĐ 111 | Q4: Cán bộ HD 1 - TC giáo dục | R4: Cán bộ HD 2 - CM giáo dục
B5: Làm chủ tài khoản, quản lý tài chính của phòng; tài sản của cơ quan theo quy định | J5: C | L5: T | N5: T
C6: Phụ trách công tác kế toán của cơ quan. | J6: C | L6: T
C7: Công tác thủ quỹ của cơ quan (Phụ trách quỹ phòng, đơn vị). | J7: C | N7: T
B8: Phụ trách Lĩnh vực Nội vụ, gồm: | J8: C | K8: C1 | N8: T | O8: T
C9: Tổ chức hành chính, sự nghiệp nhà nước; | J9: C | K9: C1
D10: Cải cách hành chính (kế hoạch, báo cáo, chấm điểm, các nhiệm vụ khác về CCHC) | J10: C | K10: C1 | O10: T
C11: Chính quyền địa phương, địa giới đơn vị hành chính; | J11: C | K11: C1
C12: Cán bộ, công chức, viên chức và công vụ; | J12: C | K12: C1
D13: Công tác cán bộ công chức (nâng lương trước hạn, điều động, bổ nhiệm, quy hoạch...) | J13: C | K13: C1
D14: Chế độ chính sách cho người hoạt động không chuyên trách xã, xóm | J14: C | K14: C1
D15: Công tác viên chức (đánh giá, xếp loại viên chức, nâng lương trước thời hạn cho viên chức, duyệt quỹ lương viên chức, quy hoạch, điều động, bổ nhiệm...) | J15: C | K15: C1
C16: Thi đua, khen thưởng; | J16: C | O16: T
D17: Đánh giá, xếp loại, thi đua, khen thưởng | J17: C | O17: T
C18: Văn thư, lưu trữ nhà nước; | J18: C | N18: T
D19: Quản lý con dấu của Phòng Văn hóa xã hội. | J19: C | N19: T
D20: Xây dựng và ban hành Giấy mời, văn bản có tính chất đơn giản | J20: C | N20: T
D21: Tiếp nhận, chuyển tiếp văn thư, lưu trữ của phòng, đơn vị | J21: C | N21: T
D22: Công khai các Thủ tục hành chính theo quyết định công bố của cấp có thẩm quyền | J22: C | N22: T
D23: Ghi biên bản các cuộc họp của phòng, đơn vị, cơ quan | J23: C | N23: T
D24: Thẩm tra, kiểm tra thể thức, trình tự thủ tục các văn bản trước khi ký ban hành | J24: C | N24: T
D25: Tiếp nhận, vào sổ, đăng ký các loại công văn đi, công văn đến theo quy định, chuyển văn bản trên hệ thống văn bản điện tử VNPT-Ioffice, qua bưu điện; chuyển báo chí, tài liệu cho lãnh đạo và chuyển công văn giấy tờ đi cho các cơ quan, đơn vị theo quy định, quản lý con dấu | J25: C | N25: T
C26: Phụ trách công tác Công đoàn và vệ sinh cơ quan | J26: C | N26: T
B27: Phụ trách Lĩnh vực Giáo dục và Đào tạo, gồm: Giáo dục mầm non; Giáo dục phổ thông (giáo dục tiểu học và giáo dục trung học cơ sở); | J27: C | L27: T | Q27: T | R27: T
C28: Phụ trách công tác tổ chức, nhân sự, chế độ chính sách và cơ sở vật chất giáo dục. | J28: C | Q28: T
C29: Công tác tổ chức bộ máy trường học. | J29: C | Q29: T
C30: Biên chế, hợp đồng giáo viên. | J30: C | Q30: T
C31: Tuyển dụng, tiếp nhận, điều động giáo viên. | J31: C | Q31: T
C32: Thi đua, khen thưởng ngành giáo dục. | J32: C | Q32: T
C33: Đánh giá viên chức, người đứng đầu cơ sở giáo dục. | J33: C | Q33: T
C34: Chế độ chính sách giáo viên, học sinh. | J34: C | Q34: T
C35: Cơ sở vật chất trường học. | J35: C | Q35: T
C36: Chương trình mục tiêu, đầu tư xây dựng trường học. | J36: C | Q36: T
C37: Tài chính, ngân sách giáo dục. | J37: C | Q37: T
C38: Khiếu nại, tố cáo, kiểm tra, thanh tra lĩnh vực giáo dục. | J38: C | Q38: T
C39: Chuyển đổi số, cơ sở dữ liệu ngành. | J39: C | Q39: T
C40: Phụ trách công tác chuyên môn giáo dục: Theo dõi hoạt động chuyên môn của 11 trường học. Giáo dục mầm non. Giáo dục tiểu học. Giáo dục trung học cơ sở. | J40: C | R40: T
...

Sheet KPI P VH - XH
A1: BẢNG TỔNG HỢP ĐIỂM KPI CỦA PHÒNG
M2: Nguyễn Hùng Cường | kinhcan24 | blognhansu.net.vn
A3: Stt | B3: Họ và tên | C3: Vị trí | D3: Ghi chú | E3: Điểm KPI tháng
E4: 1 | F4: 2 | G4: 3 | H4: 4 | I4: 5 | J4: 6 | K4: 7 | L4: 8 | M4: …
A5: 1 | B5: A | C5: {=TRANSPOSE('Co cau P VHXH'!J4:R4)} -> Trưởng phòng | D5: Xem chi tiết KPI
A6: 2 | B6: B | C6: Phó trưởng phòng | D6: Xem chi tiết KPI
A7: 3 | B7: C | C7: Chuyên viên 1 - Kế toán UB | D7: Xem chi tiết KPI
A8: 4 | B8: D | C8: Chuyên viên 2 - Lao động XH | D8: Xem chi tiết KPI
A9: 5 | B9: E | C9: Chuyên viên 3 - VT Thủ quỹ | D9: Xem chi tiết KPI
A10: 6 | B10: F | C10: HĐKCT | D10: Xem chi tiết KPI
A11: 7 | B11: G | C11: HĐ 111 | D11: Xem chi tiết KPI
A12: 8 | B12: H | C12: Cán bộ HD 1 - TC giáo dục | D12: Xem chi tiết KPI
A13: 9 | B13: I | C13: Cán bộ HD 2 - CM giáo dục | D13: Xem chi tiết KPI

Sheet KPI TP Van hoa - Xa hoi
A1: BẢN TỰ ĐÁNH GIÁ, XẾP LOẠI CỦA CÁ NHÂN
A2: Quý …., Năm ….
A3: Họ và tên:…………………………..…....................................... Ngày sinh: ………………………........
A4: Chức vụ Đảng: ……………………………………………………………….……………………………….
A5: Chức vụ chính quyền: ………………………………………………………..………………………………
A6: Chức vụ đoàn thể: …………………………………………………………………………….………………
A7: Đơn vị công tác: ……………………………...……………………………………………….………………
A8: I. Tự đánh giá kết quả thực hiện nhiệm vụ
A10: Trên cơ sở nhiệm vụ được giao, cá nhân tự đánh giá về kết quả thực hiện nhiệm vụ theo quý như sau:
A12: I | B12: NHÓM TIÊU CHÍ CHUNG (30 ĐIỂM) - Các tiêu chí thực hiện theo Quy định số 366-QĐ/TW của Bộ Chính trị
A13: TT | B13: Tiêu chí / Nội dung | H13: Đảm bảo | I13: Không đảm bảo (Đánh dấu x) | J13: Điểm tối đa | K13: Điểm đạt (Chấm tối đa nếu đảm bảo; Chấm 0 điểm nếu không đảm bảo) | L13: Ghi chú
H14: (Đánh dấu x)
A15: 1 | B15: Về phẩm chất chính trị, đạo đức, lối sống, thực hiện trách nhiệm nêu gương | J15: 18
A16: 1.1 | B16: Tuyệt đối trung thành với Đảng, Tổ quốc và Nhân dân; kiên định chủ nghĩa Mác - Lênin, tư tưởng Hồ Chí Minh, mục tiêu độc lập dân tộc và chủ nghĩa xã hội. Có lập trường, quan điểm, bản lĩnh chính trị vững vàng; kiên quyết bảo vệ nền tảng tư tưởng, Cương lĩnh chính trị, đường lối của Đảng, Hiến pháp, pháp luật của Nhà nước; đấu tranh phản bác các quan điểm sai trái, thù địch, các biểu hiện suy thoái, "tự diễn biến", "tự chuyển hóa". | J16: 2
A17: 1.2 | B17: Có tinh thần yêu nước sâu sắc, tận tụy phục vụ Nhân dân, sâu sát cơ sở, luôn hành động vì lợi ích của Nhân dân. Đặt lợi ích của Đảng, quốc gia - dân tộc, Nhân dân, tập thể lên trên lợi ích cá nhân, sẵn sàng hy sinh vì sự nghiệp cách mạng của Đảng, vì độc lập, tự do của Tổ quốc, vì hạnh phúc của Nhân dân. | J17: 2
A18: 1.3 | B18: Chấp hành nghiêm chủ trương, đường lối, nghị quyết, chỉ thị, quy định, nguyên tắc tổ chức, kỷ luật của Đảng, nhất là nguyên tắc tập trung dân chủ, tự phê bình và phê bình; chấp hành nghiêm pháp luật của Nhà nước và quy định của cơ quan, đơn vị. Tuyệt đối chấp hành sự phân công của tổ chức, yên tâm công tác và hoàn thành tốt mọi nhiệm vụ được giao. | J18: 2
A19: 1.4 | B19: Có tinh thần tự giác, trách nhiệm cao trong nghiên cứu, học tập chủ nghĩa Mác - Lênin, tư tưởng Hồ Chí Minh, các nghị quyết, chỉ thị của Đảng và các chương trình bồi dưỡng, cập nhật kiến thức mới nhằm nâng cao trình độ về mọi mặt, đáp ứng yêu cầu, nhiệm vụ. | J19: 2
A20: 1.5 | B20: Có phẩm chất đạo đức, lối sống trong sáng, trung thực, khiêm tốn, chân thành, giản dị; cần, kiệm, liêm, chính, chí công vô tư; chấp hành nghiêm quy định về chuẩn mực đạo đức cách mạng của cán bộ, đảng viên trong giai đoạn mới, trách nhiệm nêu gương; không vi phạm Quy định về những điều đảng viên không được làm. Không né tránh công việc, chạy theo thành tích; không vi phạm đạo đức, lối sống đến mức bị xử lý kỷ luật. | J20: 2
A21: 1.6 | B21: Không tham vọng quyền lực; không chạy chức, chạy quyền; không tham nhũng, lãng phí, cơ hội, vụ lợi, cục bộ, lợi ích nhóm; không để gia đình, người thân và người khác lợi dụng chức vụ, vị trí công tác để trục lợi. Không có biểu hiện suy thoái về tư tưởng chính trị, đạo đức, lối sống, những biểu hiện "tự diễn biến", "tự chuyển hóa" trong nội bộ. Kiên quyết đấu tranh chống quan liêu, cửa quyền, tham nhũng, xa hoa, lãng phí, tiêu cực, chủ nghĩa cá nhân, lối sống cơ hội, thực dụng, bè phái, lợi ích nhóm, nói không đi đôi với làm. | J21: 2
A22: 1.7 | B22: Có uy tín cao, tiêu biểu về phẩm chất đạo đức và phong cách công tác; là trung tâm đoàn kết, thương yêu đồng chí, đồng nghiệp. | J22: 2
A23: 1.8 | B23: Có tinh thần chủ động, đổi mới sáng tạo; phấn đấu vì mục tiêu phát triển của cơ quan, đơn vị, đóng góp vào mục tiêu chung của đất nước. | J23: 2
A24: 1.9 | B24: Thực hiện việc kê khai và công khai tài sản, thu nhập theo quy định. Báo cáo đầy đủ, trung thực, cung cấp thông tin chính xác, khách quan về những nội dung liên quan đến việc thực hiện chức trách, nhiệm vụ được giao và hoạt động của cơ quan, tổ chức, đơn vị với cấp trên khi được yêu cầu. | J24: 2
A25: 2 | B25: Tư duy đổi mới, chiến lược, khát vọng cống hiến, dám nghĩ, dám làm | J25: 4
A26: 2.1 | B26: Có tư duy đổi mới, tầm nhìn chiến lược, khả năng lãnh đạo, chỉ đạo thích ứng với sự phát triển của thời đại và xu thế toàn cầu hóa; phương pháp làm việc khoa học, nhạy bén chính trị; có năng lực cụ thể hóa trong lãnh đạo, chỉ đạo cơ quan, đơn vị thực hiện và hoàn thành tốt chức năng, nhiệm vụ được giao. | J26: 1
A27: 2.2 | B27: Luôn bám sát thực tiễn, có nhiều cách làm hay, sáng tạo, đạt hiệu quả cao trong lãnh đạo, chỉ đạo, tổ chức thực hiện nhiệm vụ; xây dựng cấp ủy, tổ chức đảng trong sạch, vững mạnh, cơ quan, đơn vị vững mạnh toàn diện. | J27: 1
A28: 2.3 | B28: Nói đi đôi với làm, dám nghĩ, dám làm, dám chịu trách nhiệm, dám đột phá vì lợi ích chung. Có khả năng phân tích, dự báo tình hình, phát hiện những khó khăn, bất cập, thời cơ, thuận lợi trong thực tiễn; đề xuất hoặc quyết định những giải pháp phù hợp, kịp thời, hiệu quả. | J28: 1
A29: 2.4 | B29: Có khát vọng phấn đấu, cống hiến; có khả năng quy tụ và phát huy được sức mạnh của tập thể, cá nhân trong cơ quan, đơn vị và các cơ quan, đơn vị có liên quan. | J29: 1
B30: 3. Về tự phê bình và phê bình, tự soi, tự sửa, khắc phục hạn chế, khuyết điểm | J30: 8
A31: 3.1 | B31: Chủ động, nghiêm túc thực hiện tự phê bình và phê bình, có tinh thần cầu thị và tiếp thu phản biện, góp ý. | J31: 2
A32: 3.2 | B32: Có kế hoạch rõ ràng và quyết liệt trong khắc phục hạn chế, khuyết điểm đã được chỉ ra. | J32: 2
A33: 3.3 | B33: Kết quả khắc phục hoàn thành từ ≥ 80% nội dung, có tiến bộ rõ, được tổ chức đánh giá tốt; không để tái diễn tồn tại. | J33: 2
A34: 3.4 | B34: Tự soi, tự sửa trên tinh thần trách nhiệm chính trị cao, không né tránh, không đổ lỗi. | J34: 2
A35: Tổng (A) = | J35: 30
A36: B | B36: KẾT QUẢ THỰC HIỆN NHIỆM VỤ ĐƯỢC GIAO (70 ĐIỂM)
A37: TT | B37: Tiêu chí / Nội dung | G37: Mục tiêu, nhiệm vụ đề ra | H37: Kết quả sản phẩm thực tế | I37: Điểm KPI | J37: Điểm tối đa | K37: Điểm đạt | L37: Ghi chú
I38: (%) | K38: (= Điểm KPI x Điểm tối đa)
A39: 1 | B39: Trục (1) - THỰC HIỆN MỤC TIÊU PHÁT TRIỂN KINH TẾ - XÃ HỘI VÀ NHIỆM VỤ CHÍNH TRỊ ĐƯỢC GIAO (25 ĐIỂM) | J39: 15
B40: - Tốc độ tăng trưởng kinh tế GDP/GRDP
B41: - Thu ngân sách
B42: - Thu nhập bình quân đầu người
...

Sheet KPI PP Van hoa - Xa  hoi
A1: BẢN TỰ ĐÁNH GIÁ, XẾP LOẠI CỦA CÁ NHÂN
A2: Quý …., Năm ….
A3: Họ và tên:…………………………..…....................................... Ngày sinh: ………………………........
A4: Chức vụ Đảng: ……………………………………………………………….……………………………….
A5: Chức vụ chính quyền: ………………………………………………………..………………………………
A6: Chức vụ đoàn thể: …………………………………………………………………………….………………
A7: Đơn vị công tác: ……………………………...……………………………………………….………………
A8: I. Tự đánh giá kết quả thực hiện nhiệm vụ
A10: Trên cơ sở nhiệm vụ được giao, cá nhân tự đánh giá về kết quả thực hiện nhiệm vụ theo quý như sau:
A12: I | B12: NHÓM TIÊU CHÍ CHUNG (30 ĐIỂM) - Các tiêu chí thực hiện theo Quy định số 366-QĐ/TW của Bộ Chính trị
A13: TT | B13: Tiêu chí / Nội dung | H13: Đảm bảo | I13: Không đảm bảo (Đánh dấu x) | J13: Điểm tối đa | K13: Điểm đạt (Chấm tối đa nếu đảm bảo; Chấm 0 điểm nếu không đảm bảo) | L13: Ghi chú
H14: (Đánh dấu x)
A15: 1 | B15: Về phẩm chất chính trị, đạo đức, lối sống, thực hiện trách nhiệm nêu gương | J15: 18
A16: 1.1 | B16: Tuyệt đối trung thành với Đảng, Tổ quốc và Nhân dân; kiên định chủ nghĩa Mác - Lênin, tư tưởng Hồ Chí Minh, mục tiêu độc lập dân tộc và chủ nghĩa xã hội. Có lập trường, quan điểm, bản lĩnh chính trị vững vàng; kiên quyết bảo vệ nền tảng tư tưởng, Cương lĩnh chính trị, đường lối của Đảng, Hiến pháp, pháp luật của Nhà nước; đấu tranh phản bác các quan điểm sai trái, thù địch, các biểu hiện suy thoái, "tự diễn biến", "tự chuyển hóa". | J16: 2
A17: 1.2 | B17: Có tinh thần yêu nước sâu sắc, tận tụy phục vụ Nhân dân, sâu sát cơ sở, luôn hành động vì lợi ích của Nhân dân. Đặt lợi ích của Đảng, quốc gia - dân tộc, Nhân dân, tập thể lên trên lợi ích cá nhân, sẵn sàng hy sinh vì sự nghiệp cách mạng của Đảng, vì độc lập, tự do của Tổ quốc, vì hạnh phúc của Nhân dân. | J17: 2
A18: 1.3 | B18: Chấp hành nghiêm chủ trương, đường lối, nghị quyết, chỉ thị, quy định, nguyên tắc tổ chức, kỷ luật của Đảng, nhất là nguyên tắc tập trung dân chủ, tự phê bình và phê bình; chấp hành nghiêm pháp luật của Nhà nước và quy định của cơ quan, đơn vị. Tuyệt đối chấp hành sự phân công của tổ chức, yên tâm công tác và hoàn thành tốt mọi nhiệm vụ được giao. | J18: 2
A19: 1.4 | B19: Có tinh thần tự giác, trách nhiệm cao trong nghiên cứu, học tập chủ nghĩa Mác - Lênin, tư tưởng Hồ Chí Minh, các nghị quyết, chỉ thị của Đảng và các chương trình bồi dưỡng, cập nhật kiến thức mới nhằm nâng cao trình độ về mọi mặt, đáp ứng yêu cầu, nhiệm vụ. | J19: 2
A20: 1.5 | B20: Có phẩm chất đạo đức, lối sống trong sáng, trung thực, khiêm tốn, chân thành, giản dị; cần, kiệm, liêm, chính, chí công vô tư; chấp hành nghiêm quy định về chuẩn mực đạo đức cách mạng của cán bộ, đảng viên trong giai đoạn mới, trách nhiệm nêu gương; không vi phạm Quy định về những điều đảng viên không được làm. Không né tránh công việc, chạy theo thành tích; không vi phạm đạo đức, lối sống đến mức bị xử lý kỷ luật. | J20: 2
A21: 1.6 | B21: Không tham vọng quyền lực; không chạy chức, chạy quyền; không tham nhũng, lãng phí, cơ hội, vụ lợi, cục bộ, lợi ích nhóm; không để gia đình, người thân và người khác lợi dụng chức vụ, vị trí công tác để trục lợi. Không có biểu hiện suy thoái về tư tưởng chính trị, đạo đức, lối sống, những biểu hiện "tự diễn biến", "tự chuyển hóa" trong nội bộ. Kiên quyết đấu tranh chống quan liêu, cửa quyền, tham nhũng, xa hoa, lãng phí, tiêu cực, chủ nghĩa cá nhân, lối sống cơ hội, thực dụng, bè phái, lợi ích nhóm, nói không đi đôi với làm. | J21: 2
A22: 1.7 | B22: Có uy tín cao, tiêu biểu về phẩm chất đạo đức và phong cách công tác; là trung tâm đoàn kết, thương yêu đồng chí, đồng nghiệp. | J22: 2
A23: 1.8 | B23: Có tinh thần chủ động, đổi mới sáng tạo; phấn đấu vì mục tiêu phát triển của cơ quan, đơn vị, đóng góp vào mục tiêu chung của đất nước. | J23: 2
A24: 1.9 | B24: Thực hiện việc kê khai và công khai tài sản, thu nhập theo quy định. Báo cáo đầy đủ, trung thực, cung cấp thông tin chính xác, khách quan về những nội dung liên quan đến việc thực hiện chức trách, nhiệm vụ được giao và hoạt động của cơ quan, tổ chức, đơn vị với cấp trên khi được yêu cầu. | J24: 2
A25: 2 | B25: Tư duy đổi mới, chiến lược, khát vọng cống hiến, dám nghĩ, dám làm | J25: 4
A26: 2.1 | B26: Có tư duy đổi mới, tầm nhìn chiến lược, khả năng lãnh đạo, chỉ đạo thích ứng với sự phát triển của thời đại và xu thế toàn cầu hóa; phương pháp làm việc khoa học, nhạy bén chính trị; có năng lực cụ thể hóa trong lãnh đạo, chỉ đạo cơ quan, đơn vị thực hiện và hoàn thành tốt chức năng, nhiệm vụ được giao. | J26: 1
A27: 2.2 | B27: Luôn bám sát thực tiễn, có nhiều cách làm hay, sáng tạo, đạt hiệu quả cao trong lãnh đạo, chỉ đạo, tổ chức thực hiện nhiệm vụ; xây dựng cấp ủy, tổ chức đảng trong sạch, vững mạnh, cơ quan, đơn vị vững mạnh toàn diện. | J27: 1
A28: 2.3 | B28: Nói đi đôi với làm, dám nghĩ, dám làm, dám chịu trách nhiệm, dám đột phá vì lợi ích chung. Có khả năng phân tích, dự báo tình hình, phát hiện những khó khăn, bất cập, thời cơ, thuận lợi trong thực tiễn; đề xuất hoặc quyết định những giải pháp phù hợp, kịp thời, hiệu quả. | J28: 1
A29: 2.4 | B29: Có khát vọng phấn đấu, cống hiến; có khả năng quy tụ và phát huy được sức mạnh của tập thể, cá nhân trong cơ quan, đơn vị và các cơ quan, đơn vị có liên quan. | J29: 1
B30: 3. Về tự phê bình và phê bình, tự soi, tự sửa, khắc phục hạn chế, khuyết điểm | J30: 8
A31: 3.1 | B31: Chủ động, nghiêm túc thực hiện tự phê bình và phê bình, có tinh thần cầu thị và tiếp thu phản biện, góp ý. | J31: 2
A32: 3.2 | B32: Có kế hoạch rõ ràng và quyết liệt trong khắc phục hạn chế, khuyết điểm đã được chỉ ra. | J32: 2
A33: 3.3 | B33: Kết quả khắc phục hoàn thành từ ≥ 80% nội dung, có tiến bộ rõ, được tổ chức đánh giá tốt; không để tái diễn tồn tại. | J33: 2
A34: 3.4 | B34: Tự soi, tự sửa trên tinh thần trách nhiệm chính trị cao, không né tránh, không đổ lỗi. | J34: 2
A35: Tổng (A) = | J35: 30
A36: B | B36: KẾT QUẢ THỰC HIỆN NHIỆM VỤ ĐƯỢC GIAO (70 ĐIỂM)
A37: TT | B37: Tiêu chí / Nội dung | G37: Mục tiêu, nhiệm vụ đề ra | H37: Kết quả sản phẩm thực tế | I37: Điểm KPI | J37: Điểm tối đa | K37: Điểm đạt | L37: Ghi chú
I38: (%) | K38: (= Điểm KPI x Điểm tối đa)
A39: 1 | B39: Trục (1) - THỰC HIỆN MỤC TIÊU PHÁT TRIỂN KINH TẾ - XÃ HỘI VÀ NHIỆM VỤ CHÍNH TRỊ ĐƯỢC GIAO (25 ĐIỂM) | J39: 15
B40: - Tốc độ tăng trưởng kinh tế GDP/GRDP
B41: - Thu ngân sách
B42: - Thu nhập bình quân đầu người
...

Sheet DMCV CV1 - KTUB
A1: BẢNG DANH MỤC SẢN PHẨM CÔNG VIỆC
M2: Nguyễn Hùng Cường | kinhcan24 | blognhansu.net.vn
A3: Quý …., Năm ….
A4: Họ và tên:…………………………..…....................................... Ngày sinh: ………………………........
A5: Vị trí: | E5: ='Co cau P VHXH'!L4 -> Chuyên viên 1 - Kế toán UB
A6: Đơn vị công tác: | E6: Phòng công tác xã hội
A8: TT | B8: Nhiệm vụ | F8: Định mức lao động
F9: Cấp trình | G9: Độ khó, mới, phức tạp; phạm vi tác động | H9: Sản phẩm | I9: Số lượng | J9: Tiến độ/ tần suất | K9: Ghi chú | L9: Điểm chấm công việc | M9: Hệ số quy đổi
B10: Làm chủ tài khoản, quản lý tài chính của phòng; tài sản của cơ quan theo quy định
C11: Phụ trách công tác kế toán của cơ quan. | M11: =L11/MIN($L:$L) -> 0
D12: Theo dõi quản lý, phân bổ vốn, quỹ | L12: 100 | M12: =L12/MIN($L:$L) -> 1
D13: Thực hiện các nghiệp vụ thanh toán thu chi | L13: 500 | M13: =L13/MIN($L:$L) -> 5
D14: Quản lý kho, cơ sở vật chất, tài sản, hàng hóa về mặt giá trị | M14: =L14/MIN($L:$L) -> 0
D15: Tính toán giá thành và theo dõi chi phí dịch vụ
D16: Thu hồi, theo dõi công nợ phải thu, phải trả
D17: Lập báo cáo quản trị | M17: =L17/MIN($L:$L) -> 0
D18: Triển khai các hoạt động đáp ứng nghĩa vụ thuế | M18: =L18/MIN($L:$L) -> 0
B19: Phụ trách Lĩnh vực Giáo dục và Đào tạo, gồm: Giáo dục mầm non; Giáo dục phổ thông (giáo dục tiểu học và giáo dục trung học cơ sở); | M19: =L19/MIN($L:$L) -> 0
B20: Thực hiện các nhiệm vụ khác do cấp trên phân công | M20: =L20/MIN($L:$L) -> 0
C21: Lãnh đạo cơ quan phân công | M21: =L21/MIN($L:$L) -> 0

Sheet KPI CV1 - KTUB
A1: KẾT QUẢ THỰC HIỆN NHIỆM VỤ (KPI)
A2: Quý …., Năm …. | R2: Nguyễn Hùng Cường | kinhcan24 | blognhansu.net.vn
A3: Họ và tên:…………………………..…....................................... Ngày sinh: ………………………........
A4: Vị trí: | E4: ='Co cau P VHXH'!L4 -> Chuyên viên 1 - Kế toán UB
A5: Đơn vị công tác: | E5: Phòng công tác xã hội
A7: TT | B7: NHIỆM VỤ ĐỀ RA KẾ HOẠCH | K7: THỰC TẾ TRIỂN KHAI
B8: Nhiệm vụ | F8: Sản phẩm | G8: Số lượng | H8: Tiến độ | I8: Hệ số quy đổi | J8: Số lượng quy đổi | K8: KPI | M8: KPI | O8: KPI | Q8: Lãnh đạo, chỉ đạo, điều hành
K9: (Số lượng) | M9: (Chất lượng) | O9: (Tiến độ)
K10: Thực tế hoàn thành | L10: Quy đổi | M10: Thực tế hoàn thành | N10: Quy đổi | O10: Thực tế hoàn thành | P10: Quy đổi | Q10: Thực tế hoàn thành | R10: Quy đổi
A11: 1 | B11: ='DMCV CV1 - KTUB'!B10 -> Làm chủ tài khoản, quản lý tài chính của phòng; tài sản của cơ quan theo quy định
C12: ='DMCV CV1 - KTUB'!C11 -> Phụ trách công tác kế toán của cơ quan. | F12: ='DMCV CV1 - KTUB'!H11 -> 0 | G12: ='DMCV CV1 - KTUB'!I11 -> 0 | H12: ='DMCV CV1 - KTUB'!J11 -> 0 | I12: ='DMCV CV1 - KTUB'!M11 -> 0 | J12: =I12*G12 -> 0 | L12: =K12/G12*J12 -> #DIV/0! | N12: =M12/G12*J12 -> #DIV/0! | P12: =O12/G12*J12 -> #DIV/0! | R12: =Q12/G12*J12 -> #DIV/0!
D13: ='DMCV CV1 - KTUB'!D12 -> Theo dõi quản lý, phân bổ vốn, quỹ | F13: ='DMCV CV1 - KTUB'!H12 -> 0 | G13: ='DMCV CV1 - KTUB'!I12 -> 0 | H13: ='DMCV CV1 - KTUB'!J12 -> 0 | I13: ='DMCV CV1 - KTUB'!M12 -> 1 | J13: =I13*G13 -> 0 | L13: =K13/G13*J13 -> #DIV/0! | N13: =M13/G13*J13 -> #DIV/0! | P13: =O13/G13*J13 -> #DIV/0! | R13: =Q13/G13*J13 -> #DIV/0!
D14: ='DMCV CV1 - KTUB'!D13 -> Thực hiện các nghiệp vụ thanh toán thu chi | F14: ='DMCV CV1 - KTUB'!H13 -> 0 | G14: ='DMCV CV1 - KTUB'!I13 -> 0 | H14: ='DMCV CV1 - KTUB'!J13 -> 0 | I14: ='DMCV CV1 - KTUB'!M13 -> 5 | J14: =I14*G14 -> 0 | L14: =K14/G14*J14 -> #DIV/0! | N14: =M14/G14*J14 -> #DIV/0! | P14: =O14/G14*J14 -> #DIV/0! | R14: =Q14/G14*J14 -> #DIV/0!
D15: ='DMCV CV1 - KTUB'!D14 -> Quản lý kho, cơ sở vật chất, tài sản, hàng hóa về mặt giá trị | F15: ='DMCV CV1 - KTUB'!H14 -> 0 | G15: ='DMCV CV1 - KTUB'!I14 -> 0 | H15: ='DMCV CV1 - KTUB'!J14 -> 0 | I15: ='DMCV CV1 - KTUB'!M14 -> 0 | J15: =I15*G15 -> 0 | L15: =K15/G15*J15 -> #DIV/0! | N15: =M15/G15*J15 -> #DIV/0! | P15: =O15/G15*J15 -> #DIV/0! | R15: =Q15/G15*J15 -> #DIV/0!
D16: ='DMCV CV1 - KTUB'!D17 -> Lập báo cáo quản trị | F16: ='DMCV CV1 - KTUB'!H17 -> 0 | G16: ='DMCV CV1 - KTUB'!I17 -> 0 | H16: ='DMCV CV1 - KTUB'!J17 -> 0 | I16: ='DMCV CV1 - KTUB'!M17 -> 0 | J16: =I16*G16 -> 0 | L16: =K16/G16*J16 -> #DIV/0! | N16: =M16/G16*J16 -> #DIV/0! | P16: =O16/G16*J16 -> #DIV/0! | R16: =Q16/G16*J16 -> #DIV/0!
D17: ='DMCV CV1 - KTUB'!D18 -> Triển khai các hoạt động đáp ứng nghĩa vụ thuế | F17: ='DMCV CV1 - KTUB'!H18 -> 0 | G17: ='DMCV CV1 - KTUB'!I18 -> 0 | H17: ='DMCV CV1 - KTUB'!J18 -> 0 | I17: ='DMCV CV1 - KTUB'!M18 -> 0 | J17: =I17*G17 -> 0 | L17: =K17/G17*J17 -> #DIV/0! | N17: =M17/G17*J17 -> #DIV/0! | P17: =O17/G17*J17 -> #DIV/0! | R17: =Q17/G17*J17 -> #DIV/0!
B18: ='DMCV CV1 - KTUB'!B19 -> Phụ trách Lĩnh vực Giáo dục và Đào tạo, gồm: Giáo dục mầm non; Giáo dục phổ thông (giáo dục tiểu học và giáo dục trung học cơ sở); | F18: ='DMCV CV1 - KTUB'!H19 -> 0 | G18: ='DMCV CV1 - KTUB'!I19 -> 0 | H18: ='DMCV CV1 - KTUB'!J19 -> 0 | I18: ='DMCV CV1 - KTUB'!M19 -> 0 | J18: =I18*G18 -> 0 | L18: =K18/G18*J18 -> #DIV/0! | N18: =M18/G18*J18 -> #DIV/0! | P18: =O18/G18*J18 -> #DIV/0! | R18: =Q18/G18*J18 -> #DIV/0!
B19: ='DMCV CV1 - KTUB'!B20 -> Thực hiện các nhiệm vụ khác do cấp trên phân công
C20: ='DMCV CV1 - KTUB'!C21 -> Lãnh đạo cơ quan phân công | F20: ='DMCV CV1 - KTUB'!H21 -> 0 | G20: ='DMCV CV1 - KTUB'!I21 -> 0 | H20: ='DMCV CV1 - KTUB'!J21 -> 0 | I20: ='DMCV CV1 - KTUB'!M21 -> 0 | J20: =I20*G20 -> 0 | L20: =K20/G20*J20 -> #DIV/0! | N20: =M20/G20*J20 -> #DIV/0! | P20: =O20/G20*J20 -> #DIV/0! | R20: =Q20/G20*J20 -> #DIV/0!
B21: Tổng | J21: =SUM(J11:J20) -> 0 | L21: =SUM(L11:L20) -> #DIV/0! | N21: =SUM(N11:N20) -> #DIV/0! | P21: =SUM(P11:P20) -> #DIV/0! | R21: =SUM(R11:R20) -> #DIV/0!
B22: Từ bảng trên suy ra:
B23: A = | D23: =L21/J21 -> #DIV/0! | F23: B = | G23: =N21/J21 -> #DIV/0! | I23: C = | J23: =P21/J21 -> #DIV/0! | L23: D = | M23: =R21/J21 -> #DIV/0!
B24: => KPI = (A+B+C+D)/4 = | E24: =(D23+G23+J23+M23)/4 -> #DIV/0!
B26: Như vậy: Tổng điểm = 30 + %KPI x 70 = | F26: =30+E24*70 -> #DIV/0! | G26: điểm

Sheet DMCV CV2 - LDXH
A1: BẢNG DANH MỤC SẢN PHẨM CÔNG VIỆC
M2: Nguyễn Hùng Cường | kinhcan24 | blognhansu.net.vn
A3: Quý …., Năm ….
A4: Họ và tên:…………………………..…....................................... Ngày sinh: ………………………........
A5: Vị trí: | E5: ='Co cau P VHXH'!M4 -> Chuyên viên 2 - Lao động XH
A6: Đơn vị công tác: | E6: Phòng công tác xã hội
A8: TT | B8: Nhiệm vụ | F8: Định mức lao động
F9: Cấp trình | G9: Độ khó, mới, phức tạp; phạm vi tác động | H9: Sản phẩm | I9: Số lượng | J9: Tiến độ/ tần suất | K9: Ghi chú | L9: Điểm chấm công việc | M9: Hệ số quy đổi
B10: Phụ trách Lĩnh vực Xã hội - Lao động:
C11: Công tác bảo trợ xã hội; | M11: =L11/MIN($L:$L) -> 0
L12: 100 | M12: =L12/MIN($L:$L) -> 1
L13: 500 | M13: =L13/MIN($L:$L) -> 5
M14: =L14/MIN($L:$L) -> 0
C15: Phòng chống tệ nạn xã hội; | M15: =L15/MIN($L:$L) -> 0
M16: =L16/MIN($L:$L) -> 0
M17: =L17/MIN($L:$L) -> 0
M18: =L18/MIN($L:$L) -> 0
M19: =L19/MIN($L:$L) -> 0
M20: =L20/MIN($L:$L) -> 0
C21: Bảo hiểm y tế; bảo hiểm xã hội; | M21: =L21/MIN($L:$L) -> 0
M22: =L22/MIN($L:$L) -> 0
M23: =L23/MIN($L:$L) -> 0
M24: =L24/MIN($L:$L) -> 0
B25: Phụ trách Lĩnh vực Văn hóa - Thông tin; | M25: =L25/MIN($L:$L) -> 0
C26: Văn hóa; gia đình; du lịch; quảng cáo; phát thanh truyền hình; báo chí. | M26: =L26/MIN($L:$L) -> 0
M27: =L27/MIN($L:$L) -> 0
M28: =L28/MIN($L:$L) -> 0
M29: =L29/MIN($L:$L) -> 0
M30: =L30/MIN($L:$L) -> 0
C31: Du lịch; quảng cáo; phát thanh truyền hình; báo chí. | M31: =L31/MIN($L:$L) -> 0
M32: =L32/MIN($L:$L) -> 0
M33: =L33/MIN($L:$L) -> 0
B34: Thực hiện các nhiệm vụ khác do cấp trên phân công | M34: =L34/MIN($L:$L) -> 0
C35: Lãnh đạo cơ quan phân công | M35: =L35/MIN($L:$L) -> 0

Sheet KPI CV2 - LDXH
A1: KẾT QUẢ THỰC HIỆN NHIỆM VỤ (KPI)
A2: Quý …., Năm …. | R2: Nguyễn Hùng Cường | kinhcan24 | blognhansu.net.vn
A3: Họ và tên:…………………………..…....................................... Ngày sinh: ………………………........
A4: Vị trí: | E4: ='Co cau P VHXH'!M4 -> Chuyên viên 2 - Lao động XH
A5: Đơn vị công tác: | E5: Phòng công tác xã hội
A7: TT | B7: NHIỆM VỤ ĐỀ RA KẾ HOẠCH | K7: THỰC TẾ TRIỂN KHAI
B8: Nhiệm vụ | F8: Sản phẩm | G8: Số lượng | H8: Tiến độ | I8: Hệ số quy đổi | J8: Số lượng quy đổi | K8: KPI | M8: KPI | O8: KPI | Q8: Lãnh đạo, chỉ đạo, điều hành
K9: (Số lượng) | M9: (Chất lượng) | O9: (Tiến độ)
K10: Thực tế hoàn thành | L10: Quy đổi | M10: Thực tế hoàn thành | N10: Quy đổi | O10: Thực tế hoàn thành | P10: Quy đổi | Q10: Thực tế hoàn thành | R10: Quy đổi
B11: ='DMCV CV2 - LDXH'!B10 -> Phụ trách Lĩnh vực Xã hội - Lao động:
C12: ='DMCV CV2 - LDXH'!C11 -> Công tác bảo trợ xã hội; | F12: ='DMCV CV2 - LDXH'!H11 -> 0 | G12: ='DMCV CV2 - LDXH'!I11 -> 0 | H12: ='DMCV CV2 - LDXH'!J11 -> 0 | I12: ='DMCV CV2 - LDXH'!M11 -> 0 | J12: =I12*G12 -> 0 | L12: =K12/G12*J12 -> #DIV/0! | N12: =M12/G12*J12 -> #DIV/0! | P12: =O12/G12*J12 -> #DIV/0! | R12: =Q12/G12*J12 -> #DIV/0!
D13: ='DMCV CV2 - LDXH'!D12 -> 0 | F13: ='DMCV CV2 - LDXH'!H12 -> 0 | G13: ='DMCV CV2 - LDXH'!I12 -> 0 | H13: ='DMCV CV2 - LDXH'!J12 -> 0 | I13: ='DMCV CV2 - LDXH'!M12 -> 1 | J13: =I13*G13 -> 0 | L13: =K13/G13*J13 -> #DIV/0! | N13: =M13/G13*J13 -> #DIV/0! | P13: =O13/G13*J13 -> #DIV/0! | R13: =Q13/G13*J13 -> #DIV/0!
D14: ='DMCV CV2 - LDXH'!D13 -> 0 | F14: ='DMCV CV2 - LDXH'!H13 -> 0 | G14: ='DMCV CV2 - LDXH'!I13 -> 0 | H14: ='DMCV CV2 - LDXH'!J13 -> 0 | I14: ='DMCV CV2 - LDXH'!M13 -> 5 | J14: =I14*G14 -> 0 | L14: =K14/G14*J14 -> #DIV/0! | N14: =M14/G14*J14 -> #DIV/0! | P14: =O14/G14*J14 -> #DIV/0! | R14: =Q14/G14*J14 -> #DIV/0!
D15: ='DMCV CV2 - LDXH'!D14 -> 0 | F15: ='DMCV CV2 - LDXH'!H14 -> 0 | G15: ='DMCV CV2 - LDXH'!I14 -> 0 | H15: ='DMCV CV2 - LDXH'!J14 -> 0 | I15: ='DMCV CV2 - LDXH'!M14 -> 0 | J15: =I15*G15 -> 0 | L15: =K15/G15*J15 -> #DIV/0! | N15: =M15/G15*J15 -> #DIV/0! | P15: =O15/G15*J15 -> #DIV/0! | R15: =Q15/G15*J15 -> #DIV/0!
C16: ='DMCV CV2 - LDXH'!C15 -> Phòng chống tệ nạn xã hội; | F16: ='DMCV CV2 - LDXH'!H15 -> 0 | G16: ='DMCV CV2 - LDXH'!I15 -> 0 | H16: ='DMCV CV2 - LDXH'!J15 -> 0 | I16: ='DMCV CV2 - LDXH'!M15 -> 0 | J16: =I16*G16 -> 0 | L16: =K16/G16*J16 -> #DIV/0! | N16: =M16/G16*J16 -> #DIV/0! | P16: =O16/G16*J16 -> #DIV/0! | R16: =Q16/G16*J16 -> #DIV/0!
D17: ='DMCV CV2 - LDXH'!D16 -> 0 | F17: ='DMCV CV2 - LDXH'!H16 -> 0 | G17: ='DMCV CV2 - LDXH'!I16 -> 0 | H17: ='DMCV CV2 - LDXH'!J16 -> 0 | I17: ='DMCV CV2 - LDXH'!M16 -> 0 | J17: =I17*G17 -> 0 | L17: =K17/G17*J17 -> #DIV/0! | N17: =M17/G17*J17 -> #DIV/0! | P17: =O17/G17*J17 -> #DIV/0! | R17: =Q17/G17*J17 -> #DIV/0!
D18: ='DMCV CV2 - LDXH'!D17 -> 0 | F18: ='DMCV CV2 - LDXH'!H17 -> 0 | G18: ='DMCV CV2 - LDXH'!I17 -> 0 | H18: ='DMCV CV2 - LDXH'!J17 -> 0 | I18: ='DMCV CV2 - LDXH'!M17 -> 0 | J18: =I18*G18 -> 0 | L18: =K18/G18*J18 -> #DIV/0! | N18: =M18/G18*J18 -> #DIV/0! | P18: =O18/G18*J18 -> #DIV/0! | R18: =Q18/G18*J18 -> #DIV/0!
D19: ='DMCV CV2 - LDXH'!D18 -> 0 | F19: ='DMCV CV2 - LDXH'!H18 -> 0 | G19: ='DMCV CV2 - LDXH'!I18 -> 0 | H19: ='DMCV CV2 - LDXH'!J18 -> 0 | I19: ='DMCV CV2 - LDXH'!M18 -> 0 | J19: =I19*G19 -> 0 | L19: =K19/G19*J19 -> #DIV/0! | N19: =M19/G19*J19 -> #DIV/0! | P19: =O19/G19*J19 -> #DIV/0! | R19: =Q19/G19*J19 -> #DIV/0!
D20: ='DMCV CV2 - LDXH'!D19 -> 0 | F20: ='DMCV CV2 - LDXH'!H19 -> 0 | G20: ='DMCV CV2 - LDXH'!I19 -> 0 | H20: ='DMCV CV2 - LDXH'!J19 -> 0 | I20: ='DMCV CV2 - LDXH'!M19 -> 0 | J20: =I20*G20 -> 0 | L20: =K20/G20*J20 -> #DIV/0! | N20: =M20/G20*J20 -> #DIV/0! | P20: =O20/G20*J20 -> #DIV/0! | R20: =Q20/G20*J20 -> #DIV/0!
C21: ='DMCV CV2 - LDXH'!C21 -> Bảo hiểm y tế; bảo hiểm xã hội; | F21: ='DMCV CV2 - LDXH'!H21 -> 0 | G21: ='DMCV CV2 - LDXH'!I21 -> 0 | H21: ='DMCV CV2 - LDXH'!J21 -> 0 | I21: ='DMCV CV2 - LDXH'!M21 -> 0 | J21: =I21*G21 -> 0 | L21: =K21/G21*J21 -> #DIV/0! | N21: =M21/G21*J21 -> #DIV/0! | P21: =O21/G21*J21 -> #DIV/0! | R21: =Q21/G21*J21 -> #DIV/0!
D22: ='DMCV CV2 - LDXH'!D22 -> 0 | F22: ='DMCV CV2 - LDXH'!H22 -> 0 | G22: ='DMCV CV2 - LDXH'!I22 -> 0 | H22: ='DMCV CV2 - LDXH'!J22 -> 0 | I22: ='DMCV CV2 - LDXH'!M22 -> 0 | J22: =I22*G22 -> 0 | L22: =K22/G22*J22 -> #DIV/0! | N22: =M22/G22*J22 -> #DIV/0! | P22: =O22/G22*J22 -> #DIV/0! | R22: =Q22/G22*J22 -> #DIV/0!
D23: ='DMCV CV2 - LDXH'!D23 -> 0 | F23: ='DMCV CV2 - LDXH'!H23 -> 0 | G23: ='DMCV CV2 - LDXH'!I23 -> 0 | H23: ='DMCV CV2 - LDXH'!J23 -> 0 | I23: ='DMCV CV2 - LDXH'!M23 -> 0 | J23: =I23*G23 -> 0 | L23: =K23/G23*J23 -> #DIV/0! | N23: =M23/G23*J23 -> #DIV/0! | P23: =O23/G23*J23 -> #DIV/0! | R23: =Q23/G23*J23 -> #DIV/0!
D24: ='DMCV CV2 - LDXH'!D24 -> 0 | F24: ='DMCV CV2 - LDXH'!H24 -> 0 | G24: ='DMCV CV2 - LDXH'!I24 -> 0 | H24: ='DMCV CV2 - LDXH'!J24 -> 0 | I24: ='DMCV CV2 - LDXH'!M24 -> 0 | J24: =I24*G24 -> 0 | L24: =K24/G24*J24 -> #DIV/0! | N24: =M24/G24*J24 -> #DIV/0! | P24: =O24/G24*J24 -> #DIV/0! | R24: =Q24/G24*J24 -> #DIV/0!
B25: ='DMCV CV2 - LDXH'!B25 -> Phụ trách Lĩnh vực Văn hóa - Thông tin;
C26: ='DMCV CV2 - LDXH'!C26 -> Văn hóa; gia đình; du lịch; quảng cáo; phát thanh truyền hình; báo chí. | F26: ='DMCV CV2 - LDXH'!H26 -> 0 | G26: ='DMCV CV2 - LDXH'!I26 -> 0 | H26: ='DMCV CV2 - LDXH'!J26 -> 0 | I26: ='DMCV CV2 - LDXH'!M26 -> 0 | J26: =I26*G26 -> 0 | L26: =K26/G26*J26 -> #DIV/0! | N26: =M26/G26*J26 -> #DIV/0! | P26: =O26/G26*J26 -> #DIV/0! | R26: =Q26/G26*J26 -> #DIV/0!
D27: ='DMCV CV2 - LDXH'!D27 -> 0 | F27: ='DMCV CV2 - LDXH'!H27 -> 0 | G27: ='DMCV CV2 - LDXH'!I27 -> 0 | H27: ='DMCV CV2 - LDXH'!J27 -> 0 | I27: ='DMCV CV2 - LDXH'!M27 -> 0 | J27: =I27*G27 -> 0 | L27: =K27/G27*J27 -> #DIV/0! | N27: =M27/G27*J27 -> #DIV/0! | P27: =O27/G27*J27 -> #DIV/0! | R27: =Q27/G27*J27 -> #DIV/0!
D28: ='DMCV CV2 - LDXH'!D28 -> 0 | F28: ='DMCV CV2 - LDXH'!H28 -> 0 | G28: ='DMCV CV2 - LDXH'!I28 -> 0 | H28: ='DMCV CV2 - LDXH'!J28 -> 0 | I28: ='DMCV CV2 - LDXH'!M28 -> 0 | J28: =I28*G28 -> 0 | L28: =K28/G28*J28 -> #DIV/0! | N28: =M28/G28*J28 -> #DIV/0! | P28: =O28/G28*J28 -> #DIV/0! | R28: =Q28/G28*J28 -> #DIV/0!
D29: ='DMCV CV2 - LDXH'!D29 -> 0 | F29: ='DMCV CV2 - LDXH'!H29 -> 0 | G29: ='DMCV CV2 - LDXH'!I29 -> 0 | H29: ='DMCV CV2 - LDXH'!J29 -> 0 | I29: ='DMCV CV2 - LDXH'!M29 -> 0 | J29: =I29*G29 -> 0 | L29: =K29/G29*J29 -> #DIV/0! | N29: =M29/G29*J29 -> #DIV/0! | P29: =O29/G29*J29 -> #DIV/0! | R29: =Q29/G29*J29 -> #DIV/0!
D30: ='DMCV CV2 - LDXH'!D30 -> 0 | F30: ='DMCV CV2 - LDXH'!H30 -> 0 | G30: ='DMCV CV2 - LDXH'!I30 -> 0 | H30: ='DMCV CV2 - LDXH'!J30 -> 0 | I30: ='DMCV CV2 - LDXH'!M30 -> 0 | J30: =I30*G30 -> 0 | L30: =K30/G30*J30 -> #DIV/0! | N30: =M30/G30*J30 -> #DIV/0! | P30: =O30/G30*J30 -> #DIV/0! | R30: =Q30/G30*J30 -> #DIV/0!
C31: ='DMCV CV2 - LDXH'!C31 -> Du lịch; quảng cáo; phát thanh truyền hình; báo chí. | F31: ='DMCV CV2 - LDXH'!H31 -> 0 | G31: ='DMCV CV2 - LDXH'!I31 -> 0 | H31: ='DMCV CV2 - LDXH'!J31 -> 0 | I31: ='DMCV CV2 - LDXH'!M31 -> 0 | J31: =I31*G31 -> 0 | L31: =K31/G31*J31 -> #DIV/0! | N31: =M31/G31*J31 -> #DIV/0! | P31: =O31/G31*J31 -> #DIV/0! | R31: =Q31/G31*J31 -> #DIV/0!
D32: ='DMCV CV2 - LDXH'!D32 -> 0 | F32: ='DMCV CV2 - LDXH'!H32 -> 0 | G32: ='DMCV CV2 - LDXH'!I32 -> 0 | H32: ='DMCV CV2 - LDXH'!J32 -> 0 | I32: ='DMCV CV2 - LDXH'!M32 -> 0 | J32: =I32*G32 -> 0 | L32: =K32/G32*J32 -> #DIV/0! | N32: =M32/G32*J32 -> #DIV/0! | P32: =O32/G32*J32 -> #DIV/0! | R32: =Q32/G32*J32 -> #DIV/0!
D33: ='DMCV CV2 - LDXH'!D33 -> 0 | F33: ='DMCV CV2 - LDXH'!H33 -> 0 | G33: ='DMCV CV2 - LDXH'!I33 -> 0 | H33: ='DMCV CV2 - LDXH'!J33 -> 0 | I33: ='DMCV CV2 - LDXH'!M33 -> 0 | J33: =I33*G33 -> 0 | L33: =K33/G33*J33 -> #DIV/0! | N33: =M33/G33*J33 -> #DIV/0! | P33: =O33/G33*J33 -> #DIV/0! | R33: =Q33/G33*J33 -> #DIV/0!
B34: ='DMCV CV2 - LDXH'!B34 -> Thực hiện các nhiệm vụ khác do cấp trên phân công
C35: ='DMCV CV2 - LDXH'!C35 -> Lãnh đạo cơ quan phân công | F35: ='DMCV CV2 - LDXH'!H35 -> 0 | G35: ='DMCV CV2 - LDXH'!I35 -> 0 | H35: ='DMCV CV2 - LDXH'!J35 -> 0 | I35: ='DMCV CV2 - LDXH'!M35 -> 0 | J35: =I35*G35 -> 0 | L35: =K35/G35*J35 -> #DIV/0! | N35: =M35/G35*J35 -> #DIV/0! | P35: =O35/G35*J35 -> #DIV/0! | R35: =Q35/G35*J35 -> #DIV/0!
B36: Tổng | J36: =SUM(J11:J35) -> 0 | L36: =SUM(L11:L35) -> #DIV/0! | N36: =SUM(N11:N35) -> #DIV/0! | P36: =SUM(P11:P35) -> #DIV/0! | R36: =SUM(R11:R35) -> #DIV/0!
B37: Từ bảng trên suy ra:
B38: A = | D38: =L36/J36 -> #DIV/0! | F38: B = | G38: =N36/J36 -> #DIV/0! | I38: C = | J38: =P36/J36 -> #DIV/0! | L38: D = | M38: =R36/J36 -> #DIV/0!
B39: => KPI = (A+B+C+D)/4 = | E39: =(D38+G38+J38+M38)/4 -> #DIV/0!
B41: Như vậy: Tổng điểm = 30 + %KPI x 70 = | F41: =30+E39*70 -> #DIV/0! | G41: điểm

Sheet DMCV CV3 - VT thu quy
A1: BẢNG DANH MỤC SẢN PHẨM CÔNG VIỆC
M2: Nguyễn Hùng Cường | kinhcan24 | blognhansu.net.vn
A3: Quý …., Năm ….
A4: Họ và tên:…………………………..…....................................... Ngày sinh: ………………………........
A5: Vị trí: | E5: ='Co cau P VHXH'!N4 -> Chuyên viên 3 - VT Thủ quỹ
A6: Đơn vị công tác: | E6: Phòng công tác xã hội
A8: TT | B8: Nhiệm vụ | F8: Định mức lao động
F9: Cấp trình | G9: Độ khó, mới, phức tạp; phạm vi tác động | H9: Sản phẩm | I9: Số lượng | J9: Tiến độ/ tần suất | K9: Ghi chú | L9: Điểm chấm công việc | M9: Hệ số quy đổi
B10: Làm chủ tài khoản, quản lý tài chính của phòng; tài sản của cơ quan theo quy định
C11: Công tác thủ quỹ của cơ quan (Phụ trách quỹ phòng, đơn vị). | M11: =L11/MIN($L:$L) -> 0
L12: 100 | M12: =L12/MIN($L:$L) -> 1
L13: 500 | M13: =L13/MIN($L:$L) -> 5
M14: =L14/MIN($L:$L) -> 0
B15: Phụ trách Lĩnh vực Nội vụ, gồm: | M15: =L15/MIN($L:$L) -> 0
C16: Văn thư, lưu trữ nhà nước; | M16: =L16/MIN($L:$L) -> 0
D17: Quản lý con dấu của Phòng Văn hóa xã hội. | M17: =L17/MIN($L:$L) -> 0
D18: Xây dựng và ban hành Giấy mời, văn bản có tính chất đơn giản | M18: =L18/MIN($L:$L) -> 0
D19: Tiếp nhận, chuyển tiếp văn thư, lưu trữ của phòng, đơn vị | M19: =L19/MIN($L:$L) -> 0
D20: Công khai các Thủ tục hành chính theo quyết định công bố của cấp có thẩm quyền | M20: =L20/MIN($L:$L) -> 0
D21: Ghi biên bản các cuộc họp của phòng, đơn vị, cơ quan | M21: =L21/MIN($L:$L) -> 0
D22: Thẩm tra, kiểm tra thể thức, trình tự thủ tục các văn bản trước khi ký ban hành | M22: =L22/MIN($L:$L) -> 0
D23: Tiếp nhận, vào sổ, đăng ký các loại công văn đi, công văn đến theo quy định, chuyển văn bản trên hệ thống văn bản điện tử VNPT-Ioffice, qua bưu điện; chuyển báo chí, tài liệu cho lãnh đạo và chuyển công văn giấy tờ đi cho các cơ quan, đơn vị theo quy định, quản lý con dấu | M23: =L23/MIN($L:$L) -> 0
C24: Phụ trách công tác Công đoàn và vệ sinh cơ quan | M24: =L24/MIN($L:$L) -> 0
M25: =L25/MIN($L:$L) -> 0
M26: =L26/MIN($L:$L) -> 0
M27: =L27/MIN($L:$L) -> 0
B28: Phụ trách Lĩnh vực Xã hội - Lao động: | M28: =L28/MIN($L:$L) -> 0
C29: hội, tổ chức phi chính phủ; | M29: =L29/MIN($L:$L) -> 0
C30: thanh niên; | M30: =L30/MIN($L:$L) -> 0
C31: Người có công; | M31: =L31/MIN($L:$L) -> 0
C32: bình đẳng giới; | M32: =L32/MIN($L:$L) -> 0
B33: Thực hiện các nhiệm vụ khác do cấp trên phân công | M33: =L33/MIN($L:$L) -> 0
C34: Lãnh đạo cơ quan phân công | M34: =L34/MIN($L:$L) -> 0

Sheet KPI CV3 - VT thu quy
A1: KẾT QUẢ THỰC HIỆN NHIỆM VỤ (KPI)
A2: Quý …., Năm …. | R2: Nguyễn Hùng Cường | kinhcan24 | blognhansu.net.vn
A3: Họ và tên:…………………………..…....................................... Ngày sinh: ………………………........
A4: Vị trí: | E4: ='Co cau P VHXH'!N4 -> Chuyên viên 3 - VT Thủ quỹ
A5: Đơn vị công tác: | E5: Phòng công tác xã hội
A7: TT | B7: NHIỆM VỤ ĐỀ RA KẾ HOẠCH | K7: THỰC TẾ TRIỂN KHAI
B8: Nhiệm vụ | F8: Sản phẩm | G8: Số lượng | H8: Tiến độ | I8: Hệ số quy đổi | J8: Số lượng quy đổi | K8: KPI | M8: KPI | O8: KPI | Q8: Lãnh đạo, chỉ đạo, điều hành
K9: (Số lượng) | M9: (Chất lượng) | O9: (Tiến độ)
K10: Thực tế hoàn thành | L10: Quy đổi | M10: Thực tế hoàn thành | N10: Quy đổi | O10: Thực tế hoàn thành | P10: Quy đổi | Q10: Thực tế hoàn thành | R10: Quy đổi
A11: 1 | B11: ='DMCV CV3 - VT thu quy'!B10 -> Làm chủ tài khoản, quản lý tài chính của phòng; tài sản của cơ quan theo quy định
C12: ='DMCV CV3 - VT thu quy'!C11 -> Công tác thủ quỹ của cơ quan (Phụ trách quỹ phòng, đơn vị). | F12: ='DMCV CV3 - VT thu quy'!H11 -> 0 | G12: ='DMCV CV3 - VT thu quy'!I11 -> 0 | H12: ='DMCV CV3 - VT thu quy'!J11 -> 0 | I12: ='DMCV CV3 - VT thu quy'!M11 -> 0 | J12: =I12*G12 -> 0 | L12: =K12/G12*J12 -> #DIV/0! | N12: =M12/G12*J12 -> #DIV/0! | P12: =O12/G12*J12 -> #DIV/0! | R12: =Q12/G12*J12 -> #DIV/0!
D13: ='DMCV CV3 - VT thu quy'!D12 -> 0 | F13: ='DMCV CV3 - VT thu quy'!H12 -> 0 | G13: ='DMCV CV3 - VT thu quy'!I12 -> 0 | H13: ='DMCV CV3 - VT thu quy'!J12 -> 0 | I13: ='DMCV CV3 - VT thu quy'!M12 -> 1 | J13: =I13*G13 -> 0 | L13: =K13/G13*J13 -> #DIV/0! | N13: =M13/G13*J13 -> #DIV/0! | P13: =O13/G13*J13 -> #DIV/0! | R13: =Q13/G13*J13 -> #DIV/0!
D14: ='DMCV CV3 - VT thu quy'!D13 -> 0 | F14: ='DMCV CV3 - VT thu quy'!H13 -> 0 | G14: ='DMCV CV3 - VT thu quy'!I13 -> 0 | H14: ='DMCV CV3 - VT thu quy'!J13 -> 0 | I14: ='DMCV CV3 - VT thu quy'!M13 -> 5 | J14: =I14*G14 -> 0 | L14: =K14/G14*J14 -> #DIV/0! | N14: =M14/G14*J14 -> #DIV/0! | P14: =O14/G14*J14 -> #DIV/0! | R14: =Q14/G14*J14 -> #DIV/0!
D15: ='DMCV CV3 - VT thu quy'!D14 -> 0 | F15: ='DMCV CV3 - VT thu quy'!H14 -> 0 | G15: ='DMCV CV3 - VT thu quy'!I14 -> 0 | H15: ='DMCV CV3 - VT thu quy'!J14 -> 0 | I15: ='DMCV CV3 - VT thu quy'!M14 -> 0 | J15: =I15*G15 -> 0 | L15: =K15/G15*J15 -> #DIV/0! | N15: =M15/G15*J15 -> #DIV/0! | P15: =O15/G15*J15 -> #DIV/0! | R15: =Q15/G15*J15 -> #DIV/0!
B16: ='DMCV CV3 - VT thu quy'!B15 -> Phụ trách Lĩnh vực Nội vụ, gồm: | F16: ='DMCV CV3 - VT thu quy'!H15 -> 0 | G16: ='DMCV CV3 - VT thu quy'!I15 -> 0 | H16: ='DMCV CV3 - VT thu quy'!J15 -> 0 | I16: ='DMCV CV3 - VT thu quy'!M15 -> 0 | J16: =I16*G16 -> 0 | L16: =K16/G16*J16 -> #DIV/0! | N16: =M16/G16*J16 -> #DIV/0! | P16: =O16/G16*J16 -> #DIV/0! | R16: =Q16/G16*J16 -> #DIV/0!
C17: ='DMCV CV3 - VT thu quy'!C16 -> Văn thư, lưu trữ nhà nước; | F17: ='DMCV CV3 - VT thu quy'!H16 -> 0 | G17: ='DMCV CV3 - VT thu quy'!I16 -> 0 | H17: ='DMCV CV3 - VT thu quy'!J16 -> 0 | I17: ='DMCV CV3 - VT thu quy'!M16 -> 0 | J17: =I17*G17 -> 0 | L17: =K17/G17*J17 -> #DIV/0! | N17: =M17/G17*J17 -> #DIV/0! | P17: =O17/G17*J17 -> #DIV/0! | R17: =Q17/G17*J17 -> #DIV/0!
D18: ='DMCV CV3 - VT thu quy'!D17 -> Quản lý con dấu của Phòng Văn hóa xã hội. | F18: ='DMCV CV3 - VT thu quy'!H17 -> 0 | G18: ='DMCV CV3 - VT thu quy'!I17 -> 0 | H18: ='DMCV CV3 - VT thu quy'!J17 -> 0 | I18: ='DMCV CV3 - VT thu quy'!M17 -> 0 | J18: =I18*G18 -> 0 | L18: =K18/G18*J18 -> #DIV/0! | N18: =M18/G18*J18 -> #DIV/0! | P18: =O18/G18*J18 -> #DIV/0! | R18: =Q18/G18*J18 -> #DIV/0!
D19: ='DMCV CV3 - VT thu quy'!D18 -> Xây dựng và ban hành Giấy mời, văn bản có tính chất đơn giản | F19: ='DMCV CV3 - VT thu quy'!H18 -> 0 | G19: ='DMCV CV3 - VT thu quy'!I18 -> 0 | H19: ='DMCV CV3 - VT thu quy'!J18 -> 0 | I19: ='DMCV CV3 - VT thu quy'!M18 -> 0 | J19: =I19*G19 -> 0 | L19: =K19/G19*J19 -> #DIV/0! | N19: =M19/G19*J19 -> #DIV/0! | P19: =O19/G19*J19 -> #DIV/0! | R19: =Q19/G19*J19 -> #DIV/0!
D20: ='DMCV CV3 - VT thu quy'!D19 -> Tiếp nhận, chuyển tiếp văn thư, lưu trữ của phòng, đơn vị | F20: ='DMCV CV3 - VT thu quy'!H19 -> 0 | G20: ='DMCV CV3 - VT thu quy'!I19 -> 0 | H20: ='DMCV CV3 - VT thu quy'!J19 -> 0 | I20: ='DMCV CV3 - VT thu quy'!M19 -> 0 | J20: =I20*G20 -> 0 | L20: =K20/G20*J20 -> #DIV/0! | N20: =M20/G20*J20 -> #DIV/0! | P20: =O20/G20*J20 -> #DIV/0! | R20: =Q20/G20*J20 -> #DIV/0!
D21: ='DMCV CV3 - VT thu quy'!D20 -> Công khai các Thủ tục hành chính theo quyết định công bố của cấp có thẩm quyền | F21: ='DMCV CV3 - VT thu quy'!H20 -> 0 | G21: ='DMCV CV3 - VT thu quy'!I20 -> 0 | H21: ='DMCV CV3 - VT thu quy'!J20 -> 0 | I21: ='DMCV CV3 - VT thu quy'!M20 -> 0 | J21: =I21*G21 -> 0 | L21: =K21/G21*J21 -> #DIV/0! | N21: =M21/G21*J21 -> #DIV/0! | P21: =O21/G21*J21 -> #DIV/0! | R21: =Q21/G21*J21 -> #DIV/0!
D22: ='DMCV CV3 - VT thu quy'!D21 -> Ghi biên bản các cuộc họp của phòng, đơn vị, cơ quan | F22: ='DMCV CV3 - VT thu quy'!H21 -> 0 | G22: ='DMCV CV3 - VT thu quy'!I21 -> 0 | H22: ='DMCV CV3 - VT thu quy'!J21 -> 0 | I22: ='DMCV CV3 - VT thu quy'!M21 -> 0 | J22: =I22*G22 -> 0 | L22: =K22/G22*J22 -> #DIV/0! | N22: =M22/G22*J22 -> #DIV/0! | P22: =O22/G22*J22 -> #DIV/0! | R22: =Q22/G22*J22 -> #DIV/0!
D23: ='DMCV CV3 - VT thu quy'!D22 -> Thẩm tra, kiểm tra thể thức, trình tự thủ tục các văn bản trước khi ký ban hành | F23: ='DMCV CV3 - VT thu quy'!H22 -> 0 | G23: ='DMCV CV3 - VT thu quy'!I22 -> 0 | H23: ='DMCV CV3 - VT thu quy'!J22 -> 0 | I23: ='DMCV CV3 - VT thu quy'!M22 -> 0 | J23: =I23*G23 -> 0 | L23: =K23/G23*J23 -> #DIV/0! | N23: =M23/G23*J23 -> #DIV/0! | P23: =O23/G23*J23 -> #DIV/0! | R23: =Q23/G23*J23 -> #DIV/0!
D24: ='DMCV CV3 - VT thu quy'!D23 -> Tiếp nhận, vào sổ, đăng ký các loại công văn đi, công văn đến theo quy định, chuyển văn bản trên hệ thống văn bản điện tử VNPT-Ioffice, qua bưu điện; chuyển báo chí, tài liệu cho lãnh đạo và chuyển công văn giấy tờ đi cho các cơ quan, đơn vị theo quy định, quản lý con dấu | F24: ='DMCV CV3 - VT thu quy'!H23 -> 0 | G24: ='DMCV CV3 - VT thu quy'!I23 -> 0 | H24: ='DMCV CV3 - VT thu quy'!J23 -> 0 | I24: ='DMCV CV3 - VT thu quy'!M23 -> 0 | J24: =I24*G24 -> 0 | L24: =K24/G24*J24 -> #DIV/0! | N24: =M24/G24*J24 -> #DIV/0! | P24: =O24/G24*J24 -> #DIV/0! | R24: =Q24/G24*J24 -> #DIV/0!
C25: ='DMCV CV3 - VT thu quy'!C24 -> Phụ trách công tác Công đoàn và vệ sinh cơ quan | F25: ='DMCV CV3 - VT thu quy'!H24 -> 0 | G25: ='DMCV CV3 - VT thu quy'!I24 -> 0 | H25: ='DMCV CV3 - VT thu quy'!J24 -> 0 | I25: ='DMCV CV3 - VT thu quy'!M24 -> 0 | J25: =I25*G25 -> 0 | L25: =K25/G25*J25 -> #DIV/0! | N25: =M25/G25*J25 -> #DIV/0! | P25: =O25/G25*J25 -> #DIV/0! | R25: =Q25/G25*J25 -> #DIV/0!
D26: ='DMCV CV3 - VT thu quy'!D25 -> 0 | F26: ='DMCV CV3 - VT thu quy'!H25 -> 0 | G26: ='DMCV CV3 - VT thu quy'!I25 -> 0 | H26: ='DMCV CV3 - VT thu quy'!J25 -> 0 | I26: ='DMCV CV3 - VT thu quy'!M25 -> 0 | J26: =I26*G26 -> 0 | L26: =K26/G26*J26 -> #DIV/0! | N26: =M26/G26*J26 -> #DIV/0! | P26: =O26/G26*J26 -> #DIV/0! | R26: =Q26/G26*J26 -> #DIV/0!
D27: ='DMCV CV3 - VT thu quy'!D26 -> 0 | F27: ='DMCV CV3 - VT thu quy'!H26 -> 0 | G27: ='DMCV CV3 - VT thu quy'!I26 -> 0 | H27: ='DMCV CV3 - VT thu quy'!J26 -> 0 | I27: ='DMCV CV3 - VT thu quy'!M26 -> 0 | J27: =I27*G27 -> 0 | L27: =K27/G27*J27 -> #DIV/0! | N27: =M27/G27*J27 -> #DIV/0! | P27: =O27/G27*J27 -> #DIV/0! | R27: =Q27/G27*J27 -> #DIV/0!
D28: ='DMCV CV3 - VT thu quy'!D27 -> 0 | F28: ='DMCV CV3 - VT thu quy'!H27 -> 0 | G28: ='DMCV CV3 - VT thu quy'!I27 -> 0 | H28: ='DMCV CV3 - VT thu quy'!J27 -> 0 | I28: ='DMCV CV3 - VT thu quy'!M27 -> 0 | J28: =I28*G28 -> 0 | L28: =K28/G28*J28 -> #DIV/0! | N28: =M28/G28*J28 -> #DIV/0! | P28: =O28/G28*J28 -> #DIV/0! | R28: =Q28/G28*J28 -> #DIV/0!
B29: ='DMCV CV3 - VT thu quy'!B28 -> Phụ trách Lĩnh vực Xã hội - Lao động:
C30: ='DMCV CV3 - VT thu quy'!C29 -> hội, tổ chức phi chính phủ; | F30: ='DMCV CV3 - VT thu quy'!H29 -> 0 | G30: ='DMCV CV3 - VT thu quy'!I29 -> 0 | H30: ='DMCV CV3 - VT thu quy'!J29 -> 0 | I30: ='DMCV CV3 - VT thu quy'!M29 -> 0 | J30: =I30*G30 -> 0 | L30: =K30/G30*J30 -> #DIV/0! | N30: =M30/G30*J30 -> #DIV/0! | P30: =O30/G30*J30 -> #DIV/0! | R30: =Q30/G30*J30 -> #DIV/0!
C31: ='DMCV CV3 - VT thu quy'!C30 -> thanh niên; | F31: ='DMCV CV3 - VT thu quy'!H30 -> 0 | G31: ='DMCV CV3 - VT thu quy'!I30 -> 0 | H31: ='DMCV CV3 - VT thu quy'!J30 -> 0 | I31: ='DMCV CV3 - VT thu quy'!M30 -> 0 | J31: =I31*G31 -> 0 | L31: =K31/G31*J31 -> #DIV/0! | N31: =M31/G31*J31 -> #DIV/0! | P31: =O31/G31*J31 -> #DIV/0! | R31: =Q31/G31*J31 -> #DIV/0!
C32: ='DMCV CV3 - VT thu quy'!C31 -> Người có công; | F32: ='DMCV CV3 - VT thu quy'!H31 -> 0 | G32: ='DMCV CV3 - VT thu quy'!I31 -> 0 | H32: ='DMCV CV3 - VT thu quy'!J31 -> 0 | I32: ='DMCV CV3 - VT thu quy'!M31 -> 0 | J32: =I32*G32 -> 0 | L32: =K32/G32*J32 -> #DIV/0! | N32: =M32/G32*J32 -> #DIV/0! | P32: =O32/G32*J32 -> #DIV/0! | R32: =Q32/G32*J32 -> #DIV/0!
C33: ='DMCV CV3 - VT thu quy'!C32 -> bình đẳng giới; | F33: ='DMCV CV3 - VT thu quy'!H32 -> 0 | G33: ='DMCV CV3 - VT thu quy'!I32 -> 0 | H33: ='DMCV CV3 - VT thu quy'!J32 -> 0 | I33: ='DMCV CV3 - VT thu quy'!M32 -> 0 | J33: =I33*G33 -> 0 | L33: =K33/G33*J33 -> #DIV/0! | N33: =M33/G33*J33 -> #DIV/0! | P33: =O33/G33*J33 -> #DIV/0! | R33: =Q33/G33*J33 -> #DIV/0!
B34: ='DMCV CV3 - VT thu quy'!B33 -> Thực hiện các nhiệm vụ khác do cấp trên phân công
C35: ='DMCV CV3 - VT thu quy'!C34 -> Lãnh đạo cơ quan phân công | F35: ='DMCV CV3 - VT thu quy'!H34 -> 0 | G35: ='DMCV CV3 - VT thu quy'!I34 -> 0 | H35: ='DMCV CV3 - VT thu quy'!J34 -> 0 | I35: ='DMCV CV3 - VT thu quy'!M34 -> 0 | J35: =I35*G35 -> 0 | L35: =K35/G35*J35 -> #DIV/0! | N35: =M35/G35*J35 -> #DIV/0! | P35: =O35/G35*J35 -> #DIV/0! | R35: =Q35/G35*J35 -> #DIV/0!
B36: Tổng | J36: =SUM(J11:J35) -> 0 | L36: =SUM(L11:L35) -> #DIV/0! | N36: =SUM(N11:N35) -> #DIV/0! | P36: =SUM(P11:P35) -> #DIV/0! | R36: =SUM(R11:R35) -> #DIV/0!
B37: Từ bảng trên suy ra:
B38: A = | D38: =L36/J36 -> #DIV/0! | F38: B = | G38: =N36/J36 -> #DIV/0! | I38: C = | J38: =P36/J36 -> #DIV/0! | L38: D = | M38: =R36/J36 -> #DIV/0!
B39: => KPI = (A+B+C+D)/4 = | E39: =(D38+G38+J38+M38)/4 -> #DIV/0!
B41: Như vậy: Tổng điểm = 30 + %KPI x 70 = | F41: =30+E39*70 -> #DIV/0! | G41: điểm

Sheet DMCV CB HĐKCT
A1: BẢNG DANH MỤC SẢN PHẨM CÔNG VIỆC
M2: Nguyễn Hùng Cường | kinhcan24 | blognhansu.net.vn
A3: Quý …., Năm ….
A4: Họ và tên:…………………………..…....................................... Ngày sinh: ………………………........
A5: Vị trí: | E5: ='Co cau P VHXH'!O4 -> HĐKCT
A6: Đơn vị công tác: | E6: Phòng công tác xã hội
A8: TT | B8: Nhiệm vụ | F8: Định mức lao động
F9: Cấp trình | G9: Độ khó, mới, phức tạp; phạm vi tác động | H9: Sản phẩm | I9: Số lượng | J9: Tiến độ/ tần suất | K9: Ghi chú | L9: Điểm chấm công việc | M9: Hệ số quy đổi
B10: Phụ trách Lĩnh vực Nội vụ, gồm:
D11: Cải cách hành chính (kế hoạch, báo cáo, chấm điểm, các nhiệm vụ khác về CCHC) | I11: 1 | L11: 100 | M11: =L11/MIN($L:$L) -> 1
C12: Thi đua, khen thưởng; | I12: 1 | J12: Hàng năm | L12: 100 | M12: =L12/MIN($L:$L) -> 1
D13: Đánh giá, xếp loại, thi đua, khen thưởng | I13: 1 | J13: Háng tháng | L13: 500 | M13: =L13/MIN($L:$L) -> 5
B14: Phụ trách Lĩnh vực Xã hội - Lao động: | M14: =L14/MIN($L:$L) -> 0
C15: lao động, tiền lương; | M15: =L15/MIN($L:$L) -> 0
D16: Quản lý nội quy lao động (Đăng ký nội quy lao động của doanh nghiệp) - thực hiện theo Quyết định số 628/QĐ-BNV ngày 20/6/2025 của Bộ Nội Vụ
E17: Tiếp nhận hồ sơ (nội quy lao động) qua cổng thông tin Dịch vụ công trực tuyến hoặc trực tiếp đến cơ quan chuyên môn hoặc qua đường bưu điện | G17: Chỉ đơn thuần nhận | H17: Bộ hồ sơ đăng ký nội quy lao động | I17: 15 | J17: Hàng ngày | K17: Đây là điểm chuẩn (điểm thấp nhất) | L17: 100 | M17: =L17/MIN($L:$L) -> 1
E18: Kiểm tra thành phần hồ sơ | G18: Việc tương đối khó do phải xem nội quy có phù hợp với luật | H18: Quyết định duyệt hồ sơ | I18: =I19 -> 45 | J18: Hàng ngày | L18: 200 | M18: =L18/MIN($L:$L) -> 2
E19: Thông báo và hướng dẫn người sử dụng lao động sửa đổi, bổ sung, đăng ký lại nội quy lao động (nếu nội dung nội quy lao động có quy định trái với pháp luật) | G19: Việc này tương đối dễ nhưng do phải hướng dẫn đi hướng dẫn lại nên mức độ mệt mỏi khá cao | H19: Phiếu thông báo kết quả kiểm tra hồ sơ | I19: =I17*3 -> 45 | J19: Hàng ngày | L19: 150 | M19: =L19/MIN($L:$L) -> 1.5
E20: Trả kết quả và quyết định công nhận | F20: Trưởng phòng | G20: Việc này dễ | H20: Phiếu quyết định công nhận | I20: =I17 -> 15 | J20: Hàng ngày | L20: 120 | M20: =L20/MIN($L:$L) -> 1.2
C21: việc làm; | I21: 1 | L21: 100 | M21: =L21/MIN($L:$L) -> 1
C22: an toàn, vệ sinh lao động. | I22: 1 | L22: 100 | M22: =L22/MIN($L:$L) -> 1
B23: Thực hiện các nhiệm vụ khác do cấp trên phân công | M23: =L23/MIN($L:$L) -> 0
C24: Lãnh đạo cơ quan phân công | I24: 1 | L24: 100 | M24: =L24/MIN($L:$L) -> 1

Sheet KPI CB HĐKCT
A1: KẾT QUẢ THỰC HIỆN NHIỆM VỤ (KPI) THÁNG …
A2: Quý …., Năm …. | R2: Nguyễn Hùng Cường | kinhcan24 | blognhansu.net.vn
A3: Họ và tên:…………………………..…....................................... Ngày sinh: ………………………........
A4: Vị trí: | E4: ='Co cau P VHXH'!O4 -> HĐKCT
A5: Đơn vị công tác: | E5: Phòng công tác xã hội
A7: TT | B7: NHIỆM VỤ ĐỀ RA KẾ HOẠCH | K7: THỰC TẾ TRIỂN KHAI
B8: Nhiệm vụ | F8: Sản phẩm | G8: Số lượng | H8: Tiến độ | I8: Hệ số quy đổi | J8: Số lượng quy đổi | K8: KPI - A | M8: KPI - B | O8: KPI - C | Q8: Lãnh đạo, chỉ đạo, điều hành
K9: (Số lượng) | M9: (Chất lượng) | O9: (Tiến độ)
K10: Thực tế hoàn thành | L10: Quy đổi | M10: Thực tế hoàn thành | N10: Quy đổi | O10: Thực tế hoàn thành | P10: Quy đổi | Q10: Thực tế hoàn thành | R10: Quy đổi
B11: ='DMCV CB HĐKCT'!B10 -> Phụ trách Lĩnh vực Nội vụ, gồm: | T11: s
D12: ='DMCV CB HĐKCT'!D11 -> Cải cách hành chính (kế hoạch, báo cáo, chấm điểm, các nhiệm vụ khác về CCHC) | F12: ='DMCV CB HĐKCT'!H11 -> 0 | G12: ='DMCV CB HĐKCT'!I11 -> 1 | H12: ='DMCV CB HĐKCT'!J11 -> 0 | I12: ='DMCV CB HĐKCT'!M11 -> 1 | J12: =I12*G12 -> 1 | K12: 1 | L12: =K12/G12*J12 -> 1 | M12: 1 | N12: =M12/G12*J12 -> 1 | O12: 1 | P12: =O12/G12*J12 -> 1 | Q12: 1 | R12: =Q12/G12*J12 -> 1
C13: ='DMCV CB HĐKCT'!C12 -> Thi đua, khen thưởng; | F13: ='DMCV CB HĐKCT'!H12 -> 0 | G13: ='DMCV CB HĐKCT'!I12 -> 1 | H13: ='DMCV CB HĐKCT'!J12 -> Hàng năm | I13: ='DMCV CB HĐKCT'!M12 -> 1 | J13: =I13*G13 -> 1 | K13: 1 | L13: =K13/G13*J13 -> 1 | M13: 1 | N13: =M13/G13*J13 -> 1 | O13: 1 | P13: =O13/G13*J13 -> 1 | Q13: 1 | R13: =Q13/G13*J13 -> 1
D14: ='DMCV CB HĐKCT'!D13 -> Đánh giá, xếp loại, thi đua, khen thưởng | F14: ='DMCV CB HĐKCT'!H13 -> 0 | G14: ='DMCV CB HĐKCT'!I13 -> 1 | H14: ='DMCV CB HĐKCT'!J13 -> Háng tháng | I14: ='DMCV CB HĐKCT'!M13 -> 5 | J14: =I14*G14 -> 5 | K14: 1 | L14: =K14/G14*J14 -> 5 | M14: 1 | N14: =M14/G14*J14 -> 5 | O14: 1 | P14: =O14/G14*J14 -> 5 | Q14: 1 | R14: =Q14/G14*J14 -> 5
B15: ='DMCV CB HĐKCT'!B14 -> Phụ trách Lĩnh vực Xã hội - Lao động:
C16: ='DMCV CB HĐKCT'!C15 -> lao động, tiền lương;
D17: ='DMCV CB HĐKCT'!D16 -> Quản lý nội quy lao động (Đăng ký nội quy lao động của doanh nghiệp) - thực hiện theo Quyết định số 628/QĐ-BNV ngày 20/6/2025 của Bộ Nội Vụ
E18: ='DMCV CB HĐKCT'!E17 -> Tiếp nhận hồ sơ (nội quy lao động) qua cổng thông tin Dịch vụ công trực tuyến hoặc trực tiếp đến cơ quan chuyên môn hoặc qua đường bưu điện | F18: ='DMCV CB HĐKCT'!H17 -> Bộ hồ sơ đăng ký nội quy lao động | G18: ='DMCV CB HĐKCT'!I17 -> 15 | H18: ='DMCV CB HĐKCT'!J17 -> Hàng ngày | I18: ='DMCV CB HĐKCT'!M17 -> 1 | J18: =I18*G18 -> 15 | K18: 20 | L18: =K18/G18*J18 -> 20 | M18: 15 | N18: =M18/G18*J18 -> 15 | O18: 20 | P18: =O18/G18*J18 -> 20 | Q18: 10 | R18: =Q18/G18*J18 -> 10
E19: ='DMCV CB HĐKCT'!E18 -> Kiểm tra thành phần hồ sơ | F19: ='DMCV CB HĐKCT'!H18 -> Quyết định duyệt hồ sơ | G19: ='DMCV CB HĐKCT'!I18 -> 45 | H19: ='DMCV CB HĐKCT'!J18 -> Hàng ngày | I19: ='DMCV CB HĐKCT'!M18 -> 2 | J19: =I19*G19 -> 90 | K19: 80 | L19: =K19/G19*J19 -> 160 | M19: 80 | N19: =M19/G19*J19 -> 160 | O19: 80 | P19: =O19/G19*J19 -> 160 | Q19: 10 | R19: =Q19/G19*J19 -> 20
