Workbook

Sheet Hướng dẫn
A1: HƯỚNG DẪN LÀM KPI UBND XÃ - PHÒNG VĂN HÓA XÃ HỘI THEO HD 02 CỦA BAN TỔ CHỨC TRUNG ƯƠNG
C2: Nguyễn Hùng Cường | kinhcan24 | blognhansu.net.vn
A3: I. | B3: Giới thiệu tài liệu
C4: Chi tiết:
A5: II. | B5: Các bước tiến hành
B6: 1 | C6: Bước 1: Xây dựng danh mục và sản phẩm công việc. Để ra danh mục này như hướng dẫn 02, chúng ta có các bước nhỏ:
C7: - Bước 1.1: Việc đầu tiên là cần xác định được chức năng nhiệm vụ của Phòng rồi phân bổ cho các vị trí.
C8: - Bước 1.2: Xác định các sản phẩm có được với từng đầu việc.
C9: - Bước 1.3: Xác định hệ số quy đổi.Hệ số quy đổi = Điểm chấm công việc / Điểm chấm công việc thấp nhất (công việc chuẩn).
B10: 2 | C10: Bước 2: Tính điểm KPI cho từng đầu mục số lượng (A), chất lượng (B), tiến độ (C), thực hiện theo chỉ đạo (D)
C11: - Bước 1.4: Tính điểm đối với tất cả các sản phẩm/công việc khác theo điểm của đơn vị sản phẩm/công việc chuẩn.
C12: + Số lượng quy đổi = Số lượng (sản phẩm) * Hệ Số quy đổi.
C13: + quy đổi = Thực tế hoàn thành / Số lượng (sản phẩm) * Số lượng quy đổi
C14: - Bước 2.2: Tính điểm KPI số lượng, chất lượng, tiến độ, lãnh đạo
C15: - Tổng A (số lượng) = Quy đổi điểm số lượng công việc 1 + Quy đổi điểm số lượng công việc 2 +...
C16: - Tổng B (chất lượng) = Quy đổi điểm chất lượng công việc 1 + Quy đổi điểm chất lượng công việc 2 +...
C17: - Tổng C (tiến độ) = Quy đổi điểm tiến độ công việc 1 + Quy đổi điểm tiến độ công việc 2 +...
C18: - Tổng D (thực hiện theo chỉ đạo) = Quy đổi điểm hoàn thành theo chỉ đạo công việc 1 + Quy đổi điểm hoàn thành theo chỉ đạo công việc 2 +...
B19: 3 | C19: Bước 3: Tính % hoàn thành KPI theo công thức: KPI = (A+B+C+D)/4

Sheet Co cau UBND
A1: DANH MỤC CÔNG VIỆC UBND
P2: Nguyễn Hùng Cường | kinhcan24 | blognhansu.net.vn
A3: TT | B3: Hoạt động lớn | E3: Phân bổ nhiệm vụ
E4: Chủ tịch Ủy ban | F4: Phó chủ tịch văn hóa xã hội | G4: Phó chủ tịch xây dựng | H4: Ủy viên An ninh | I4: Ủy viên Quân sự | J4: Văn phòng - Thống kê | K4: Văn hóa - xã hội | L4: Địa chính-Nông nghiệp - Xây dựng và Môi trường | M4: Tư pháp - Hộ tịch | N4: Ban chỉ huy quân sự xã | O4: Tài chính - Kế toán | P4: Công an xã
A5: 1 | B5: Chức năng của UBND cấp xã: Chức năng chính của Ủy ban nhân dân cấp xã đó là quản lý hành chính nhà nước trên địa bàn xã trong các lĩnh vực kinh tế, xã hội và an ninh quốc phòng theo các chủ trương chính sách của Đảng, pháp luật của nhà nước và theo sự phân công chỉ đạo thực hiện của Ủy ban nhân dân cấp huyện. Qua đó, phát huy quyền làm chủ của nhân dân, bảo đảm quyền và nghĩa vụ công dân, góp phần xây dựng đời sống vật chất và tinh thần trong sáng, vững mạnh cho người dân.
B6: Các chức năng cụ thể bao gồm:
B7: Tổ chức và hướng dẫn cho nhân dân, các tổ chức chính trị, tổ chức chính trị - xã hội, tổ chức xã hội trên địa bàn thực hiện tốt các chính sách của Đảng và pháp luật của nhà nước. | E7: C | F7: C1 | G7: C1 | H7: C1 | I7: C | J7: T | K7: T | L7: T | M7: T | N7: T | O7: T | P7: T
B8: Tạo điều kiện cho nhân dân làm ăn và phát triển kinh tế địa phương, nắm bắt rõ các tâm tư, nguyện vọng của người dân để nhanh chóng giải quyết hoặc phản ánh lên cấp trên. | E8: C | F8: C1 | G8: C1 | H8: C1 | I8: C | J8: T | K8: T | L8: T | M8: T | N8: T | O8: T | P8: T
B9: Kiểm tra và giám sát việc thực hiện các chủ trương, chính sách của đảng và nhà nước tại các cơ quan, tổ chức ở Địa phương | E9: C | F9: C1 | G9: C1 | H9: C1 | I9: C | J9: T | K9: T | L9: T | M9: T | N9: T | O9: T | P9: T
B10: Tổ chức thực hiện tốt các kế hoạch về kinh tế xã hội và kế hoạch ngân sách xã được Ủy ban nhân dân cấp huyện giao hằng năm. | E10: C | F10: C1 | G10: C1 | H10: C1 | I10: C | J10: T | K10: T | L10: T | M10: T | N10: T | O10: T | P10: T
B11: Xây dựng dự toán ngân sách năm sau trình UBND huyện phê duyệt. | E11: C | F11: C1 | G11: C1 | H11: C1 | I11: C | J11: T | K11: T | L11: T | M11: T | N11: T | O11: T | P11: T
A12: 2 | B12: Nhiệm vụ của UBND cấp xã. UBND cấp xã có các nhiệm vụ sau đây:
B13: - Xây dựng, trình HĐND xã quyết định một số nội dung thuộc nhiệm vụ và quyền hạn của HĐND xã như: | E13: C
B14: + Ban hành nghị quyết về những vấn đề thuộc nhiệm vụ, quyền hạn của Hội đồng nhân dân xã. | E14: C | J14: T
B15: + Quyết định biện pháp bảo đảm trật tự, an toàn xã hội, đấu tranh, phòng, chống tội phạm và các hành vi vi phạm pháp luật khác, phòng, chống quan liêu, tham nhũng trong phạm vi được phân quyền; biện pháp bảo vệ tài sản của cơ quan, tổ chức, bảo hộ tính mạng, tự do, danh dự, nhân phẩm, tài sản, các quyền và lợi ích hợp pháp khác của công dân trên địa bàn xã. | E15: C | H15: C1 | P15: T
B16: + Thông qua kế hoạch phát triển kinh tế - xã hội hằng năm của xã trước khi trình Ủy ban nhân dân huyện, thị xã, thành phố thuộc tỉnh, thành phố thuộc thành phố trực thuộc trung ương phê duyệt. Quyết định dự toán thu ngân sách nhà nước trên địa bàn; dự toán thu, chi ngân sách xã; điều chỉnh dự toán ngân sách xã trong trường hợp cần thiết; phê chuẩn quyết toán ngân sách xã. Quyết định chủ trương đầu tư chương trình, dự án của xã trong phạm vi được phân quyền. | E16: C | F16: C1 | G16: C1 | H16: C1 | I16: C | J16: T | K16: T | L16: T | M16: T | N16: T | O16: T | P16: T
B17: - Và tổ chức thực hiện các nghị quyết của HĐND xã. | E17: C | F17: C1 | G17: C1 | H17: C1 | I17: C | J17: T | K17: T | L17: T | M17: T | N17: T | O17: T | P17: T
B18: - Tổ chức thực hiện ngân sách địa phương trên cơ sở số ngân sách đã được phê duyệt. | E18: C | F18: C1 | G18: C1 | H18: C1 | I18: C | J18: T | K18: T | L18: T | M18: T | N18: T | O18: T | P18: T
B19: -Thực hiện nhiệm vụ, quyền hạn do cơ quan nhà nước cấp trên phân cấp, ủy quyền cho Ủy ban nhân dân xã./. | E19: C | F19: C1 | G19: C1 | H19: C1 | I19: C | J19: T | K19: T | L19: T | M19: T | N19: T | O19: T | P19: T
C20: (1) Lĩnh vực Tài chính: | E20: C | F20: C1 | G20: C1 | O20: T
C21: Nghị định 125/2025/NĐ-CP quy định Ủy ban nhân dân cấp xã thực hiện một số nhiệm vụ, quyền hạn của Ủy ban nhân dân cấp huyện (trước đây) gồm: | E21: C | F21: C1 | G21: C1 | O21: T
C22: - Quản lý, tổ chức thực hiện các chương trình mục tiêu quốc gia (Điều 5), | E22: C | F22: C1 | G22: C1 | O22: T
C23: - Quản lý, thanh toán, quyết toán dự án sử dụng vốn đầu tư công (Điều 6); | E23: C | F23: C1 | G23: C1 | O23: T
C24: - Đầu tư theo phương thức đối tác công tư (Điều 8); | E24: C | F24: C1 | G24: C1 | O24: T
C25: - Đấu thầu (Điều 9, 10, 11); | E25: C | F25: C1 | G25: C1 | O25: T
C26: - Trưng mua, trưng dụng tài sản, tài chính đất đai (Điều 13); | E26: C | F26: C1 | G26: C1 | O26: T
C27: - Quản lý, sử dụng tài sản công tại cơ quan, tổ chức, đơn vị (Điều 14); | E27: C | F27: C1 | G27: C1 | O27: T
C28: - Quản lý, sử dụng và khai thác tài sản kết cấu hạ tầng giao thông đường bộ (Điều 16); | E28: C | F28: C1 | G28: C1 | O28: T
C29: - Quản lý, sử dụng và khai thác tài sản kết cấu hạ tầng chợ (Điều 17); | E29: C | F29: C1 | G29: C1 | O29: T
C30: - Quản lý, sử dụng và khai thác tài sản kết cấu hạ tầng thủy lợi (Điều 18); | E30: C | F30: C1 | G30: C1 | O30: T
C31: - Quản lý, sử dụng và khai thác tài sản kết cấu hạ tầng đường thủy nội địa (Điều 19); | E31: C | F31: C1 | G31: C1 | O31: T
... C48: Ngoài ra, tùy điều kiện cụ thể của địa phương, Ủy ban nhân dân cấp tỉnh có thể xem xét, giao cho Ủy ban nhân dân cấp xã thực hiện một số nhiệm vụ, quyền hạn khác của Ủy ban nhân dân cấp huyện, cơ quan chuyên môn thuộc Ủy ban nhân dân cấp huyện (Điều 7, Điều 16, khoản 2 Điều 45). | E48: C | F48: C1 | G48: C1 | O48: T
C49: (2) Lĩnh vực Nông nghiệp và Môi trường | E49: C | G49: C1 | L49: T
C50: Đối với lĩnh vực nông nghiệp và môi trường Nghị định 131/2025/NĐ-CP quy định nhiệm vụ, quyền hạn của Ủy ban nhân dân cấp xã gồm: | E50: C | G50: C1 | L50: T
C51: - Trồng trọt và bảo vệ thực vật (Điều 4); | E51: C | G51: C1 | L51: T
C52: - Chăn nuôi và thú y (Điều 6); | E52: C | G52: C1 | L52: T
C53: - Lâm nghiệp và Kiểm ngư (Điều 12); | E53: C | G53: C1 | L53: T
C54: - Thủy lợi (Điều 16); | E54: C | G54: C1 | L54: T
C55: - Đê điều và phòng chống thiên tai (Điều 18); | E55: C | G55: C1 | L55: T
C56: - Tài nguyên nước (Điều 22); | E56: C | G56: C1 | L56: T
C57: - Môi trường (Điều 28); | E57: C | G57: C1 | L57: T
C58: - Bảo tồn thiên nhiên và đa dạng sinh học (Điều 31); | E58: C | G58: C1 | L58: T
C59: - Khí tượng thủy văn (Điều 33); | E59: C | G59: C1 | L59: T
C60: - Biển và hải đảo (Điều 34); | E60: C | G60: C1 | L60: T
... C102: Nghị định cũng quy định các biểu mẫu trong lĩnh vực nhà ở tại Phụ lục kèm theo. | E102: C | G102: C1 | L102: T
C103: (5) Lĩnh vực Nội vụ | E103: C | F103: C1 | K103: T
C104: Nghị định 129/2025/NĐ-CP quy định một số nhiệm vụ, quyền hạn và điều chỉnh trì nh tự, thủ tục có liên quan đến việc thực hiện nhiệm vụ, quyền hạn của Ủy ban nhân dân cấp xã gồm: | E104: C | F104: C1 | K104: T
C105: - Lĩnh vực người có công (từ Điều 4 đến Điều 41); | E105: C | F105: C1 | K105: T
C106: - lập biên bản, thống kê, báo cáo, điều tra tai nạn lao động, sự cố kỹ thuật gây mất an toàn, vệ sinh lao động (từ Điều 42 đến Điều 51); | E106: C | F106: C1 | K106: T
C107: - Quản lý nhà nước đối với hội, quỹ (Điều 57, 58); | E107: C | F107: C1 | K107: T
C108: - Giải quyết chế độ trợ cấp một lần, chế độ trợ cấp hằng tháng (Điều 64); | E108: C | F108: C1 | K108: T
C109: - Giải quyết quyền lợi của người lao động khi hoãn, ngừng đình công (Điều 79). | E109: C | F109: C1 | K109: T
C110: Nghị định 129/2025/NĐ-CP cũng quy định cụ thể về các thủ tục hành chinh trong lĩnh vực nội vụ có liên quan đến việc phân định thẩm quyền của Ủy ban nhân dân cấp xã tại Phụ lục kèm theo Nghị định. | E110: C | F110: C1 | K110: T
C111: Để tiếp tục phân định thẩm quyền, phân cấp cho chính quyền địa phương, Bộ trưởng Bộ Nội vụ đã ban hành Thông tư số 09/2025/TT-BNV quy định một số nhiệm vụ, quyền hạn và điều chỉnh trình tự, thủ tục có liên quan đến việc thực hiện nhiệm vụ, quyền hạn của Ủy ban nhân dân cấp xã trong một số lĩnh vực: Người có công (Điều 9), Việc làm (Điều 10), Thanh niên (Điều 12), Giải quyết trợ cấp một lần đối với người được cử làm chuyên gia (Điều 14). | E111: C | F111: C1 | K111: T
C112: Bên cạnh đó, Chính phủ đã ban hành Nghị định 128/2025/NĐ-CP phân quyền, phân cấp một số nhiệm vụ quyền hạn của Chí nh phủ, Thủ tướng Chí nh phủ, Bộ trưởng, Thủ trưởng cơ quan ngang Bộ cho Ủy ban nhân dân cấp xã, cụ thể như sau: | E112: C | F112: C1 | K112: T
C113: - Nhiệm vụ quản lý nhà nước về an toàn, vệ sinh lao động quy định tại Điều 6 và Điều 19 của Luật An toàn, vệ sinh lao động (Điều 9); | E113: C | F113: C1 | K113: T
C114: - Xác nhận việc đăng ký hợp đồng lao động theo quy định tại khoản 3 Điều 50 của Luật Người lao động Việt Nam đi làm việc ở nước ngoài theo hợp đồng (Điều 10). | E114: C | F114: C1 | K114: T
... C116: Quản lý nội quy lao động (Đăng ký nội quy lao động của doanh nghiệp) - thực hiện theo Quyết định số 628/QĐ-BNV ngày 20/6/2025 của Bộ Nội Vụ | E116: C | F116: C1 | K116: T
D117: Tiếp nhận hồ sơ (nội quy lao động) qua cổng thông tin Dịch vụ công trực tuyến hoặc trực tiếp đến cơ quan chuyên môn hoặc qua đường bưu điện | E117: C | F117: C1 | K117: T
D118: Kiểm tra thành phần hồ sơ | E118: C | F118: C1 | K118: T
D119: Thông báo và hướng dẫn người sử dụng lao động sửa đổi, bổ sung, đăng ký lại nội quy lao động (nếu nội dung nội quy lao động có quy định trái với pháp luật) | E119: C | F119: C1 | K119: T
D120: Trả kết quả và quyết định công nhận | E120: C | F120: C1 | K120: T
C121: (6) Lĩnh vực Tư pháp | E121: C | F121: C1 | K121: T | M121: T
C122: Nghị định 120/2025/NĐ-CP quy định nhiệm vụ, quyền hạn của Ủy ban nhân dân cấp xã trong các lĩnh vực: | E122: C | F122: C1 | K122: T | M122: T
C123: - Đăng ký hộ tịch, quản lý nhà nước về hộ tịch (Điều 4 và Điều 7); | E123: C | F123: C1 | K123: T | M123: T
C124: - Quản lý nuôi con nuôi (Điều 9); | E124: C | F124: C1 | K124: T | M124: T
C125: - Chứng thực (Điều 14); | E125: C | F125: C1 | K125: T | M125: T
C126: - Quản lý nhà nước về hòa giải ở cơ sở tại địa phương (Điều 18); | E126: C | F126: C1 | K126: T | M126: T
C127: - Giải quyết bồi thường trong trường hợp hành vi gây thiệt hại của Ủy ban nhân dân cấp huyện thuộc nhóm nhiệm vụ, quyền hạn của Ủy ban nhân dân cấp xã (Điều 19). | E127: C | F127: C1 | K127: T | M127: T
C128: Nghị định 120/2025/NĐ-CP quy định cụ thể thủ tục hành chính trong lĩnh vực hành chính tư pháp tại Phụ lục kèm theo. | E128: C | F128: C1 | K128: T | M128: T
C129: (7) Lĩnh vực Giáo dục và Đào tạo | E129: C | F129: C1 | K129: T
C130: Nghị định 142/2025/NĐ-CP quy định nhiệm vụ, quyền hạn của Ủy ban nhân dân cấp xã trong các lĩnh vực: | E130: C | F130: C1 | K130: T
C131: - Xét duyệt, thẩm định hồ sơ và lập danh sách cơ sở giáo dục mầm non, trẻ em mầm non, giáo viên mầm non được hưởng một số chí nh sách phát triển giáo dục mầm non (Điều 7); | E131: C | F131: C1 | K131: T
C132: - Quản lý nhà nước về phổ cập giáo dục, xóa mù chữ (khoản 6 Điều 17); | E132: C | F132: C1 | K132: T
C133: - Giải quyết về chính sách nội trú đối với học sinh, sinh viên học cao đẳng, trung cấp (Điều 32); | E133: C | F133: C1 | K133: T
C134: - Ban hành kế hoạch thực hiện lộ trình nâng trình độ chuẩn được đào tạo của giáo viên mầm non, tiểu học, trung học cơ sở (Điều 33); | E134: C | F134: C1 | K134: T
C135: - Giải quyết về chế độ cử tuyển đối với học sinh, sinh viên dân tộc thiểu số (Điều 34); | E135: C | F135: C1 | K135: T
C136: - Giải quyết về chính sách miễn, giảm học phí, hỗ trợ chi phí học tập cho người học trong các cơ sở giáo dục (Điều 35); | E136: C | F136: C1 | K136: T
C137: - Giải quyết về chính sách cho trẻ em nhà trẻ, học sinh, học viên ở vùng đồng bào dân tộc thiểu số và miền núi, vùng bãi ngang, ven biển và hải đảo và cơ sở giáo dục có trẻ em nhà trẻ, học sinh hưởng chính sách (Điều 36). | E137: C | F137: C1 | K137: T
C138: Nghị định 142/2025/NĐ-CP quy định cụ thể một số trình tự, thủ tục trong lĩnh vực giáo dục có liên quan đến việc thực hiện nhiệm vụ, quyền hạn của Ủy ban nhân dân cấp xã về quản lý nhà nước đối với cơ sở giáo dục mầm non, tiểu học, trung học cơ sở, trung tâm học tập cộng đồng, trường phổ thông dân tộc bán trú (tại Phụ lục I kèm theo) ; mẫu văn bản đối với cơ sở giáo dục mầm non, cơ sở giáo dục phổ thông, trường chuyên biệt, cơ sở giáo dục thường xuyên (tại Phụ lục II kèm theo). | E138: C | F138: C1 | K138: T
C139: (8) Lĩnh vực Khoa học và Công nghệ | E139: C | F139: C1 | K139: T
C140: Nghị định 132/2025/NĐ-CP quy định một số nhiệm vụ, quyền hạn của Ủy ban nhân dân cấp xã trong lĩnh vực Khoa học, công nghệ, thông tin và truyền thông, cụ thể như sau: | E140: C | F140: C1 | K140: T
... C153: - Quản lý khai báo và hoạt động của cơ sở dịch vụ photocopy (Điều 11); | E153: C | F153: C1 | K153: T
C154: - Tổ chức thực hiện chiến lược, chương trình, kế hoạch phát triển thông tin cơ sở ở địa phương và thực hiện chế độ thông tin, báo cáo, thống kê hoạt động thông tin cơ sở (Điều 12); | E154: C | F154: C1 | J154: T
C155: - Cấp, sửa đổi, bổ sung, gia hạn, cấp lại, thu hồi Giấy chứng nhận đủ điều kiện hoạt động điểm cung cấp dịch vụ trò chơi điện tử công cộng (Điều 13). | E155: C | F155: C1 | K155: T
C156: Nghị định 137/2025/NĐ-CP quy định cụ thể trình tự, thủ tục thực hiện các nhiệm vụ, quyền hạn của chí nh quyền địa phương 02 cấp (trong đó có nhiệm vụ, quyền hạn của Ủy ban nhân dân cấp xã) trong lĩnh vực văn hóa, thể thao, du lịch và các biểu mẫu văn bản hành chí nh có liên quan. | E156: C | F156: C1 | K156: T
C157: (10) Lĩnh vực Dân tộc và Tôn giáo | E157: C | F157: C1 | K157: T
C158: Nghị định 124/2025/NĐ-CP quy định một số nhiệm vụ, quyền hạn của Ủy ban nhân dân cấp xã trong lĩnh vực công tác dân tộc, tín ngưỡng, tôn giáo, cụ thể như sau: | E158: C | F158: C1 | K158: T
C159: - Tiếp nhận thông báo tổ chức lễ hội tín ngưỡng định kỳ (Điều 14); | E159: C | F159: C1 | K159: T
C160: - Tiếp nhận thông báo mở lớp bồi dưỡng về tôn giáo (Điều 15); | E160: C | F160: C1 | K160: T
C161: - Tiếp nhận thông báo danh mục hoạt động tôn giáo (Điều 16); | E161: C | F161: C1 | K161: T
C162: - Tiếp nhận thông báo tổ chức hội nghị của tổ chức tôn giáo, tổ chức tôn giáo trực thuộc (Điều 17); | E162: C | F162: C1 | K162: T
C163: - Chấp thuận tổ chức đại hội của tổ chức tôn giáo, tổ chức tôn giáo trực thuộc, tổ chức được cấp giấy chứng nhận đăng ký hoạt động tôn giáo (Điều 18); | E163: C | F163: C1 | K163: T
C164: - Chấp thuận tổ chức cuộc lễ, giảng đạo ngoài cơ sở tôn giáo, địa điểm hợp pháp (Điều 19); | E164: C | F164: C1 | K164: T
C165: - Tiếp nhận thông báo về việc tổ chức quyên góp của cơ sở tín ngưỡng, tổ chức tôn giáo, tổ chức tôn giáo trực thuộc (Điều 20). | E165: C | F165: C1 | K165: T
C166: Tại Phụ lục kèm theo Nghị định 124/2025/NĐ-CP quy định cụ thể trình tự, thủ tục, hồ sơ thực hiện nhiệm vụ được phân quyền, phân cấp, phân định thẩm quyền trong lĩnh vực công tác dân tộc, tín ngưỡng, tôn giáo, trong đó có các trì nh tự, thủ tục; hồ sơ hành chí nh và mẫu biểu văn bản hành chí nh thuộc trách nhiệm của Ủy ban nhân dân cấp xã như: Trình tự, thủ tục xác định xã khu vực III, II, I và thôn đặc biệt khó khăn thuộc vùng đồng bào dân tộc thiểu số và miền núi giai đoạn 2021 - 2025; Trình tự, thủ tục phê duyệt danh sách các dân tộc còn gặp nhiều khó khăn, có khó khăn đặc thù giai đoạn 2021 - 2025; Hồ sơ xác định các dân tộc còn gặp nhiều khó khăn, có khó khăn đặc thù giai đoạn 2021 - 2025; Trình tự, thủ tục công nhận, đưa ra khỏi danh sách và thay thế, bổ sung người có uy tín; Trình tự, thủ tục tiếp nhận thông báo tổ chức lễ hội tín ngưỡng định kỳ,… | E166: C | F166: C1 | K166: T

Sheet Co cau P VHXH
A1: DANH MỤC CÔNG VIỆC PHÒNG VĂN HÓA XÃ HỘI
R2: Nguyễn Hùng Cường | kinhcan24 | blognhansu.net.vn
A3: TT | B3: Chức năng | J3: Phân bổ nhiệm vụ
J4: Trưởng phòng | K4: Phó trưởng phòng | L4: Chuyên viên 1 - Kế toán UB | M4: Chuyên viên 2 - Lao động XH | N4: Chuyên viên 3 - VT Thủ quỹ | O4: HĐKCT | P4: HĐ 111 | Q4: Cán bộ HD 1 - TC giáo dục | R4: Cán bộ HD 2 - CM giáo dục
B5: Làm chủ tài khoản, quản lý tài chính của phòng; tài sản của cơ quan theo quy định | J5: C | L5: T | N5: T
C6: Phụ trách công tác kế toán của cơ quan. | J6: C | L6: T
C7: Công tác thủ quỹ của cơ quan (Phụ trách quỹ phòng, đơn vị). | J7: C | N7: T
B8: Phụ trách Lĩnh vực Nội vụ, gồm: | J8: C | K8: C1 | N8: T | O8: T
C9: Tổ chức hành chính, sự nghiệp nhà nước; | J9: C | K9: C1
D10: Cải cách hành chính (kế hoạch, báo cáo, chấm điểm, các nhiệm vụ khác về CCHC) | J10: C | K10: C1 | O10: T
C11: Chính quyền địa phương, địa giới đơn vị hành chính; | J11: C | K11: C1
C12: Cán bộ, công chức, viên chức và công vụ; | J12: C | K12: C1
D13: Công tác cán bộ công chức (nâng lương trước hạn, điều động, bổ nhiệm, quy hoạch...) | J13: C | K13: C1
D14: Chế độ chính sách cho người hoạt động không chuyên trách xã, xóm | J14: C | K14: C1
D15: Công tác viên chức (đánh giá, xếp loại viên chức, nâng lương trước thời hạn cho viên chức, duyệt quỹ lương viên chức, quy hoạch, điều động, bổ nhiệm...) | J15: C | K15: C1
C16: Thi đua, khen thưởng; | J16: C | O16: T
D17: Đánh giá, xếp loại, thi đua, khen thưởng | J17: C | O17: T
C18: Văn thư, lưu trữ nhà nước; | J18: C | N18: T
D19: Quản lý con dấu của Phòng Văn hóa xã hội. | J19: C | N19: T
D20: Xây dựng và ban hành Giấy mời, văn bản có tính chất đơn giản | J20: C | N20: T
D21: Tiếp nhận, chuyển tiếp văn thư, lưu trữ của phòng, đơn vị | J21: C | N21: T
D22: Công khai các Thủ tục hành chính theo quyết định công bố của cấp có thẩm quyền | J22: C | N22: T
D23: Ghi biên bản các cuộc họp của phòng, đơn vị, cơ quan | J23: C | N23: T
D24: Thẩm tra, kiểm tra thể thức, trình tự thủ tục các văn bản trước khi ký ban hành | J24: C | N24: T
D25: Tiếp nhận, vào sổ, đăng ký các loại công văn đi, công văn đến theo quy định, chuyển văn bản trên hệ thống văn bản điện tử VNPT-Ioffice, qua bưu điện; chuyển báo chí, tài liệu cho lãnh đạo và chuyển công văn giấy tờ đi cho các cơ quan, đơn vị theo quy định, quản lý con dấu | J25: C | N25: T
C26: Phụ trách công tác Công đoàn và vệ sinh cơ quan | J26: C | N26: T
B27: Phụ trách Lĩnh vực Giáo dục và Đào tạo, gồm: Giáo dục mầm non; Giáo dục phổ thông (giáo dục tiểu học và giáo dục trung học cơ sở); | J27: C | L27: T | Q27: T | R27: T
C28: Phụ trách công tác tổ chức, nhân sự, chế độ chính sách và cơ sở vật chất giáo dục. | J28: C | Q28: T
C29: Công tác tổ chức bộ máy trường học. | J29: C | Q29: T
C30: Biên chế, hợp đồng giáo viên. | J30: C | Q30: T
C31: Tuyển dụng, tiếp nhận, điều động giáo viên. | J31: C | Q31: T
C32: Thi đua, khen thưởng ngành giáo dục. | J32: C | Q32: T
C33: Đánh giá viên chức, người đứng đầu cơ sở giáo dục. | J33: C | Q33: T
C34: Chế độ chính sách giáo viên, học sinh. | J34: C | Q34: T
C35: Cơ sở vật chất trường học. | J35: C | Q35: T
C36: Chương trình mục tiêu, đầu tư xây dựng trường học. | J36: C | Q36: T
C37: Tài chính, ngân sách giáo dục. | J37: C | Q37: T
C38: Khiếu nại, tố cáo, kiểm tra, thanh tra lĩnh vực giáo dục. | J38: C | Q38: T
C39: Chuyển đổi số, cơ sở dữ liệu ngành. | J39: C | Q39: T
C40: Phụ trách công tác chuyên môn giáo dục: Theo dõi hoạt động chuyên môn của 11 trường học. Giáo dục mầm non. Giáo dục tiểu học. Giáo dục trung học cơ sở. | J40: C | R40: T
C41: Phổ cập giáo dục, xóa mù chữ. | J41: C | R41: T
C42: Chất lượng giáo dục, các kỳ khảo sát, thi tuyển sinh. | J42: C | R42: T
C43: Công tác học sinh, an toàn trường học, phòng chống đuối nước. | J43: C | R43: T
C44: Hội khỏe Phù Đổng, các hội thi ngành giáo dục. | J44: C | R44: T
C45: Công tác khuyến học, xã hội học tập. | J45: C | R45: T
C46: Tổng hợp báo cáo chuyên môn ngành giáo dục. | J46: C | R46: T
B47: Phụ trách Lĩnh vực Xã hội - Lao động: | J47: C | K47: C1 | M47: T | N47: T | O47: T
C48: hội, tổ chức phi chính phủ; | J48: C | K48: C1 | N48: T
C49: thanh niên; | J49: C | K49: C1 | N49: T
C50: lao động, tiền lương; | J50: C | K50: C1 | O50: T
C51: việc làm; | J51: C | K51: C1 | O51: T
C52: an toàn, vệ sinh lao động. | J52: C | K52: C1 | O52: T
C53: Công tác bảo trợ xã hội; | J53: C | K53: C1 | M53: T
C54: Phòng chống tệ nạn xã hội; | J54: C | K54: C1 | M54: T
C55: Bảo hiểm y tế; bảo hiểm xã hội; | J55: C | K55: C1 | M55: T
C56: Người có công; | J56: C | K56: C1 | N56: T
C57: bình đẳng giới; | J57: C | K57: C1 | N57: T
B58: Phụ trách Lĩnh vực Y tế | J58: C | K58: C1 | P58: T
C59: Y tế dự phòng; khám bệnh, chữa bệnh, phục hồi chức năng; | J59: C | K59: C1 | P59: T
C60: Bà mẹ, trẻ em; dân số; | J60: C | K60: C1 | P60: T
C61: Phòng, chống tệ nạn xã hội (không bao gồm cai nghiện ma túy và quản lý sau cai nghiện ma túy); | J61: C | K61: C1 | P61: T
C62: Y dược cổ truyền; dược; mỹ phẩm; | J62: C | K62: C1 | P62: T
C63: An toàn thực phẩm; thiết bị y tế. | J63: C | K63: C1 | P63: T
C64: Thiết bị y tế. | J64: C | K64: C1 | P64: T
B65: Phụ trách Lĩnh vực Văn hóa - Thông tin; | J65: C | K65: C1 | M65: T | Q65: T
C66: Công tác thể dục, thể thao; | J66: C | K66: C1 | Q66: T
C67: Thông tin cơ sở; | J67: C | K67: C1 | Q67: T
C68: Thông tin đối ngoại; | J68: C | K68: C1 | Q68: T
C69: Quản lý Trang thông tin điện tử. | J69: C | K69: C1 | Q69: T
C70: Văn hóa; gia đình; du lịch; quảng cáo; phát thanh truyền hình; báo chí. | J70: C | K70: C1 | M70: T
C71: Du lịch; quảng cáo; phát thanh truyền hình; báo chí. | J71: C | K71: C1 | M71: T
B72: Trực tiếp hoặc ủy quyền cho cấp phó giải quyết đơn thư, phải khiếu nại, tố cáo thuộc lĩnh vực phụ trách. | J72: C
B73: Tham mưu, tổng hợp báo cáo tháng, quý, năm của phòng; báo cáo Chỉ thị, Nghị quyết, Nghị định, Thông tư, Đề án theo lĩnh vực được giao. | J73: C | K73: C1 | N73: T
C74: Thực hiện chế độ báo cáo thường xuyên, đột xuất theo quy định (Xây dựng báo cáo tháng, quý năm; xây dựng kế hoạch hàng năm của cơ quan). | J74: C | K74: C1
C75: Tổng hợp lịch công tác tuần, tháng, quý và Chương trình công tác năm của Phòng; | J75: C | N75: T
C76: Xây dựng chương trình công tác tháng, quý, năm của phòng | J76: C | K76: T
B77: Thực hiện các nhiệm vụ khác do cấp trên phân công | J77: C | K77: T | L77: T | M77: T | N77: T | O77: T | P77: T | Q77: T | R77: T
C78: Ủy ban nhân dân xã, Chủ tịch UBND xã phân công. | J78: C
C79: Trưởng phòng phân công. | J79: C | K79: T
C80: Lãnh đạo cơ quan phân công | J80: C | L80: T | M80: T | N80: T | O80: T | P80: T | Q80: T | R80: T
C82: C: Chịu trách nhiệm chính cho cả phòng | L82: T: Tham gia trực tiếp và chịu trách nhiệm cá nhân
C83: C1: Chịu trách nhiệm cho nhóm công việc được phân công | L83: H: Cung cấp thông tin, hỗ trợ khi rảnh

Sheet KPI P VH - XH
A1: BẢNG TỔNG HỢP ĐIỂM KPI CỦA PHÒNG
M2: Nguyễn Hùng Cường | kinhcan24 | blognhansu.net.vn
A3: Stt | B3: Họ và tên | C3: Vị trí | D3: Ghi chú | E3: Điểm KPI tháng
E4: 1 | F4: 2 | G4: 3 | H4: 4 | I4: 5 | J4: 6 | K4: 7 | L4: 8 | M4: …
A5: 1 | B5: A | C5: {=TRANSPOSE('Co cau P VHXH'!J4:R4)} -> Trưởng phòng | D5: Xem chi tiết KPI
A6: 2 | B6: B | C6: Phó trưởng phòng | D6: Xem chi tiết KPI
A7: 3 | B7: C | C7: Chuyên viên 1 - Kế toán UB | D7: Xem chi tiết KPI
A8: 4 | B8: D | C8: Chuyên viên 2 - Lao động XH | D8: Xem chi tiết KPI
A9: 5 | B9: E | C9: Chuyên viên 3 - VT Thủ quỹ | D9: Xem chi tiết KPI
A10: 6 | B10: F | C10: HĐKCT | D10: Xem chi tiết KPI
A11: 7 | B11: G | C11: HĐ 111 | D11: Xem chi tiết KPI
A12: 8 | B12: H | C12: Cán bộ HD 1 - TC giáo dục | D12: Xem chi tiết KPI
A13: 9 | B13: I | C13: Cán bộ HD 2 - CM giáo dục | D13: Xem chi tiết KPI

Sheet KPI TP Van hoa - Xa hoi
A1: BẢN TỰ ĐÁNH GIÁ, XẾP LOẠI CỦA CÁ NHÂN
A2: Quý …., Năm ….
A3: Họ và tên:…………………………..…....................................... Ngày sinh: ………………………........
A4: Chức vụ Đảng: ……………………………………………………………….……………………………….
A5: Chức vụ chính quyền: ………………………………………………………..………………………………
A6: Chức vụ đoàn thể: …………………………………………………………………………….………………
A7: Đơn vị công tác: ……………………………...……………………………………………….………………
A8: I. Tự đánh giá kết quả thực hiện nhiệm vụ
A10: Trên cơ sở nhiệm vụ được giao, cá nhân tự đánh giá về kết quả thực hiện nhiệm vụ theo quý như sau:
A12: I | B12: NHÓM TIÊU CHÍ CHUNG (30 ĐIỂM) - Các tiêu chí thực hiện theo Quy định số 366-QĐ/TW của Bộ Chính trị
A13: TT | B13: Tiêu chí / Nội dung | H13: Đảm bảo | I13: Không đảm bảo (Đánh dấu x) | J13: Điểm tối đa | K13: Điểm đạt (Chấm tối đa nếu đảm bảo; Chấm 0 điểm nếu không đảm bảo) | L13: Ghi chú
H14: (Đánh dấu x)
A15: 1 | B15: Về phẩm chất chính trị, đạo đức, lối sống, thực hiện trách nhiệm nêu gương | J15: 18
A16: 1.1 | B16: Tuyệt đối trung thành với Đảng, Tổ quốc và Nhân dân; kiên định chủ nghĩa Mác - Lênin, tư tưởng Hồ Chí Minh, mục tiêu độc lập dân tộc và chủ nghĩa xã hội. Có lập trường, quan điểm, bản lĩnh chính trị vững vàng; kiên quyết bảo vệ nền tảng tư tưởng, Cương lĩnh chính trị, đường lối của Đảng, Hiến pháp, pháp luật của Nhà nước; đấu tranh phản bác các quan điểm sai trái, thù địch, các biểu hiện suy thoái, "tự diễn biến", "tự chuyển hóa". | J16: 2
A17: 1.2 | B17: Có tinh thần yêu nước sâu sắc, tận tụy phục vụ Nhân dân, sâu sát cơ sở, luôn hành động vì lợi ích của Nhân dân. Đặt lợi ích của Đảng, quốc gia - dân tộc, Nhân dân, tập thể lên trên lợi ích cá nhân, sẵn sàng hy sinh vì sự nghiệp cách mạng của Đảng, vì độc lập, tự do của Tổ quốc, vì hạnh phúc của Nhân dân. | J17: 2
A18: 1.3 | B18: Chấp hành nghiêm chủ trương, đường lối, nghị quyết, chỉ thị, quy định, nguyên tắc tổ chức, kỷ luật của Đảng, nhất là nguyên tắc tập trung dân chủ, tự phê bình và phê bình; chấp hành nghiêm pháp luật của Nhà nước và quy định của cơ quan, đơn vị. Tuyệt đối chấp hành sự phân công của tổ chức, yên tâm công tác và hoàn thành tốt mọi nhiệm vụ được giao. | J18: 2
A19: 1.4 | B19: Có tinh thần tự giác, trách nhiệm cao trong nghiên cứu, học tập chủ nghĩa Mác - Lênin, tư tưởng Hồ Chí Minh, các nghị quyết, chỉ thị của Đảng và các chương trình bồi dưỡng, cập nhật kiến thức mới nhằm nâng cao trình độ về mọi mặt, đáp ứng yêu cầu, nhiệm vụ. | J19: 2
A20: 1.5 | B20: Có phẩm chất đạo đức, lối sống trong sáng, trung thực, khiêm tốn, chân thành, giản dị; cần, kiệm, liêm, chính, chí công vô tư; chấp hành nghiêm quy định về chuẩn mực đạo đức cách mạng của cán bộ, đảng viên trong giai đoạn mới, trách nhiệm nêu gương; không vi phạm Quy định về những điều đảng viên không được làm. Không né tránh công việc, chạy theo thành tích; không vi phạm đạo đức, lối sống đến mức bị xử lý kỷ luật. | J20: 2
A21: 1.6 | B21: Không tham vọng quyền lực; không chạy chức, chạy quyền; không tham nhũng, lãng phí, cơ hội, vụ lợi, cục bộ, lợi ích nhóm; không để gia đình, người thân và người khác lợi dụng chức vụ, vị trí công tác để trục lợi. Không có biểu hiện suy thoái về tư tưởng chính trị, đạo đức, lối sống, những biểu hiện "tự diễn biến", "tự chuyển hóa" trong nội bộ. Kiên quyết đấu tranh chống quan liêu, cửa quyền, tham nhũng, xa hoa, lãng phí, tiêu cực, chủ nghĩa cá nhân, lối sống cơ hội, thực dụng, bè phái, lợi ích nhóm, nói không đi đôi với làm. | J21: 2
A22: 1.7 | B22: Có uy tín cao, tiêu biểu về phẩm chất đạo đức và phong cách công tác; là trung tâm đoàn kết, thương yêu đồng chí, đồng nghiệp. | J22: 2
A23: 1.8 | B23: Có tinh thần chủ động, đổi mới sáng tạo; phấn đấu vì mục tiêu phát triển của cơ quan, đơn vị, đóng góp vào mục tiêu chung của đất nước. | J23: 2
A24: 1.9 | B24: Thực hiện việc kê khai và công khai tài sản, thu nhập theo quy định. Báo cáo đầy đủ, trung thực, cung cấp thông tin chính xác, khách quan về những nội dung liên quan đến việc thực hiện chức trách, nhiệm vụ được giao và hoạt động của cơ quan, tổ chức, đơn vị với cấp trên khi được yêu cầu. | J24: 2
A25: 2 | B25: Tư duy đổi mới, chiến lược, khát vọng cống hiến, dám nghĩ, dám làm | J25: 4
A26: 2.1 | B26: Có tư duy đổi mới, tầm nhìn chiến lược, khả năng lãnh đạo, chỉ đạo thích ứng với sự phát triển của thời đại và xu thế toàn cầu hóa; phương pháp làm việc khoa học, nhạy bén chính trị; có năng lực cụ thể hóa trong lãnh đạo, chỉ đạo cơ quan, đơn vị thực hiện và hoàn thành tốt chức năng, nhiệm vụ được giao. | J26: 1
A27: 2.2 | B27: Luôn bám sát thực tiễn, có nhiều cách làm hay, sáng tạo, đạt hiệu quả cao trong lãnh đạo, chỉ đạo, tổ chức thực hiện nhiệm vụ; xây dựng cấp ủy, tổ chức đảng trong sạch, vững mạnh, cơ quan, đơn vị vững mạnh toàn diện. | J27: 1
A28: 2.3 | B28: Nói đi đôi với làm, dám nghĩ, dám làm, dám chịu trách nhiệm, dám đột phá vì lợi ích chung. Có khả năng phân tích, dự báo tình hình, phát hiện những khó khăn, bất cập, thời cơ, thuận lợi trong thực tiễn; đề xuất hoặc quyết định những giải pháp phù hợp, kịp thời, hiệu quả. | J28: 1
A29: 2.4 | B29: Có khát vọng phấn đấu, cống hiến; có khả năng quy tụ và phát huy được sức mạnh của tập thể, cá nhân trong cơ quan, đơn vị và các cơ quan, đơn vị có liên quan. | J29: 1
B30: 3. Về tự phê bình và phê bình, tự soi, tự sửa, khắc phục hạn chế, khuyết điểm | J30: 8
A31: 3.1 | B31: Chủ động, nghiêm túc thực hiện tự phê bình và phê bình, có tinh thần cầu thị và tiếp thu phản biện, góp ý. | J31: 2
A32: 3.2 | B32: Có kế hoạch rõ ràng và quyết liệt trong khắc phục hạn chế, khuyết điểm đã được chỉ ra. | J32: 2
A33: 3.3 | B33: Kết quả khắc phục hoàn thành từ ≥ 80% nội dung, có tiến bộ rõ, được tổ chức đánh giá tốt; không để tái diễn tồn tại. | J33: 2
A34: 3.4 | B34: Tự soi, tự sửa trên tinh thần trách nhiệm chính trị cao, không né tránh, không đổ lỗi. | J34: 2
A35: Tổng (A) = | J35: 30
A36: B | B36: KẾT QUẢ THỰC HIỆN NHIỆM VỤ ĐƯỢC GIAO (70 ĐIỂM)
A37: TT | B37: Tiêu chí / Nội dung | G37: Mục tiêu, nhiệm vụ đề ra | H37: Kết quả sản phẩm thực tế | I37: Điểm KPI | J37: Điểm tối đa | K37: Điểm đạt | L37: Ghi chú
I38: (%) | K38: (= Điểm KPI x Điểm tối đa)
A39: 1 | B39: Trục (1) - THỰC HIỆN MỤC TIÊU PHÁT TRIỂN KINH TẾ - XÃ HỘI VÀ NHIỆM VỤ CHÍNH TRỊ ĐƯỢC GIAO (25 ĐIỂM) | J39: 15
B40: - Tốc độ tăng trưởng kinh tế GDP/GRDP
B41: - Thu ngân sách
B42: - Thu nhập bình quân đầu người
B43: - Tỉ lệ giải ngân vốn đầu tư công
B44: - Giảm tỉ lệ hộ nghèo
B45: - Mức độ hài lòng của người dân, doanh nghiệp
B46: - Hoàn thành nhiệm vụ chính trị được giao
B47: - Các nội dung khác (nếu có)
A48: 2 | B48: Trục (2) - HOÀN THIỆN THỂ CHẾ, ĐẨY MẠNH PHÂN CẤP, PHÂN QUYỀN GẮN VỚI KIỂM TRA, GIÁM SÁT (10 ĐIỂM) | J48: 10
B49: - Ban hành kế hoạch, chương trình hành động thực hiện các nghị quyết, chỉ thị, kết luận theo phân cấp
B50: - Triển khai, quán triệt chính sách phân cấp
B51: - Giám sát thực hiện phân quyền
B52: - Tỉ lệ hồ sơ giải quyết đúng hạn
B53: - Chỉ số cải cách hành chính (PAR Index)
B54: - Tổ chức tiếp dân định kỳ hằng tháng
B55: - Giải quyết 100% đơn, thư thuộc trách nhiệm, không để vượt cấp, phát sinh kéo dài
B56: - Nội dung khác (nếu có)
A57: 3 | B57: Trục (3) - THÚC ĐẨY PHÁT TRIỂN KHOA HỌC, CÔNG NGHỆ, ĐỔI MỚI SÁNG TẠO VÀ CHUYỂN ĐỔI SỐ (10 ĐIỂM) | J57: 10
B58: - Triển khai chương trình, đề án chuyển đổi số
B59: - Ứng dụng khoa học công nghệ, đổi mới sáng tạo trong quản lý hành chính
B60: - Tỉ lệ dịch vụ công trực tuyến
B61: - Các nội dung khác (nếu có)
A62: 4 | B62: Trục (4) - XÂY DỰNG ĐẢNG VÀ HỆ THỐNG CHÍNH TRỊ TRONG SẠCH, VỮNG MẠNH; GIỮ GÌN ĐOÀN KẾT, THỐNG NHẤT NỘI BỘ; PHÒNG, CHỐNG THAM NHŨNG, LÃNG PHÍ, TIÊU CỰC (25 ĐIỂM) | J62: 15
B63: - Xây dựng, củng cố TCCSĐ (thành lập mới, sắp xếp, kiện toàn các tổ chức đảng)
B64: - Tỷ lệ kết nạp đảng viên mới
B65: - Triển khai sinh hoạt, quán triệt định kỳ
B66: - Việc sắp xếp, tinh gọn tổ chức bộ máy và vận hành mô hình chính quyền 03 cấp hoạt động hiệu năng, hiệu lực, hiệu quả
B67: - Các nội dung khác (nếu có)
A68: 5 | B68: Trục (5) - PHÁT TRIỂN VĂN HÓA, CON NGƯỜI, BẢO ĐẢM AN SINH XÃ HỘI, NÂNG CAO ĐỜI SỐNG NHÂN DÂN (10 ĐIỂM) | J68: 10
B69: - Triển khai các chương trình, đề án, phong trào phát triển văn hóa, xây dựng con người và hệ giá trị văn hóa, con người Việt Nam
B70: - Tỉ lệ trường đạt chuẩn quốc gia, phổ cập giáo dục
B71: - Tỉ lệ bao phủ bảo hiểm y tế, chất lượng chăm sóc sức khỏe Nhân dân
B72: - Tỉ lệ lao động qua đào tạo; số việc làm mới
B73: - Thực hiện chính sách đối với người có công, đối tượng bảo trợ xã hội, giảm nghèo bền vững
B74: - Xây dựng nông thôn mới,
B75: - Bảo tồn, phát huy giá trị di sản, bản sắc văn hóa dân tộc
B76: - Các nội dung khác (nếu có)
A77: 6 | B77: Trục (6) - CỦNG CỐ QUỐC PHÒNG, AN NINH, GIỮ VỮNG ỔN ĐỊNH CHÍNH TRỊ - XÃ HỘI, NÂNG CAO HIỆU QUẢ ĐỐI NGOẠI VÀ HỘI NHẬP QUỐC TẾ (10 ĐIỂM) | J77: 10
B78: - Xây dựng nền quốc phòng toàn dân, thế trận an ninh nhân dân vững chắc
B79: - Giữ vững an ninh chính trị, trật tự an toàn xã hội;
B80: không để hình thành "điểm nóng", bị động, bất ngờ
B81: - Hoàn thành chỉ tiêu tuyển quân, huấn luyện, diễn tập khu vực phòng thủ
B82: - Tỷ lệ tai nạn giao thông, tệ nạn xã hội; đấu tranh phòng, chống tội phạm, ma túy
B83: - Triển khai hiệu quả công tác đối ngoại, hợp tác quốc tế theo phân cấp, thu hút đầu tư nước ngoài (FDI), xúc tiến thương mại, du lịch, hội nhập quốc tế
B84: - Bảo đảm an ninh biên giới, an ninh kinh tế, an ninh mạng, an ninh tôn giáo, dân tộc
B85: - Các nội dung khác (nếu có)
A86: TỔNG (B) = | J86: 70
A87: TỔNG (A+ B) = | J87: 100
A88: II. Tự đề xuất xếp loại mức chất lượng:….................................................................................
A89: (Theo 04 mức: - Hoàn thành xuất sắc nhiệm vụ, 2- Hoàn thành tốt nhiệm vụ, 3- Hoàn thành nhiệm vụ và 4- Không hoàn thành nhiệm vụ)
B91: CÁ NHÂN TỰ ĐÁNH GIÁ
B92: (Ký, ghi rõ họ tên)
A95: III. Nhận xét, đánh giá của cấp có thẩm quyền
A96: - Chấm điểm: ….........................…........................................................................................
A97: - Đề xuất xếp loại: ….............................................................................................................
A98: - Mức độ đáp ứng đối với các mục tiêu, nhiệm vụ then chốt: ..............................................
A99: ………………………………………………………………………………………………………...
B102: XÁC NHẬN CỦA BAN THƯỜNG VỤ TỈNH ỦY, THÀNH ỦY, ĐẢNG ỦY TRỰC THUỘC TRUNG ƯƠNG HOẶC TẬP THỂ LÃNH ĐẠO CƠ QUAN, ĐƠN VỊ
B103: (Xác lập thời điểm, ký, ghi rõ họ tên và đóng dấu)

Sheet KPI PP Van hoa - Xa  hoi
A1: BẢN TỰ ĐÁNH GIÁ, XẾP LOẠI CỦA CÁ NHÂN
A2: Quý …., Năm ….
A3: Họ và tên:…………………………..…....................................... Ngày sinh: ………………………........
A4: Chức vụ Đảng: ……………………………………………………………….……………………………….
A5: Chức vụ chính quyền: ………………………………………………………..………………………………
A6: Chức vụ đoàn thể: …………………………………………………………………………….………………
A7: Đơn vị công tác: ……………………………...……………………………………………….………………
A8: I. Tự đánh giá kết quả thực hiện nhiệm vụ
A10: Trên cơ sở nhiệm vụ được giao, cá nhân tự đánh giá về kết quả thực hiện nhiệm vụ theo quý như sau:
A12: I | B12: NHÓM TIÊU CHÍ CHUNG (30 ĐIỂM) - Các tiêu chí thực hiện theo Quy định số 366-QĐ/TW của Bộ Chính trị
A13: TT | B13: Tiêu chí / Nội dung | H13: Đảm bảo | I13: Không đảm bảo (Đánh dấu x) | J13: Điểm tối đa | K13: Điểm đạt (Chấm tối đa nếu đảm bảo; Chấm 0 điểm nếu không đảm bảo) | L13: Ghi chú
H14: (Đánh dấu x)
A15: 1 | B15: Về phẩm chất chính trị, đạo đức, lối sống, thực hiện trách nhiệm nêu gương | J15: 18
A16: 1.1 | B16: Tuyệt đối trung thành với Đảng, Tổ quốc và Nhân dân; kiên định chủ nghĩa Mác - Lênin, tư tưởng Hồ Chí Minh, mục tiêu độc lập dân tộc và chủ nghĩa xã hội. Có lập trường, quan điểm, bản lĩnh chính trị vững vàng; kiên quyết bảo vệ nền tảng tư tưởng, Cương lĩnh chính trị, đường lối của Đảng, Hiến pháp, pháp luật của Nhà nước; đấu tranh phản bác các quan điểm sai trái, thù địch, các biểu hiện suy thoái, "tự diễn biến", "tự chuyển hóa". | J16: 2
A17: 1.2 | B17: Có tinh thần yêu nước sâu sắc, tận tụy phục vụ Nhân dân, sâu sát cơ sở, luôn hành động vì lợi ích của Nhân dân. Đặt lợi ích của Đảng, quốc gia - dân tộc, Nhân dân, tập thể lên trên lợi ích cá nhân, sẵn sàng hy sinh vì sự nghiệp cách mạng của Đảng, vì độc lập, tự do của Tổ quốc, vì hạnh phúc của Nhân dân. | J17: 2
A18: 1.3 | B18: Chấp hành nghiêm chủ trương, đường lối, nghị quyết, chỉ thị, quy định, nguyên tắc tổ chức, kỷ luật của Đảng, nhất là nguyên tắc tập trung dân chủ, tự phê bình và phê bình; chấp hành nghiêm pháp luật của Nhà nước và quy định của cơ quan, đơn vị. Tuyệt đối chấp hành sự phân công của tổ chức, yên tâm công tác và hoàn thành tốt mọi nhiệm vụ được giao. | J18: 2
A19: 1.4 | B19: Có tinh thần tự giác, trách nhiệm cao trong nghiên cứu, học tập chủ nghĩa Mác - Lênin, tư tưởng Hồ Chí Minh, các nghị quyết, chỉ thị của Đảng và các chương trình bồi dưỡng, cập nhật kiến thức mới nhằm nâng cao trình độ về mọi mặt, đáp ứng yêu cầu, nhiệm vụ. | J19: 2
A20: 1.5 | B20: Có phẩm chất đạo đức, lối sống trong sáng, trung thực, khiêm tốn, chân thành, giản dị; cần, kiệm, liêm, chính, chí công vô tư; chấp hành nghiêm quy định về chuẩn mực đạo đức cách mạng của cán bộ, đảng viên trong giai đoạn mới, trách nhiệm nêu gương; không vi phạm Quy định về những điều đảng viên không được làm. Không né tránh công việc, chạy theo thành tích; không vi phạm đạo đức, lối sống đến mức bị xử lý kỷ luật. | J20: 2
A21: 1.6 | B21: Không tham vọng quyền lực; không chạy chức, chạy quyền; không tham nhũng, lãng phí, cơ hội, vụ lợi, cục bộ, lợi ích nhóm; không để gia đình, người thân và người khác lợi dụng chức vụ, vị trí công tác để trục lợi. Không có biểu hiện suy thoái về tư tưởng chính trị, đạo đức, lối sống, những biểu hiện "tự diễn biến", "tự chuyển hóa" trong nội bộ. Kiên quyết đấu tranh chống quan liêu, cửa quyền, tham nhũng, xa hoa, lãng phí, tiêu cực, chủ nghĩa cá nhân, lối sống cơ hội, thực dụng, bè phái, lợi ích nhóm, nói không đi đôi với làm. | J21: 2
A22: 1.7 | B22: Có uy tín cao, tiêu biểu về phẩm chất đạo đức và phong cách công tác; là trung tâm đoàn kết, thương yêu đồng chí, đồng nghiệp. | J22: 2
A23: 1.8 | B23: Có tinh thần chủ động, đổi mới sáng tạo; phấn đấu vì mục tiêu phát triển của cơ quan, đơn vị, đóng góp vào mục tiêu chung của đất nước. | J23: 2
A24: 1.9 | B24: Thực hiện việc kê khai và công khai tài sản, thu nhập theo quy định. Báo cáo đầy đủ, trung thực, cung cấp thông tin chính xác, khách quan về những nội dung liên quan đến việc thực hiện chức trách, nhiệm vụ được giao và hoạt động của cơ quan, tổ chức, đơn vị với cấp trên khi được yêu cầu. | J24: 2
A25: 2 | B25: Tư duy đổi mới, chiến lược, khát vọng cống hiến, dám nghĩ, dám làm | J25: 4
A26: 2.1 | B26: Có tư duy đổi mới, tầm nhìn chiến lược, khả năng lãnh đạo, chỉ đạo thích ứng với sự phát triển của thời đại và xu thế toàn cầu hóa; phương pháp làm việc khoa học, nhạy bén chính trị; có năng lực cụ thể hóa trong lãnh đạo, chỉ đạo cơ quan, đơn vị thực hiện và hoàn thành tốt chức năng, nhiệm vụ được giao. | J26: 1
A27: 2.2 | B27: Luôn bám sát thực tiễn, có nhiều cách làm hay, sáng tạo, đạt hiệu quả cao trong lãnh đạo, chỉ đạo, tổ chức thực hiện nhiệm vụ; xây dựng cấp ủy, tổ chức đảng trong sạch, vững mạnh, cơ quan, đơn vị vững mạnh toàn diện. | J27: 1
A28: 2.3 | B28: Nói đi đôi với làm, dám nghĩ, dám làm, dám chịu trách nhiệm, dám đột phá vì lợi ích chung. Có khả năng phân tích, dự báo tình hình, phát hiện những khó khăn, bất cập, thời cơ, thuận lợi trong thực tiễn; đề xuất hoặc quyết định những giải pháp phù hợp, kịp thời, hiệu quả. | J28: 1
A29: 2.4 | B29: Có khát vọng phấn đấu, cống hiến; có khả năng quy tụ và phát huy được sức mạnh của tập thể, cá nhân trong cơ quan, đơn vị và các cơ quan, đơn vị có liên quan. | J29: 1
B30: 3. Về tự phê bình và phê bình, tự soi, tự sửa, khắc phục hạn chế, khuyết điểm | J30: 8
A31: 3.1 | B31: Chủ động, nghiêm túc thực hiện tự phê bình và phê bình, có tinh thần cầu thị và tiếp thu phản biện, góp ý. | J31: 2
A32: 3.2 | B32: Có kế hoạch rõ ràng và quyết liệt trong khắc phục hạn chế, khuyết điểm đã được chỉ ra. | J32: 2
A33: 3.3 | B33: Kết quả khắc phục hoàn thành từ ≥ 80% nội dung, có tiến bộ rõ, được tổ chức đánh giá tốt; không để tái diễn tồn tại. | J33: 2
A34: 3.4 | B34: Tự soi, tự sửa trên tinh thần trách nhiệm chính trị cao, không né tránh, không đổ lỗi. | J34: 2
A35: Tổng (A) = | J35: 30
A36: B | B36: KẾT QUẢ THỰC HIỆN NHIỆM VỤ ĐƯỢC GIAO (70 ĐIỂM)
A37: TT | B37: Tiêu chí / Nội dung | G37: Mục tiêu, nhiệm vụ đề ra | H37: Kết quả sản phẩm thực tế | I37: Điểm KPI | J37: Điểm tối đa | K37: Điểm đạt | L37: Ghi chú
I38: (%) | K38: (= Điểm KPI x Điểm tối đa)
A39: 1 | B39: Trục (1) - THỰC HIỆN MỤC TIÊU PHÁT TRIỂN KINH TẾ - XÃ HỘI VÀ NHIỆM VỤ CHÍNH TRỊ ĐƯỢC GIAO (25 ĐIỂM) | J39: 15
B40: - Tốc độ tăng trưởng kinh tế GDP/GRDP
B41: - Thu ngân sách
B42: - Thu nhập bình quân đầu người
B43: - Tỉ lệ giải ngân vốn đầu tư công
B44: - Giảm tỉ lệ hộ nghèo
B45: - Mức độ hài lòng của người dân, doanh nghiệp
B46: - Hoàn thành nhiệm vụ chính trị được giao
B47: - Các nội dung khác (nếu có)
A48: 2 | B48: Trục (2) - HOÀN THIỆN THỂ CHẾ, ĐẨY MẠNH PHÂN CẤP, PHÂN QUYỀN GẮN VỚI KIỂM TRA, GIÁM SÁT (10 ĐIỂM) | J48: 10
B49: - Ban hành kế hoạch, chương trình hành động thực hiện các nghị quyết, chỉ thị, kết luận theo phân cấp
B50: - Triển khai, quán triệt chính sách phân cấp
B51: - Giám sát thực hiện phân quyền
B52: - Tỉ lệ hồ sơ giải quyết đúng hạn
B53: - Chỉ số cải cách hành chính (PAR Index)
B54: - Tổ chức tiếp dân định kỳ hằng tháng
B55: - Giải quyết 100% đơn, thư thuộc trách nhiệm, không để vượt cấp, phát sinh kéo dài
B56: - Nội dung khác (nếu có)
A57: 3 | B57: Trục (3) - THÚC ĐẨY PHÁT TRIỂN KHOA HỌC, CÔNG NGHỆ, ĐỔI MỚI SÁNG TẠO VÀ CHUYỂN ĐỔI SỐ (10 ĐIỂM) | J57: 10
B58: - Triển khai chương trình, đề án chuyển đổi số
B59: - Ứng dụng khoa học công nghệ, đổi mới sáng tạo trong quản lý hành chính
B60: - Tỉ lệ dịch vụ công trực tuyến
B61: - Các nội dung khác (nếu có)
A62: 4 | B62: Trục (4) - XÂY DỰNG ĐẢNG VÀ HỆ THỐNG CHÍNH TRỊ TRONG SẠCH, VỮNG MẠNH; GIỮ GÌN ĐOÀN KẾT, THỐNG NHẤT NỘI BỘ; PHÒNG, CHỐNG THAM NHŨNG, LÃNG PHÍ, TIÊU CỰC (25 ĐIỂM) | J62: 15
B63: - Xây dựng, củng cố TCCSĐ (thành lập mới, sắp xếp, kiện toàn các tổ chức đảng)
B64: - Tỷ lệ kết nạp đảng viên mới
B65: - Triển khai sinh hoạt, quán triệt định kỳ
B66: - Việc sắp xếp, tinh gọn tổ chức bộ máy và vận hành mô hình chính quyền 03 cấp hoạt động hiệu năng, hiệu lực, hiệu quả
B67: - Các nội dung khác (nếu có)
A68: 5 | B68: Trục (5) - PHÁT TRIỂN VĂN HÓA, CON NGƯỜI, BẢO ĐẢM AN SINH XÃ HỘI, NÂNG CAO ĐỜI SỐNG NHÂN DÂN (10 ĐIỂM) | J68: 10
B69: - Triển khai các chương trình, đề án, phong trào phát triển văn hóa, xây dựng con người và hệ giá trị văn hóa, con người Việt Nam
B70: - Tỉ lệ trường đạt chuẩn quốc gia, phổ cập giáo dục
B71: - Tỉ lệ bao phủ bảo hiểm y tế, chất lượng chăm sóc sức khỏe Nhân dân
B72: - Tỉ lệ lao động qua đào tạo; số việc làm mới
B73: - Thực hiện chính sách đối với người có công, đối tượng bảo trợ xã hội, giảm nghèo bền vững
B74: - Xây dựng nông thôn mới,
B75: - Bảo tồn, phát huy giá trị di sản, bản sắc văn hóa dân tộc
B76: - Các nội dung khác (nếu có)
A77: 6 | B77: Trục (6) - CỦNG CỐ QUỐC PHÒNG, AN NINH, GIỮ VỮNG ỔN ĐỊNH CHÍNH TRỊ - XÃ HỘI, NÂNG CAO HIỆU QUẢ ĐỐI NGOẠI VÀ HỘI NHẬP QUỐC TẾ (10 ĐIỂM) | J77: 10
B78: - Xây dựng nền quốc phòng toàn dân, thế trận an ninh nhân dân vững chắc
B79: - Giữ vững an ninh chính trị, trật tự an toàn xã hội;
B80: không để hình thành "điểm nóng", bị động, bất ngờ
B81: - Hoàn thành chỉ tiêu tuyển quân, huấn luyện, diễn tập khu vực phòng thủ
B82: - Tỷ lệ tai nạn giao thông, tệ nạn xã hội; đấu tranh phòng, chống tội phạm, ma túy
B83: - Triển khai hiệu quả công tác đối ngoại, hợp tác quốc tế theo phân cấp, thu hút đầu tư nước ngoài (FDI), xúc tiến thương mại, du lịch, hội nhập quốc tế
B84: - Bảo đảm an ninh biên giới, an ninh kinh tế, an ninh mạng, an ninh tôn giáo, dân tộc
B85: - Các nội dung khác (nếu có)
A86: TỔNG (B) = | J86: 70
A87: TỔNG (A+ B) = | J87: 100
A88: II. Tự đề xuất xếp loại mức chất lượng:….................................................................................
A89: (Theo 04 mức: - Hoàn thành xuất sắc nhiệm vụ, 2- Hoàn thành tốt nhiệm vụ, 3- Hoàn thành nhiệm vụ và 4- Không hoàn thành nhiệm vụ)
B91: CÁ NHÂN TỰ ĐÁNH GIÁ
B92: (Ký, ghi rõ họ tên)
A95: III. Nhận xét, đánh giá của cấp có thẩm quyền
A96: - Chấm điểm: ….........................…........................................................................................
A97: - Đề xuất xếp loại: ….............................................................................................................
A98: - Mức độ đáp ứng đối với các mục tiêu, nhiệm vụ then chốt: ..............................................
A99: ………………………………………………………………………………………………………...
B102: XÁC NHẬN CỦA BAN THƯỜNG VỤ TỈNH ỦY, THÀNH ỦY, ĐẢNG ỦY TRỰC THUỘC TRUNG ƯƠNG HOẶC TẬP THỂ LÃNH ĐẠO CƠ QUAN, ĐƠN VỊ
B103: (Xác lập thời điểm, ký, ghi rõ họ tên và đóng dấu)

Sheet DMCV CV1 - KTUB
A1: BẢNG DANH MỤC SẢN PHẨM CÔNG VIỆC
M2: Nguyễn Hùng Cường | kinhcan24 | blognhansu.net.vn
A3: Quý …., Năm ….
A4: Họ và tên:…………………………..…....................................... Ngày sinh: ………………………........
A5: Vị trí: | E5: ='Co cau P VHXH'!L4 -> Chuyên viên 1 - Kế toán UB
A6: Đơn vị công tác: | E6: Phòng công tác xã hội
A8: TT | B8: Nhiệm vụ | F8: Định mức lao động
F9: Cấp trình | G9: Độ khó, mới, phức tạp; phạm vi tác động | H9: Sản phẩm | I9: Số lượng | J9: Tiến độ/ tần suất | K9: Ghi chú | L9: Điểm chấm công việc | M9: Hệ số quy đổi
B10: Làm chủ tài khoản, quản lý tài chính của phòng; tài sản của cơ quan theo quy định
C11: Phụ trách công tác kế toán của cơ quan. | M11: =L11/MIN($L:$L) -> 0
D12: Theo dõi quản lý, phân bổ vốn, quỹ | L12: 100 | M12: =L12/MIN($L:$L) -> 1
D13: Thực hiện các nghiệp vụ thanh toán thu chi | L13: 500 | M13: =L13/MIN($L:$L) -> 5
D14: Quản lý kho, cơ sở vật chất, tài sản, hàng hóa về mặt giá trị | M14: =L14/MIN($L:$L) -> 0
D15: Tính toán giá thành và theo dõi chi phí dịch vụ
D16: Thu hồi, theo dõi công nợ phải thu, phải trả
D17: Lập báo cáo quản trị | M17: =L17/MIN($L:$L) -> 0
D18: Triển khai các hoạt động đáp ứng nghĩa vụ thuế | M18: =L18/MIN($L:$L) -> 0
B19: Phụ trách Lĩnh vực Giáo dục và Đào tạo, gồm: Giáo dục mầm non; Giáo dục phổ thông (giáo dục tiểu học và giáo dục trung học cơ sở); | M19: =L19/MIN($L:$L) -> 0
B20: Thực hiện các nhiệm vụ khác do cấp trên phân công | M20: =L20/MIN($L:$L) -> 0
C21: Lãnh đạo cơ quan phân công | M21: =L21/MIN($L:$L) -> 0

Sheet KPI CV1 - KTUB
A1: KẾT QUẢ THỰC HIỆN NHIỆM VỤ (KPI)
A2: Quý …., Năm …. | R2: Nguyễn Hùng Cường | kinhcan24 | blognhansu.net.vn
A3: Họ và tên:…………………………..…....................................... Ngày sinh: ………………………........
A4: Vị trí: | E4: ='Co cau P VHXH'!L4 -> Chuyên viên 1 - Kế toán UB
A5: Đơn vị công tác: | E5: Phòng công tác xã hội
A7: TT | B7: NHIỆM VỤ ĐỀ RA KẾ HOẠCH | K7: THỰC TẾ TRIỂN KHAI
B8: Nhiệm vụ | F8: Sản phẩm | G8: Số lượng | H8: Tiến độ | I8: Hệ số quy đổi | J8: Số lượng quy đổi | K8: KPI | M8: KPI | O8: KPI | Q8: Lãnh đạo, chỉ đạo, điều hành
K9: (Số lượng) | M9: (Chất lượng) | O9: (Tiến độ)
K10: Thực tế hoàn thành | L10: Quy đổi | M10: Thực tế hoàn thành | N10: Quy đổi | O10: Thực tế hoàn thành | P10: Quy đổi | Q10: Thực tế hoàn thành | R10: Quy đổi
A11: 1 | B11: ='DMCV CV1 - KTUB'!B10 -> Làm chủ tài khoản, quản lý tài chính của phòng; tài sản của cơ quan theo quy định
C12: ='DMCV CV1 - KTUB'!C11 -> Phụ trách công tác kế toán của cơ quan. | F12: ='DMCV CV1 - KTUB'!H11 -> 0 | G12: ='DMCV CV1 - KTUB'!I11 -> 0 | H12: ='DMCV CV1 - KTUB'!J11 -> 0 | I12: ='DMCV CV1 - KTUB'!M11 -> 0 | J12: =I12*G12 -> 0 | L12: =K12/G12*J12 -> #DIV/0! | N12: =M12/G12*J12 -> #DIV/0! | P12: =O12/G12*J12 -> #DIV/0! | R12: =Q12/G12*J12 -> #DIV/0!
D13: ='DMCV CV1 - KTUB'!D12 -> Theo dõi quản lý, phân bổ vốn, quỹ | F13: ='DMCV CV1 - KTUB'!H12 -> 0 | G13: ='DMCV CV1 - KTUB'!I12 -> 0 | H13: ='DMCV CV1 - KTUB'!J12 -> 0 | I13: ='DMCV CV1 - KTUB'!M12 -> 1 | J13: =I13*G13 -> 0 | L13: =K13/G13*J13 -> #DIV/0! | N13: =M13/G13*J13 -> #DIV/0! | P13: =O13/G13*J13 -> #DIV/0! | R13: =Q13/G13*J13 -> #DIV/0!
D14: ='DMCV CV1 - KTUB'!D13 -> Thực hiện các nghiệp vụ thanh toán thu chi | F14: ='DMCV CV1 - KTUB'!H13 -> 0 | G14: ='DMCV CV1 - KTUB'!I13 -> 0 | H14: ='DMCV CV1 - KTUB'!J13 -> 0 | I14: ='DMCV CV1 - KTUB'!M13 -> 5 | J14: =I14*G14 -> 0 | L14: =K14/G14*J14 -> #DIV/0! | N14: =M14/G14*J14 -> #DIV/0! | P14: =O14/G14*J14 -> #DIV/0! | R14: =Q14/G14*J14 -> #DIV/0!
D15: ='DMCV CV1 - KTUB'!D14 -> Quản lý kho, cơ sở vật chất, tài sản, hàng hóa về mặt giá trị | F15: ='DMCV CV1 - KTUB'!H14 -> 0 | G15: ='DMCV CV1 - KTUB'!I14 -> 0 | H15: ='DMCV CV1 - KTUB'!J14 -> 0 | I15: ='DMCV CV1 - KTUB'!M14 -> 0 | J15: =I15*G15 -> 0 | L15: =K15/G15*J15 -> #DIV/0! | N15: =M15/G15*J15 -> #DIV/0! | P15: =O15/G15*J15 -> #DIV/0! | R15: =Q15/G15*J15 -> #DIV/0!
D16: ='DMCV CV1 - KTUB'!D17 -> Lập báo cáo quản trị | F16: ='DMCV CV1 - KTUB'!H17 -> 0 | G16: ='DMCV CV1 - KTUB'!I17 -> 0 | H16: ='DMCV CV1 - KTUB'!J17 -> 0 | I16: ='DMCV CV1 - KTUB'!M17 -> 0 | J16: =I16*G16 -> 0 | L16: =K16/G16*J16 -> #DIV/0! | N16: =M16/G16*J16 -> #DIV/0! | P16: =O16/G16*J16 -> #DIV/0! | R16: =Q16/G16*J16 -> #DIV/0!
D17: ='DMCV CV1 - KTUB'!D18 -> Triển khai các hoạt động đáp ứng nghĩa vụ thuế | F17: ='DMCV CV1 - KTUB'!H18 -> 0 | G17: ='DMCV CV1 - KTUB'!I18 -> 0 | H17: ='DMCV CV1 - KTUB'!J18 -> 0 | I17: ='DMCV CV1 - KTUB'!M18 -> 0 | J17: =I17*G17 -> 0 | L17: =K17/G17*J17 -> #DIV/0! | N17: =M17/G17*J17 -> #DIV/0! | P17: =O17/G17*J17 -> #DIV/0! | R17: =Q17/G17*J17 -> #DIV/0!
B18: ='DMCV CV1 - KTUB'!B19 -> Phụ trách Lĩnh vực Giáo dục và Đào tạo, gồm: Giáo dục mầm non; Giáo dục phổ thông (giáo dục tiểu học và giáo dục trung học cơ sở); | F18: ='DMCV CV1 - KTUB'!H19 -> 0 | G18: ='DMCV CV1 - KTUB'!I19 -> 0 | H18: ='DMCV CV1 - KTUB'!J19 -> 0 | I18: ='DMCV CV1 - KTUB'!M19 -> 0 | J18: =I18*G18 -> 0 | L18: =K18/G18*J18 -> #DIV/0! | N18: =M18/G18*J18 -> #DIV/0! | P18: =O18/G18*J18 -> #DIV/0! | R18: =Q18/G18*J18 -> #DIV/0!
B19: ='DMCV CV1 - KTUB'!B20 -> Thực hiện các nhiệm vụ khác do cấp trên phân công
C20: ='DMCV CV1 - KTUB'!C21 -> Lãnh đạo cơ quan phân công | F20: ='DMCV CV1 - KTUB'!H21 -> 0 | G20: ='DMCV CV1 - KTUB'!I21 -> 0 | H20: ='DMCV CV1 - KTUB'!J21 -> 0 | I20: ='DMCV CV1 - KTUB'!M21 -> 0 | J20: =I20*G20 -> 0 | L20: =K20/G20*J20 -> #DIV/0! | N20: =M20/G20*J20 -> #DIV/0! | P20: =O20/G20*J20 -> #DIV/0! | R20: =Q20/G20*J20 -> #DIV/0!
B21: Tổng | J21: =SUM(J11:J20) -> 0 | L21: =SUM(L11:L20) -> #DIV/0! | N21: =SUM(N11:N20) -> #DIV/0! | P21: =SUM(P11:P20) -> #DIV/0! | R21: =SUM(R11:R20) -> #DIV/0!
B22: Từ bảng trên suy ra:
B23: A = | D23: =L21/J21 -> #DIV/0! | F23: B = | G23: =N21/J21 -> #DIV/0! | I23: C = | J23: =P21/J21 -> #DIV/0! | L23: D = | M23: =R21/J21 -> #DIV/0!
B24: => KPI = (A+B+C+D)/4 = | E24: =(D23+G23+J23+M23)/4 -> #DIV/0!
B26: Như vậy: Tổng điểm = 30 + %KPI x 70 = | F26: =30+E24*70 -> #DIV/0! | G26: điểm

Sheet DMCV CV2 - LDXH
A1: BẢNG DANH MỤC SẢN PHẨM CÔNG VIỆC
M2: Nguyễn Hùng Cường | kinhcan24 | blognhansu.net.vn
A3: Quý …., Năm ….
A4: Họ và tên:…………………………..…....................................... Ngày sinh: ………………………........
A5: Vị trí: | E5: ='Co cau P VHXH'!M4 -> Chuyên viên 2 - Lao động XH
A6: Đơn vị công tác: | E6: Phòng công tác xã hội
A8: TT | B8: Nhiệm vụ | F8: Định mức lao động
F9: Cấp trình | G9: Độ khó, mới, phức tạp; phạm vi tác động | H9: Sản phẩm | I9: Số lượng | J9: Tiến độ/ tần suất | K9: Ghi chú | L9: Điểm chấm công việc | M9: Hệ số quy đổi
B10: Phụ trách Lĩnh vực Xã hội - Lao động:
C11: Công tác bảo trợ xã hội; | M11: =L11/MIN($L:$L) -> 0
L12: 100 | M12: =L12/MIN($L:$L) -> 1
L13: 500 | M13: =L13/MIN($L:$L) -> 5
M14: =L14/MIN($L:$L) -> 0
C15: Phòng chống tệ nạn xã hội; | M15: =L15/MIN($L:$L) -> 0
M16: =L16/MIN($L:$L) -> 0
M17: =L17/MIN($L:$L) -> 0
M18: =L18/MIN($L:$L) -> 0
M19: =L19/MIN($L:$L) -> 0
M20: =L20/MIN($L:$L) -> 0
C21: Bảo hiểm y tế; bảo hiểm xã hội; | M21: =L21/MIN($L:$L) -> 0
M22: =L22/MIN($L:$L) -> 0
M23: =L23/MIN($L:$L) -> 0
M24: =L24/MIN($L:$L) -> 0
B25: Phụ trách Lĩnh vực Văn hóa - Thông tin; | M25: =L25/MIN($L:$L) -> 0
C26: Văn hóa; gia đình; du lịch; quảng cáo; phát thanh truyền hình; báo chí. | M26: =L26/MIN($L:$L) -> 0
M27: =L27/MIN($L:$L) -> 0
M28: =L28/MIN($L:$L) -> 0
M29: =L29/MIN($L:$L) -> 0
M30: =L30/MIN($L:$L) -> 0
C31: Du lịch; quảng cáo; phát thanh truyền hình; báo chí. | M31: =L31/MIN($L:$L) -> 0
M32: =L32/MIN($L:$L) -> 0
M33: =L33/MIN($L:$L) -> 0
B34: Thực hiện các nhiệm vụ khác do cấp trên phân công | M34: =L34/MIN($L:$L) -> 0
C35: Lãnh đạo cơ quan phân công | M35: =L35/MIN($L:$L) -> 0

Sheet KPI CV2 - LDXH
A1: KẾT QUẢ THỰC HIỆN NHIỆM VỤ (KPI)
A2: Quý …., Năm …. | R2: Nguyễn Hùng Cường | kinhcan24 | blognhansu.net.vn
A3: Họ và tên:…………………………..…....................................... Ngày sinh: ………………………........
A4: Vị trí: | E4: ='Co cau P VHXH'!M4 -> Chuyên viên 2 - Lao động XH
A5: Đơn vị công tác: | E5: Phòng công tác xã hội
A7: TT | B7: NHIỆM VỤ ĐỀ RA KẾ HOẠCH | K7: THỰC TẾ TRIỂN KHAI
B8: Nhiệm vụ | F8: Sản phẩm | G8: Số lượng | H8: Tiến độ | I8: Hệ số quy đổi | J8: Số lượng quy đổi | K8: KPI | M8: KPI | O8: KPI | Q8: Lãnh đạo, chỉ đạo, điều hành
K9: (Số lượng) | M9: (Chất lượng) | O9: (Tiến độ)
K10: Thực tế hoàn thành | L10: Quy đổi | M10: Thực tế hoàn thành | N10: Quy đổi | O10: Thực tế hoàn thành | P10: Quy đổi | Q10: Thực tế hoàn thành | R10: Quy đổi
B11: ='DMCV CV2 - LDXH'!B10 -> Phụ trách Lĩnh vực Xã hội - Lao động:
C12: ='DMCV CV2 - LDXH'!C11 -> Công tác bảo trợ xã hội; | F12: ='DMCV CV2 - LDXH'!H11 -> 0 | G12: ='DMCV CV2 - LDXH'!I11 -> 0 | H12: ='DMCV CV2 - LDXH'!J11 -> 0 | I12: ='DMCV CV2 - LDXH'!M11 -> 0 | J12: =I12*G12 -> 0 | L12: =K12/G12*J12 -> #DIV/0! | N12: =M12/G12*J12 -> #DIV/0! | P12: =O12/G12*J12 -> #DIV/0! | R12: =Q12/G12*J12 -> #DIV/0!
D13: ='DMCV CV2 - LDXH'!D12 -> 0 | F13: ='DMCV CV2 - LDXH'!H12 -> 0 | G13: ='DMCV CV2 - LDXH'!I12 -> 0 | H13: ='DMCV CV2 - LDXH'!J12 -> 0 | I13: ='DMCV CV2 - LDXH'!M12 -> 1 | J13: =I13*G13 -> 0 | L13: =K13/G13*J13 -> #DIV/0! | N13: =M13/G13*J13 -> #DIV/0! | P13: =O13/G13*J13 -> #DIV/0! | R13: =Q13/G13*J13 -> #DIV/0!
D14: ='DMCV CV2 - LDXH'!D13 -> 0 | F14: ='DMCV CV2 - LDXH'!H13 -> 0 | G14: ='DMCV CV2 - LDXH'!I13 -> 0 | H14: ='DMCV CV2 - LDXH'!J13 -> 0 | I14: ='DMCV CV2 - LDXH'!M13 -> 5 | J14: =I14*G14 -> 0 | L14: =K14/G14*J14 -> #DIV/0! | N14: =M14/G14*J14 -> #DIV/0! | P14: =O14/G14*J14 -> #DIV/0! | R14: =Q14/G14*J14 -> #DIV/0!
D15: ='DMCV CV2 - LDXH'!D14 -> 0 | F15: ='DMCV CV2 - LDXH'!H14 -> 0 | G15: ='DMCV CV2 - LDXH'!I14 -> 0 | H15: ='DMCV CV2 - LDXH'!J14 -> 0 | I15: ='DMCV CV2 - LDXH'!M14 -> 0 | J15: =I15*G15 -> 0 | L15: =K15/G15*J15 -> #DIV/0! | N15: =M15/G15*J15 -> #DIV/0! | P15: =O15/G15*J15 -> #DIV/0! | R15: =Q15/G15*J15 -> #DIV/0!
C16: ='DMCV CV2 - LDXH'!C15 -> Phòng chống tệ nạn xã hội; | F16: ='DMCV CV2 - LDXH'!H15 -> 0 | G16: ='DMCV CV2 - LDXH'!I15 -> 0 | H16: ='DMCV CV2 - LDXH'!J15 -> 0 | I16: ='DMCV CV2 - LDXH'!M15 -> 0 | J16: =I16*G16 -> 0 | L16: =K16/G16*J16 -> #DIV/0! | N16: =M16/G16*J16 -> #DIV/0! | P16: =O16/G16*J16 -> #DIV/0! | R16: =Q16/G16*J16 -> #DIV/0!
D17: ='DMCV CV2 - LDXH'!D16 -> 0 | F17: ='DMCV CV2 - LDXH'!H16 -> 0 | G17: ='DMCV CV2 - LDXH'!I16 -> 0 | H17: ='DMCV CV2 - LDXH'!J16 -> 0 | I17: ='DMCV CV2 - LDXH'!M16 -> 0 | J17: =I17*G17 -> 0 | L17: =K17/G17*J17 -> #DIV/0! | N17: =M17/G17*J17 -> #DIV/0! | P17: =O17/G17*J17 -> #DIV/0! | R17: =Q17/G17*J17 -> #DIV/0!
D18: ='DMCV CV2 - LDXH'!D17 -> 0 | F18: ='DMCV CV2 - LDXH'!H17 -> 0 | G18: ='DMCV CV2 - LDXH'!I17 -> 0 | H18: ='DMCV CV2 - LDXH'!J17 -> 0 | I18: ='DMCV CV2 - LDXH'!M17 -> 0 | J18: =I18*G18 -> 0 | L18: =K18/G18*J18 -> #DIV/0! | N18: =M18/G18*J18 -> #DIV/0! | P18: =O18/G18*J18 -> #DIV/0! | R18: =Q18/G18*J18 -> #DIV/0!
D19: ='DMCV CV2 - LDXH'!D18 -> 0 | F19: ='DMCV CV2 - LDXH'!H18 -> 0 | G19: ='DMCV CV2 - LDXH'!I18 -> 0 | H19: ='DMCV CV2 - LDXH'!J18 -> 0 | I19: ='DMCV CV2 - LDXH'!M18 -> 0 | J19: =I19*G19 -> 0 | L19: =K19/G19*J19 -> #DIV/0! | N19: =M19/G19*J19 -> #DIV/0! | P19: =O19/G19*J19 -> #DIV/0! | R19: =Q19/G19*J19 -> #DIV/0!
D20: ='DMCV CV2 - LDXH'!D19 -> 0 | F20: ='DMCV CV2 - LDXH'!H19 -> 0 | G20: ='DMCV CV2 - LDXH'!I19 -> 0 | H20: ='DMCV CV2 - LDXH'!J19 -> 0 | I20: ='DMCV CV2 - LDXH'!M19 -> 0 | J20: =I20*G20 -> 0 | L20: =K20/G20*J20 -> #DIV/0! | N20: =M20/G20*J20 -> #DIV/0! | P20: =O20/G20*J20 -> #DIV/0! | R20: =Q20/G20*J20 -> #DIV/0!
C21: ='DMCV CV2 - LDXH'!C21 -> Bảo hiểm y tế; bảo hiểm xã hội; | F21: ='DMCV CV2 - LDXH'!H21 -> 0 | G21: ='DMCV CV2 - LDXH'!I21 -> 0 | H21: ='DMCV CV2 - LDXH'!J21 -> 0 | I21: ='DMCV CV2 - LDXH'!M21 -> 0 | J21: =I21*G21 -> 0 | L21: =K21/G21*J21 -> #DIV/0! | N21: =M21/G21*J21 -> #DIV/0! | P21: =O21/G21*J21 -> #DIV/0! | R21: =Q21/G21*J21 -> #DIV/0!
D22: ='DMCV CV2 - LDXH'!D22 -> 0 | F22: ='DMCV CV2 - LDXH'!H22 -> 0 | G22: ='DMCV CV2 - LDXH'!I22 -> 0 | H22: ='DMCV CV2 - LDXH'!J22 -> 0 | I22: ='DMCV CV2 - LDXH'!M22 -> 0 | J22: =I22*G22 -> 0 | L22: =K22/G22*J22 -> #DIV/0! | N22: =M22/G22*J22 -> #DIV/0! | P22: =O22/G22*J22 -> #DIV/0! | R22: =Q22/G22*J22 -> #DIV/0!
D23: ='DMCV CV2 - LDXH'!D23 -> 0 | F23: ='DMCV CV2 - LDXH'!H23 -> 0 | G23: ='DMCV CV2 - LDXH'!I23 -> 0 | H23: ='DMCV CV2 - LDXH'!J23 -> 0 | I23: ='DMCV CV2 - LDXH'!M23 -> 0 | J23: =I23*G23 -> 0 | L23: =K23/G23*J23 -> #DIV/0! | N23: =M23/G23*J23 -> #DIV/0! | P23: =O23/G23*J23 -> #DIV/0! | R23: =Q23/G23*J23 -> #DIV/0!
D24: ='DMCV CV2 - LDXH'!D24 -> 0 | F24: ='DMCV CV2 - LDXH'!H24 -> 0 | G24: ='DMCV CV2 - LDXH'!I24 -> 0 | H24: ='DMCV CV2 - LDXH'!J24 -> 0 | I24: ='DMCV CV2 - LDXH'!M24 -> 0 | J24: =I24*G24 -> 0 | L24: =K24/G24*J24 -> #DIV/0! | N24: =M24/G24*J24 -> #DIV/0! | P24: =O24/G24*J24 -> #DIV/0! | R24: =Q24/G24*J24 -> #DIV/0!
B25: ='DMCV CV2 - LDXH'!B25 -> Phụ trách Lĩnh vực Văn hóa - Thông tin;
C26: ='DMCV CV2 - LDXH'!C26 -> Văn hóa; gia đình; du lịch; quảng cáo; phát thanh truyền hình; báo chí. | F26: ='DMCV CV2 - LDXH'!H26 -> 0 | G26: ='DMCV CV2 - LDXH'!I26 -> 0 | H26: ='DMCV CV2 - LDXH'!J26 -> 0 | I26: ='DMCV CV2 - LDXH'!M26 -> 0 | J26: =I26*G26 -> 0 | L26: =K26/G26*J26 -> #DIV/0! | N26: =M26/G26*J26 -> #DIV/0! | P26: =O26/G26*J26 -> #DIV/0! | R26: =Q26/G26*J26 -> #DIV/0!
D27: ='DMCV CV2 - LDXH'!D27 -> 0 | F27: ='DMCV CV2 - LDXH'!H27 -> 0 | G27: ='DMCV CV2 - LDXH'!I27 -> 0 | H27: ='DMCV CV2 - LDXH'!J27 -> 0 | I27: ='DMCV CV2 - LDXH'!M27 -> 0 | J27: =I27*G27 -> 0 | L27: =K27/G27*J27 -> #DIV/0! | N27: =M27/G27*J27 -> #DIV/0! | P27: =O27/G27*J27 -> #DIV/0! | R27: =Q27/G27*J27 -> #DIV/0!
D28: ='DMCV CV2 - LDXH'!D28 -> 0 | F28: ='DMCV CV2 - LDXH'!H28 -> 0 | G28: ='DMCV CV2 - LDXH'!I28 -> 0 | H28: ='DMCV CV2 - LDXH'!J28 -> 0 | I28: ='DMCV CV2 - LDXH'!M28 -> 0 | J28: =I28*G28 -> 0 | L28: =K28/G28*J28 -> #DIV/0! | N28: =M28/G28*J28 -> #DIV/0! | P28: =O28/G28*J28 -> #DIV/0! | R28: =Q28/G28*J28 -> #DIV/0!
D29: ='DMCV CV2 - LDXH'!D29 -> 0 | F29: ='DMCV CV2 - LDXH'!H29 -> 0 | G29: ='DMCV CV2 - LDXH'!I29 -> 0 | H29: ='DMCV CV2 - LDXH'!J29 -> 0 | I29: ='DMCV CV2 - LDXH'!M29 -> 0 | J29: =I29*G29 -> 0 | L29: =K29/G29*J29 -> #DIV/0! | N29: =M29/G29*J29 -> #DIV/0! | P29: =O29/G29*J29 -> #DIV/0! | R29: =Q29/G29*J29 -> #DIV/0!
D30: ='DMCV CV2 - LDXH'!D30 -> 0 | F30: ='DMCV CV2 - LDXH'!H30 -> 0 | G30: ='DMCV CV2 - LDXH'!I30 -> 0 | H30: ='DMCV CV2 - LDXH'!J30 -> 0 | I30: ='DMCV CV2 - LDXH'!M30 -> 0 | J30: =I30*G30 -> 0 | L30: =K30/G30*J30 -> #DIV/0! | N30: =M30/G30*J30 -> #DIV/0! | P30: =O30/G30*J30 -> #DIV/0! | R30: =Q30/G30*J30 -> #DIV/0!
C31: ='DMCV CV2 - LDXH'!C31 -> Du lịch; quảng cáo; phát thanh truyền hình; báo chí. | F31: ='DMCV CV2 - LDXH'!H31 -> 0 | G31: ='DMCV CV2 - LDXH'!I31 -> 0 | H31: ='DMCV CV2 - LDXH'!J31 -> 0 | I31: ='DMCV CV2 - LDXH'!M31 -> 0 | J31: =I31*G31 -> 0 | L31: =K31/G31*J31 -> #DIV/0! | N31: =M31/G31*J31 -> #DIV/0! | P31: =O31/G31*J31 -> #DIV/0! | R31: =Q31/G31*J31 -> #DIV/0!
D32: ='DMCV CV2 - LDXH'!D32 -> 0 | F32: ='DMCV CV2 - LDXH'!H32 -> 0 | G32: ='DMCV CV2 - LDXH'!I32 -> 0 | H32: ='DMCV CV2 - LDXH'!J32 -> 0 | I32: ='DMCV CV2 - LDXH'!M32 -> 0 | J32: =I32*G32 -> 0 | L32: =K32/G32*J32 -> #DIV/0! | N32: =M32/G32*J32 -> #DIV/0! | P32: =O32/G32*J32 -> #DIV/0! | R32: =Q32/G32*J32 -> #DIV/0!
D33: ='DMCV CV2 - LDXH'!D33 -> 0 | F33: ='DMCV CV2 - LDXH'!H33 -> 0 | G33: ='DMCV CV2 - LDXH'!I33 -> 0 | H33: ='DMCV CV2 - LDXH'!J33 -> 0 | I33: ='DMCV CV2 - LDXH'!M33 -> 0 | J33: =I33*G33 -> 0 | L33: =K33/G33*J33 -> #DIV/0! | N33: =M33/G33*J33 -> #DIV/0! | P33: =O33/G33*J33 -> #DIV/0! | R33: =Q33/G33*J33 -> #DIV/0!
B34: ='DMCV CV2 - LDXH'!B34 -> Thực hiện các nhiệm vụ khác do cấp trên phân công
C35: ='DMCV CV2 - LDXH'!C35 -> Lãnh đạo cơ quan phân công | F35: ='DMCV CV2 - LDXH'!H35 -> 0 | G35: ='DMCV CV2 - LDXH'!I35 -> 0 | H35: ='DMCV CV2 - LDXH'!J35 -> 0 | I35: ='DMCV CV2 - LDXH'!M35 -> 0 | J35: =I35*G35 -> 0 | L35: =K35/G35*J35 -> #DIV/0! | N35: =M35/G35*J35 -> #DIV/0! | P35: =O35/G35*J35 -> #DIV/0! | R35: =Q35/G35*J35 -> #DIV/0!
B36: Tổng | J36: =SUM(J11:J35) -> 0 | L36: =SUM(L11:L35) -> #DIV/0! | N36: =SUM(N11:N35) -> #DIV/0! | P36: =SUM(P11:P35) -> #DIV/0! | R36: =SUM(R11:R35) -> #DIV/0!
B37: Từ bảng trên suy ra:
B38: A = | D38: =L36/J36 -> #DIV/0! | F38: B = | G38: =N36/J36 -> #DIV/0! | I38: C = | J38: =P36/J36 -> #DIV/0! | L38: D = | M38: =R36/J36 -> #DIV/0!
B39: => KPI = (A+B+C+D)/4 = | E39: =(D38+G38+J38+M38)/4 -> #DIV/0!
B41: Như vậy: Tổng điểm = 30 + %KPI x 70 = | F41: =30+E39*70 -> #DIV/0! | G41: điểm

Sheet DMCV CV3 - VT thu quy
A1: BẢNG DANH MỤC SẢN PHẨM CÔNG VIỆC
M2: Nguyễn Hùng Cường | kinhcan24 | blognhansu.net.vn
A3: Quý …., Năm ….
A4: Họ và tên:…………………………..…....................................... Ngày sinh: ………………………........
A5: Vị trí: | E5: ='Co cau P VHXH'!N4 -> Chuyên viên 3 - VT Thủ quỹ
A6: Đơn vị công tác: | E6: Phòng công tác xã hội
A8: TT | B8: Nhiệm vụ | F8: Định mức lao động
F9: Cấp trình | G9: Độ khó, mới, phức tạp; phạm vi tác động | H9: Sản phẩm | I9: Số lượng | J9: Tiến độ/ tần suất | K9: Ghi chú | L9: Điểm chấm công việc | M9: Hệ số quy đổi
B10: Làm chủ tài khoản, quản lý tài chính của phòng; tài sản của cơ quan theo quy định
C11: Công tác thủ quỹ của cơ quan (Phụ trách quỹ phòng, đơn vị). | M11: =L11/MIN($L:$L) -> 0
L12: 100 | M12: =L12/MIN($L:$L) -> 1
L13: 500 | M13: =L13/MIN($L:$L) -> 5
M14: =L14/MIN($L:$L) -> 0
B15: Phụ trách Lĩnh vực Nội vụ, gồm: | M15: =L15/MIN($L:$L) -> 0
C16: Văn thư, lưu trữ nhà nước; | M16: =L16/MIN($L:$L) -> 0
D17: Quản lý con dấu của Phòng Văn hóa xã hội. | M17: =L17/MIN($L:$L) -> 0
D18: Xây dựng và ban hành Giấy mời, văn bản có tính chất đơn giản | M18: =L18/MIN($L:$L) -> 0
D19: Tiếp nhận, chuyển tiếp văn thư, lưu trữ của phòng, đơn vị | M19: =L19/MIN($L:$L) -> 0
D20: Công khai các Thủ tục hành chính theo quyết định công bố của cấp có thẩm quyền | M20: =L20/MIN($L:$L) -> 0
D21: Ghi biên bản các cuộc họp của phòng, đơn vị, cơ quan | M21: =L21/MIN($L:$L) -> 0
D22: Thẩm tra, kiểm tra thể thức, trình tự thủ tục các văn bản trước khi ký ban hành | M22: =L22/MIN($L:$L) -> 0
D23: Tiếp nhận, vào sổ, đăng ký các loại công văn đi, công văn đến theo quy định, chuyển văn bản trên hệ thống văn bản điện tử VNPT-Ioffice, qua bưu điện; chuyển báo chí, tài liệu cho lãnh đạo và chuyển công văn giấy tờ đi cho các cơ quan, đơn vị theo quy định, quản lý con dấu | M23: =L23/MIN($L:$L) -> 0
C24: Phụ trách công tác Công đoàn và vệ sinh cơ quan | M24: =L24/MIN($L:$L) -> 0
M25: =L25/MIN($L:$L) -> 0
M26: =L26/MIN($L:$L) -> 0
M27: =L27/MIN($L:$L) -> 0
B28: Phụ trách Lĩnh vực Xã hội - Lao động: | M28: =L28/MIN($L:$L) -> 0
C29: hội, tổ chức phi chính phủ; | M29: =L29/MIN($L:$L) -> 0
C30: thanh niên; | M30: =L30/MIN($L:$L) -> 0
C31: Người có công; | M31: =L31/MIN($L:$L) -> 0
C32: bình đẳng giới; | M32: =L32/MIN($L:$L) -> 0
B33: Thực hiện các nhiệm vụ khác do cấp trên phân công | M33: =L33/MIN($L:$L) -> 0
C34: Lãnh đạo cơ quan phân công | M34: =L34/MIN($L:$L) -> 0

Sheet KPI CV3 - VT thu quy
A1: KẾT QUẢ THỰC HIỆN NHIỆM VỤ (KPI)
A2: Quý …., Năm …. | R2: Nguyễn Hùng Cường | kinhcan24 | blognhansu.net.vn
A3: Họ và tên:…………………………..…....................................... Ngày sinh: ………………………........
A4: Vị trí: | E4: ='Co cau P VHXH'!N4 -> Chuyên viên 3 - VT Thủ quỹ
A5: Đơn vị công tác: | E5: Phòng công tác xã hội
A7: TT | B7: NHIỆM VỤ ĐỀ RA KẾ HOẠCH | K7: THỰC TẾ TRIỂN KHAI
B8: Nhiệm vụ | F8: Sản phẩm | G8: Số lượng | H8: Tiến độ | I8: Hệ số quy đổi | J8: Số lượng quy đổi | K8: KPI | M8: KPI | O8: KPI | Q8: Lãnh đạo, chỉ đạo, điều hành
K9: (Số lượng) | M9: (Chất lượng) | O9: (Tiến độ)
K10: Thực tế hoàn thành | L10: Quy đổi | M10: Thực tế hoàn thành | N10: Quy đổi | O10: Thực tế hoàn thành | P10: Quy đổi | Q10: Thực tế hoàn thành | R10: Quy đổi
A11: 1 | B11: ='DMCV CV3 - VT thu quy'!B10 -> Làm chủ tài khoản, quản lý tài chính của phòng; tài sản của cơ quan theo quy định
C12: ='DMCV CV3 - VT thu quy'!C11 -> Công tác thủ quỹ của cơ quan (Phụ trách quỹ phòng, đơn vị). | F12: ='DMCV CV3 - VT thu quy'!H11 -> 0 | G12: ='DMCV CV3 - VT thu quy'!I11 -> 0 | H12: ='DMCV CV3 - VT thu quy'!J11 -> 0 | I12: ='DMCV CV3 - VT thu quy'!M11 -> 0 | J12: =I12*G12 -> 0 | L12: =K12/G12*J12 -> #DIV/0! | N12: =M12/G12*J12 -> #DIV/0! | P12: =O12/G12*J12 -> #DIV/0! | R12: =Q12/G12*J12 -> #DIV/0!
D13: ='DMCV CV3 - VT thu quy'!D12 -> 0 | F13: ='DMCV CV3 - VT thu quy'!H12 -> 0 | G13: ='DMCV CV3 - VT thu quy'!I12 -> 0 | H13: ='DMCV CV3 - VT thu quy'!J12 -> 0 | I13: ='DMCV CV3 - VT thu quy'!M12 -> 1 | J13: =I13*G13 -> 0 | L13: =K13/G13*J13 -> #DIV/0! | N13: =M13/G13*J13 -> #DIV/0! | P13: =O13/G13*J13 -> #DIV/0! | R13: =Q13/G13*J13 -> #DIV/0!
D14: ='DMCV CV3 - VT thu quy'!D13 -> 0 | F14: ='DMCV CV3 - VT thu quy'!H13 -> 0 | G14: ='DMCV CV3 - VT thu quy'!I13 -> 0 | H14: ='DMCV CV3 - VT thu quy'!J13 -> 0 | I14: ='DMCV CV3 - VT thu quy'!M13 -> 5 | J14: =I14*G14 -> 0 | L14: =K14/G14*J14 -> #DIV/0! | N14: =M14/G14*J14 -> #DIV/0! | P14: =O14/G14*J14 -> #DIV/0! | R14: =Q14/G14*J14 -> #DIV/0!
D15: ='DMCV CV3 - VT thu quy'!D14 -> 0 | F15: ='DMCV CV3 - VT thu quy'!H14 -> 0 | G15: ='DMCV CV3 - VT thu quy'!I14 -> 0 | H15: ='DMCV CV3 - VT thu quy'!J14 -> 0 | I15: ='DMCV CV3 - VT thu quy'!M14 -> 0 | J15: =I15*G15 -> 0 | L15: =K15/G15*J15 -> #DIV/0! | N15: =M15/G15*J15 -> #DIV/0! | P15: =O15/G15*J15 -> #DIV/0! | R15: =Q15/G15*J15 -> #DIV/0!
B16: ='DMCV CV3 - VT thu quy'!B15 -> Phụ trách Lĩnh vực Nội vụ, gồm: | F16: ='DMCV CV3 - VT thu quy'!H15 -> 0 | G16: ='DMCV CV3 - VT thu quy'!I15 -> 0 | H16: ='DMCV CV3 - VT thu quy'!J15 -> 0 | I16: ='DMCV CV3 - VT thu quy'!M15 -> 0 | J16: =I16*G16 -> 0 | L16: =K16/G16*J16 -> #DIV/0! | N16: =M16/G16*J16 -> #DIV/0! | P16: =O16/G16*J16 -> #DIV/0! | R16: =Q16/G16*J16 -> #DIV/0!
C17: ='DMCV CV3 - VT thu quy'!C16 -> Văn thư, lưu trữ nhà nước; | F17: ='DMCV CV3 - VT thu quy'!H16 -> 0 | G17: ='DMCV CV3 - VT thu quy'!I16 -> 0 | H17: ='DMCV CV3 - VT thu quy'!J16 -> 0 | I17: ='DMCV CV3 - VT thu quy'!M16 -> 0 | J17: =I17*G17 -> 0 | L17: =K17/G17*J17 -> #DIV/0! | N17: =M17/G17*J17 -> #DIV/0! | P17: =O17/G17*J17 -> #DIV/0! | R17: =Q17/G17*J17 -> #DIV/0!
D18: ='DMCV CV3 - VT thu quy'!D17 -> Quản lý con dấu của Phòng Văn hóa xã hội. | F18: ='DMCV CV3 - VT thu quy'!H17 -> 0 | G18: ='DMCV CV3 - VT thu quy'!I17 -> 0 | H18: ='DMCV CV3 - VT thu quy'!J17 -> 0 | I18: ='DMCV CV3 - VT thu quy'!M17 -> 0 | J18: =I18*G18 -> 0 | L18: =K18/G18*J18 -> #DIV/0! | N18: =M18/G18*J18 -> #DIV/0! | P18: =O18/G18*J18 -> #DIV/0! | R18: =Q18/G18*J18 -> #DIV/0!
D19: ='DMCV CV3 - VT thu quy'!D18 -> Xây dựng và ban hành Giấy mời, văn bản có tính chất đơn giản | F19: ='DMCV CV3 - VT thu quy'!H18 -> 0 | G19: ='DMCV CV3 - VT thu quy'!I18 -> 0 | H19: ='DMCV CV3 - VT thu quy'!J18 -> 0 | I19: ='DMCV CV3 - VT thu quy'!M18 -> 0 | J19: =I19*G19 -> 0 | L19: =K19/G19*J19 -> #DIV/0! | N19: =M19/G19*J19 -> #DIV/0! | P19: =O19/G19*J19 -> #DIV/0! | R19: =Q19/G19*J19 -> #DIV/0!
D20: ='DMCV CV3 - VT thu quy'!D19 -> Tiếp nhận, chuyển tiếp văn thư, lưu trữ của phòng, đơn vị | F20: ='DMCV CV3 - VT thu quy'!H19 -> 0 | G20: ='DMCV CV3 - VT thu quy'!I19 -> 0 | H20: ='DMCV CV3 - VT thu quy'!J19 -> 0 | I20: ='DMCV CV3 - VT thu quy'!M19 -> 0 | J20: =I20*G20 -> 0 | L20: =K20/G20*J20 -> #DIV/0! | N20: =M20/G20*J20 -> #DIV/0! | P20: =O20/G20*J20 -> #DIV/0! | R20: =Q20/G20*J20 -> #DIV/0!
D21: ='DMCV CV3 - VT thu quy'!D20 -> Công khai các Thủ tục hành chính theo quyết định công bố của cấp có thẩm quyền | F21: ='DMCV CV3 - VT thu quy'!H20 -> 0 | G21: ='DMCV CV3 - VT thu quy'!I20 -> 0 | H21: ='DMCV CV3 - VT thu quy'!J20 -> 0 | I21: ='DMCV CV3 - VT thu quy'!M20 -> 0 | J21: =I21*G21 -> 0 | L21: =K21/G21*J21 -> #DIV/0! | N21: =M21/G21*J21 -> #DIV/0! | P21: =O21/G21*J21 -> #DIV/0! | R21: =Q21/G21*J21 -> #DIV/0!
D22: ='DMCV CV3 - VT thu quy'!D21 -> Ghi biên bản các cuộc họp của phòng, đơn vị, cơ quan | F22: ='DMCV CV3 - VT thu quy'!H21 -> 0 | G22: ='DMCV CV3 - VT thu quy'!I21 -> 0 | H22: ='DMCV CV3 - VT thu quy'!J21 -> 0 | I22: ='DMCV CV3 - VT thu quy'!M21 -> 0 | J22: =I22*G22 -> 0 | L22: =K22/G22*J22 -> #DIV/0! | N22: =M22/G22*J22 -> #DIV/0! | P22: =O22/G22*J22 -> #DIV/0! | R22: =Q22/G22*J22 -> #DIV/0!
D23: ='DMCV CV3 - VT thu quy'!D22 -> Thẩm tra, kiểm tra thể thức, trình tự thủ tục các văn bản trước khi ký ban hành | F23: ='DMCV CV3 - VT thu quy'!H22 -> 0 | G23: ='DMCV CV3 - VT thu quy'!I22 -> 0 | H23: ='DMCV CV3 - VT thu quy'!J22 -> 0 | I23: ='DMCV CV3 - VT thu quy'!M22 -> 0 | J23: =I23*G23 -> 0 | L23: =K23/G23*J23 -> #DIV/0! | N23: =M23/G23*J23 -> #DIV/0! | P23: =O23/G23*J23 -> #DIV/0! | R23: =Q23/G23*J23 -> #DIV/0!
D24: ='DMCV CV3 - VT thu quy'!D23 -> Tiếp nhận, vào sổ, đăng ký các loại công văn đi, công văn đến theo quy định, chuyển văn bản trên hệ thống văn bản điện tử VNPT-Ioffice, qua bưu điện; chuyển báo chí, tài liệu cho lãnh đạo và chuyển công văn giấy tờ đi cho các cơ quan, đơn vị theo quy định, quản lý con dấu | F24: ='DMCV CV3 - VT thu quy'!H23 -> 0 | G24: ='DMCV CV3 - VT thu quy'!I23 -> 0 | H24: ='DMCV CV3 - VT thu quy'!J23 -> 0 | I24: ='DMCV CV3 - VT thu quy'!M23 -> 0 | J24: =I24*G24 -> 0 | L24: =K24/G24*J24 -> #DIV/0! | N24: =M24/G24*J24 -> #DIV/0! | P24: =O24/G24*J24 -> #DIV/0! | R24: =Q24/G24*J24 -> #DIV/0!
C25: ='DMCV CV3 - VT thu quy'!C24 -> Phụ trách công tác Công đoàn và vệ sinh cơ quan | F25: ='DMCV CV3 - VT thu quy'!H24 -> 0 | G25: ='DMCV CV3 - VT thu quy'!I24 -> 0 | H25: ='DMCV CV3 - VT thu quy'!J24 -> 0 | I25: ='DMCV CV3 - VT thu quy'!M24 -> 0 | J25: =I25*G25 -> 0 | L25: =K25/G25*J25 -> #DIV/0! | N25: =M25/G25*J25 -> #DIV/0! | P25: =O25/G25*J25 -> #DIV/0! | R25: =Q25/G25*J25 -> #DIV/0!
D26: ='DMCV CV3 - VT thu quy'!D25 -> 0 | F26: ='DMCV CV3 - VT thu quy'!H25 -> 0 | G26: ='DMCV CV3 - VT thu quy'!I25 -> 0 | H26: ='DMCV CV3 - VT thu quy'!J25 -> 0 | I26: ='DMCV CV3 - VT thu quy'!M25 -> 0 | J26: =I26*G26 -> 0 | L26: =K26/G26*J26 -> #DIV/0! | N26: =M26/G26*J26 -> #DIV/0! | P26: =O26/G26*J26 -> #DIV/0! | R26: =Q26/G26*J26 -> #DIV/0!
D27: ='DMCV CV3 - VT thu quy'!D26 -> 0 | F27: ='DMCV CV3 - VT thu quy'!H26 -> 0 | G27: ='DMCV CV3 - VT thu quy'!I26 -> 0 | H27: ='DMCV CV3 - VT thu quy'!J26 -> 0 | I27: ='DMCV CV3 - VT thu quy'!M26 -> 0 | J27: =I27*G27 -> 0 | L27: =K27/G27*J27 -> #DIV/0! | N27: =M27/G27*J27 -> #DIV/0! | P27: =O27/G27*J27 -> #DIV/0! | R27: =Q27/G27*J27 -> #DIV/0!
D28: ='DMCV CV3 - VT thu quy'!D27 -> 0 | F28: ='DMCV CV3 - VT thu quy'!H27 -> 0 | G28: ='DMCV CV3 - VT thu quy'!I27 -> 0 | H28: ='DMCV CV3 - VT thu quy'!J27 -> 0 | I28: ='DMCV CV3 - VT thu quy'!M27 -> 0 | J28: =I28*G28 -> 0 | L28: =K28/G28*J28 -> #DIV/0! | N28: =M28/G28*J28 -> #DIV/0! | P28: =O28/G28*J28 -> #DIV/0! | R28: =Q28/G28*J28 -> #DIV/0!
B29: ='DMCV CV3 - VT thu quy'!B28 -> Phụ trách Lĩnh vực Xã hội - Lao động:
C30: ='DMCV CV3 - VT thu quy'!C29 -> hội, tổ chức phi chính phủ; | F30: ='DMCV CV3 - VT thu quy'!H29 -> 0 | G30: ='DMCV CV3 - VT thu quy'!I29 -> 0 | H30: ='DMCV CV3 - VT thu quy'!J29 -> 0 | I30: ='DMCV CV3 - VT thu quy'!M29 -> 0 | J30: =I30*G30 -> 0 | L30: =K30/G30*J30 -> #DIV/0! | N30: =M30/G30*J30 -> #DIV/0! | P30: =O30/G30*J30 -> #DIV/0! | R30: =Q30/G30*J30 -> #DIV/0!
C31: ='DMCV CV3 - VT thu quy'!C30 -> thanh niên; | F31: ='DMCV CV3 - VT thu quy'!H30 -> 0 | G31: ='DMCV CV3 - VT thu quy'!I30 -> 0 | H31: ='DMCV CV3 - VT thu quy'!J30 -> 0 | I31: ='DMCV CV3 - VT thu quy'!M30 -> 0 | J31: =I31*G31 -> 0 | L31: =K31/G31*J31 -> #DIV/0! | N31: =M31/G31*J31 -> #DIV/0! | P31: =O31/G31*J31 -> #DIV/0! | R31: =Q31/G31*J31 -> #DIV/0!
C32: ='DMCV CV3 - VT thu quy'!C31 -> Người có công; | F32: ='DMCV CV3 - VT thu quy'!H31 -> 0 | G32: ='DMCV CV3 - VT thu quy'!I31 -> 0 | H32: ='DMCV CV3 - VT thu quy'!J31 -> 0 | I32: ='DMCV CV3 - VT thu quy'!M31 -> 0 | J32: =I32*G32 -> 0 | L32: =K32/G32*J32 -> #DIV/0! | N32: =M32/G32*J32 -> #DIV/0! | P32: =O32/G32*J32 -> #DIV/0! | R32: =Q32/G32*J32 -> #DIV/0!
C33: ='DMCV CV3 - VT thu quy'!C32 -> bình đẳng giới; | F33: ='DMCV CV3 - VT thu quy'!H32 -> 0 | G33: ='DMCV CV3 - VT thu quy'!I32 -> 0 | H33: ='DMCV CV3 - VT thu quy'!J32 -> 0 | I33: ='DMCV CV3 - VT thu quy'!M32 -> 0 | J33: =I33*G33 -> 0 | L33: =K33/G33*J33 -> #DIV/0! | N33: =M33/G33*J33 -> #DIV/0! | P33: =O33/G33*J33 -> #DIV/0! | R33: =Q33/G33*J33 -> #DIV/0!
B34: ='DMCV CV3 - VT thu quy'!B33 -> Thực hiện các nhiệm vụ khác do cấp trên phân công
C35: ='DMCV CV3 - VT thu quy'!C34 -> Lãnh đạo cơ quan phân công | F35: ='DMCV CV3 - VT thu quy'!H34 -> 0 | G35: ='DMCV CV3 - VT thu quy'!I34 -> 0 | H35: ='DMCV CV3 - VT thu quy'!J34 -> 0 | I35: ='DMCV CV3 - VT thu quy'!M34 -> 0 | J35: =I35*G35 -> 0 | L35: =K35/G35*J35 -> #DIV/0! | N35: =M35/G35*J35 -> #DIV/0! | P35: =O35/G35*J35 -> #DIV/0! | R35: =Q35/G35*J35 -> #DIV/0!
B36: Tổng | J36: =SUM(J11:J35) -> 0 | L36: =SUM(L11:L35) -> #DIV/0! | N36: =SUM(N11:N35) -> #DIV/0! | P36: =SUM(P11:P35) -> #DIV/0! | R36: =SUM(R11:R35) -> #DIV/0!
B37: Từ bảng trên suy ra:
B38: A = | D38: =L36/J36 -> #DIV/0! | F38: B = | G38: =N36/J36 -> #DIV/0! | I38: C = | J38: =P36/J36 -> #DIV/0! | L38: D = | M38: =R36/J36 -> #DIV/0!
B39: => KPI = (A+B+C+D)/4 = | E39: =(D38+G38+J38+M38)/4 -> #DIV/0!
B41: Như vậy: Tổng điểm = 30 + %KPI x 70 = | F41: =30+E39*70 -> #DIV/0! | G41: điểm

Sheet DMCV CB HĐKCT
A1: BẢNG DANH MỤC SẢN PHẨM CÔNG VIỆC
M2: Nguyễn Hùng Cường | kinhcan24 | blognhansu.net.vn
A3: Quý …., Năm ….
A4: Họ và tên:…………………………..…....................................... Ngày sinh: ………………………........
A5: Vị trí: | E5: ='Co cau P VHXH'!O4 -> HĐKCT
A6: Đơn vị công tác: | E6: Phòng công tác xã hội
A8: TT | B8: Nhiệm vụ | F8: Định mức lao động
F9: Cấp trình | G9: Độ khó, mới, phức tạp; phạm vi tác động | H9: Sản phẩm | I9: Số lượng | J9: Tiến độ/ tần suất | K9: Ghi chú | L9: Điểm chấm công việc | M9: Hệ số quy đổi
B10: Phụ trách Lĩnh vực Nội vụ, gồm:
D11: Cải cách hành chính (kế hoạch, báo cáo, chấm điểm, các nhiệm vụ khác về CCHC) | I11: 1 | L11: 100 | M11: =L11/MIN($L:$L) -> 1
C12: Thi đua, khen thưởng; | I12: 1 | J12: Hàng năm | L12: 100 | M12: =L12/MIN($L:$L) -> 1
D13: Đánh giá, xếp loại, thi đua, khen thưởng | I13: 1 | J13: Háng tháng | L13: 500 | M13: =L13/MIN($L:$L) -> 5
B14: Phụ trách Lĩnh vực Xã hội - Lao động: | M14: =L14/MIN($L:$L) -> 0
C15: lao động, tiền lương; | M15: =L15/MIN($L:$L) -> 0
D16: Quản lý nội quy lao động (Đăng ký nội quy lao động của doanh nghiệp) - thực hiện theo Quyết định số 628/QĐ-BNV ngày 20/6/2025 của Bộ Nội Vụ
E17: Tiếp nhận hồ sơ (nội quy lao động) qua cổng thông tin Dịch vụ công trực tuyến hoặc trực tiếp đến cơ quan chuyên môn hoặc qua đường bưu điện | G17: Chỉ đơn thuần nhận | H17: Bộ hồ sơ đăng ký nội quy lao động | I17: 15 | J17: Hàng ngày | K17: Đây là điểm chuẩn (điểm thấp nhất) | L17: 100 | M17: =L17/MIN($L:$L) -> 1
E18: Kiểm tra thành phần hồ sơ | G18: Việc tương đối khó do phải xem nội quy có phù hợp với luật | H18: Quyết định duyệt hồ sơ | I18: =I19 -> 45 | J18: Hàng ngày | L18: 200 | M18: =L18/MIN($L:$L) -> 2
E19: Thông báo và hướng dẫn người sử dụng lao động sửa đổi, bổ sung, đăng ký lại nội quy lao động (nếu nội dung nội quy lao động có quy định trái với pháp luật) | G19: Việc này tương đối dễ nhưng do phải hướng dẫn đi hướng dẫn lại nên mức độ mệt mỏi khá cao | H19: Phiếu thông báo kết quả kiểm tra hồ sơ | I19: =I17*3 -> 45 | J19: Hàng ngày | L19: 150 | M19: =L19/MIN($L:$L) -> 1.5
E20: Trả kết quả và quyết định công nhận | F20: Trưởng phòng | G20: Việc này dễ | H20: Phiếu quyết định công nhận | I20: =I17 -> 15 | J20: Hàng ngày | L20: 120 | M20: =L20/MIN($L:$L) -> 1.2
C21: việc làm; | I21: 1 | L21: 100 | M21: =L21/MIN($L:$L) -> 1
C22: an toàn, vệ sinh lao động. | I22: 1 | L22: 100 | M22: =L22/MIN($L:$L) -> 1
B23: Thực hiện các nhiệm vụ khác do cấp trên phân công | M23: =L23/MIN($L:$L) -> 0
C24: Lãnh đạo cơ quan phân công | I24: 1 | L24: 100 | M24: =L24/MIN($L:$L) -> 1

Sheet KPI CB HĐKCT
A1: KẾT QUẢ THỰC HIỆN NHIỆM VỤ (KPI) THÁNG …
A2: Quý …., Năm …. | R2: Nguyễn Hùng Cường | kinhcan24 | blognhansu.net.vn
A3: Họ và tên:…………………………..…....................................... Ngày sinh: ………………………........
A4: Vị trí: | E4: ='Co cau P VHXH'!O4 -> HĐKCT
A5: Đơn vị công tác: | E5: Phòng công tác xã hội
A7: TT | B7: NHIỆM VỤ ĐỀ RA KẾ HOẠCH | K7: THỰC TẾ TRIỂN KHAI
B8: Nhiệm vụ | F8: Sản phẩm | G8: Số lượng | H8: Tiến độ | I8: Hệ số quy đổi | J8: Số lượng quy đổi | K8: KPI - A | M8: KPI - B | O8: KPI - C | Q8: Lãnh đạo, chỉ đạo, điều hành
K9: (Số lượng) | M9: (Chất lượng) | O9: (Tiến độ)
K10: Thực tế hoàn thành | L10: Quy đổi | M10: Thực tế hoàn thành | N10: Quy đổi | O10: Thực tế hoàn thành | P10: Quy đổi | Q10: Thực tế hoàn thành | R10: Quy đổi
B11: ='DMCV CB HĐKCT'!B10 -> Phụ trách Lĩnh vực Nội vụ, gồm: | T11: s
D12: ='DMCV CB HĐKCT'!D11 -> Cải cách hành chính (kế hoạch, báo cáo, chấm điểm, các nhiệm vụ khác về CCHC) | F12: ='DMCV CB HĐKCT'!H11 -> 0 | G12: ='DMCV CB HĐKCT'!I11 -> 1 | H12: ='DMCV CB HĐKCT'!J11 -> 0 | I12: ='DMCV CB HĐKCT'!M11 -> 1 | J12: =I12*G12 -> 1 | K12: 1 | L12: =K12/G12*J12 -> 1 | M12: 1 | N12: =M12/G12*J12 -> 1 | O12: 1 | P12: =O12/G12*J12 -> 1 | Q12: 1 | R12: =Q12/G12*J12 -> 1
C13: ='DMCV CB HĐKCT'!C12 -> Thi đua, khen thưởng; | F13: ='DMCV CB HĐKCT'!H12 -> 0 | G13: ='DMCV CB HĐKCT'!I12 -> 1 | H13: ='DMCV CB HĐKCT'!J12 -> Hàng năm | I13: ='DMCV CB HĐKCT'!M12 -> 1 | J13: =I13*G13 -> 1 | K13: 1 | L13: =K13/G13*J13 -> 1 | M13: 1 | N13: =M13/G13*J13 -> 1 | O13: 1 | P13: =O13/G13*J13 -> 1 | Q13: 1 | R13: =Q13/G13*J13 -> 1
D14: ='DMCV CB HĐKCT'!D13 -> Đánh giá, xếp loại, thi đua, khen thưởng | F14: ='DMCV CB HĐKCT'!H13 -> 0 | G14: ='DMCV CB HĐKCT'!I13 -> 1 | H14: ='DMCV CB HĐKCT'!J13 -> Háng tháng | I14: ='DMCV CB HĐKCT'!M13 -> 5 | J14: =I14*G14 -> 5 | K14: 1 | L14: =K14/G14*J14 -> 5 | M14: 1 | N14: =M14/G14*J14 -> 5 | O14: 1 | P14: =O14/G14*J14 -> 5 | Q14: 1 | R14: =Q14/G14*J14 -> 5
B15: ='DMCV CB HĐKCT'!B14 -> Phụ trách Lĩnh vực Xã hội - Lao động:
C16: ='DMCV CB HĐKCT'!C15 -> lao động, tiền lương;
D17: ='DMCV CB HĐKCT'!D16 -> Quản lý nội quy lao động (Đăng ký nội quy lao động của doanh nghiệp) - thực hiện theo Quyết định số 628/QĐ-BNV ngày 20/6/2025 của Bộ Nội Vụ
E18: ='DMCV CB HĐKCT'!E17 -> Tiếp nhận hồ sơ (nội quy lao động) qua cổng thông tin Dịch vụ công trực tuyến hoặc trực tiếp đến cơ quan chuyên môn hoặc qua đường bưu điện | F18: ='DMCV CB HĐKCT'!H17 -> Bộ hồ sơ đăng ký nội quy lao động | G18: ='DMCV CB HĐKCT'!I17 -> 15 | H18: ='DMCV CB HĐKCT'!J17 -> Hàng ngày | I18: ='DMCV CB HĐKCT'!M17 -> 1 | J18: =I18*G18 -> 15 | K18: 20 | L18: =K18/G18*J18 -> 20 | M18: 15 | N18: =M18/G18*J18 -> 15 | O18: 20 | P18: =O18/G18*J18 -> 20 | Q18: 10 | R18: =Q18/G18*J18 -> 10
E19: ='DMCV CB HĐKCT'!E18 -> Kiểm tra thành phần hồ sơ | F19: ='DMCV CB HĐKCT'!H18 -> Quyết định duyệt hồ sơ | G19: ='DMCV CB HĐKCT'!I18 -> 45 | H19: ='DMCV CB HĐKCT'!J18 -> Hàng ngày | I19: ='DMCV CB HĐKCT'!M18 -> 2 | J19: =I19*G19 -> 90 | K19: 80 | L19: =K19/G19*J19 -> 160 | M19: 80 | N19: =M19/G19*J19 -> 160 | O19: 80 | P19: =O19/G19*J19 -> 160 | Q19: 10 | R19: =Q19/G19*J19 -> 20
E20: ='DMCV CB HĐKCT'!E19 -> Thông báo và hướng dẫn người sử dụng lao động sửa đổi, bổ sung, đăng ký lại nội quy lao động (nếu nội dung nội quy lao động có quy định trái với pháp luật) | F20: ='DMCV CB HĐKCT'!H19 -> Phiếu thông báo kết quả kiểm tra hồ sơ | G20: ='DMCV CB HĐKCT'!I19 -> 45 | H20: ='DMCV CB HĐKCT'!J19 -> Hàng ngày | I20: ='DMCV CB HĐKCT'!M19 -> 1.5 | J20: =I20*G20 -> 67.5 | K20: 10 | L20: =K20/G20*J20 -> 15 | M20: 40 | N20: =M20/G20*J20 -> 60 | O20: 50 | P20: =O20/G20*J20 -> 75 | Q20: 50 | R20: =Q20/G20*J20 -> 75
E21: ='DMCV CB HĐKCT'!E20 -> Trả kết quả và quyết định công nhận | F21: ='DMCV CB HĐKCT'!H20 -> Phiếu quyết định công nhận | G21: ='DMCV CB HĐKCT'!I20 -> 15 | H21: ='DMCV CB HĐKCT'!J20 -> Hàng ngày | I21: ='DMCV CB HĐKCT'!M20 -> 1.2 | J21: =I21*G21 -> 18 | K21: 10 | L21: =K21/G21*J21 -> 12 | M21: 10 | N21: =M21/G21*J21 -> 12 | O21: 20 | P21: =O21/G21*J21 -> 24 | Q21: 10 | R21: =Q21/G21*J21 -> 12
C22: ='DMCV CB HĐKCT'!C21 -> việc làm; | F22: ='DMCV CB HĐKCT'!H21 -> 0 | G22: ='DMCV CB HĐKCT'!I21 -> 1 | H22: ='DMCV CB HĐKCT'!J21 -> 0 | I22: ='DMCV CB HĐKCT'!M21 -> 1 | J22: =I22*G22 -> 1 | K22: 1 | L22: =K22/G22*J22 -> 1 | M22: 1 | N22: =M22/G22*J22 -> 1 | O22: 1 | P22: =O22/G22*J22 -> 1 | Q22: 1 | R22: =Q22/G22*J22 -> 1
C23: ='DMCV CB HĐKCT'!C22 -> an toàn, vệ sinh lao động. | F23: ='DMCV CB HĐKCT'!H22 -> 0 | G23: ='DMCV CB HĐKCT'!I22 -> 1 | H23: ='DMCV CB HĐKCT'!J22 -> 0 | I23: ='DMCV CB HĐKCT'!M22 -> 1 | J23: =I23*G23 -> 1 | K23: 1 | L23: =K23/G23*J23 -> 1 | M23: 1 | N23: =M23/G23*J23 -> 1 | O23: 1 | P23: =O23/G23*J23 -> 1 | Q23: 1 | R23: =Q23/G23*J23 -> 1
B24: ='DMCV CB HĐKCT'!B23 -> Thực hiện các nhiệm vụ khác do cấp trên phân công
C25: ='DMCV CB HĐKCT'!C24 -> Lãnh đạo cơ quan phân công | F25: ='DMCV CB HĐKCT'!H24 -> 0 | G25: ='DMCV CB HĐKCT'!I24 -> 1 | H25: ='DMCV CB HĐKCT'!J24 -> 0 | I25: ='DMCV CB HĐKCT'!M24 -> 1 | J25: =I25*G25 -> 1 | K25: 1 | L25: =K25/G25*J25 -> 1 | M25: 1 | N25: =M25/G25*J25 -> 1 | O25: 1 | P25: =O25/G25*J25 -> 1 | Q25: 1 | R25: =Q25/G25*J25 -> 1
B26: Tổng | J26: =SUM(J11:J25) -> 200.5 | L26: =SUM(L11:L25) -> 217 | N26: =SUM(N11:N25) -> 257 | P26: =SUM(P11:P25) -> 289 | R26: =SUM(R11:R25) -> 127
B27: Từ bảng trên suy ra: | K27: A = | L27: =L26/J26 -> 1.0822943 | M27: B = | N27: =N26/J26 -> 1.2817955 | O27: C = | P27: =P26/J26 -> 1.4413965 | Q27: D = | R27: =R26/J26 -> 0.63341646
B28: => KPI = (A+B+C+D)/4 = | F28: =(L27+N27+P27+R27)/4 -> 1.1097257
B30: Như vậy: Tổng điểm = 30 + %KPI x 70 = | F30: =30+F28*70 -> 107.6808 | G30: điểm

Sheet DMCV HD 111
A1: BẢNG DANH MỤC SẢN PHẨM CÔNG VIỆC
M2: Nguyễn Hùng Cường | kinhcan24 | blognhansu.net.vn
A3: Quý …., Năm ….
A4: Họ và tên:…………………………..…....................................... Ngày sinh: ………………………........
A5: Vị trí: | E5: ='Co cau P VHXH'!P4 -> HĐ 111
A6: Đơn vị công tác: | E6: Phòng công tác xã hội
A8: TT | B8: Nhiệm vụ | F8: Định mức lao động
F9: Cấp trình | G9: Độ khó, mới, phức tạp; phạm vi tác động | H9: Sản phẩm | I9: Số lượng | J9: Tiến độ/ tần suất | K9: Ghi chú | L9: Điểm chấm công việc | M9: Hệ số quy đổi
B10: Phụ trách Lĩnh vực Y tế
C11: Y tế dự phòng; khám bệnh, chữa bệnh, phục hồi chức năng; | M11: =L11/MIN($L:$L) -> 0
C12: Bà mẹ, trẻ em; dân số; | J12: Hàng năm | L12: 100 | M12: =L12/MIN($L:$L) -> 1
C13: Phòng, chống tệ nạn xã hội (không bao gồm cai nghiện ma túy và quản lý sau cai nghiện ma túy); | J13: Háng tháng | L13: 500 | M13: =L13/MIN($L:$L) -> 5
C14: Y dược cổ truyền; dược; mỹ phẩm; | M14: =L14/MIN($L:$L) -> 0
C15: An toàn thực phẩm; thiết bị y tế. | M15: =L15/MIN($L:$L) -> 0
C16: Thiết bị y tế. | M16: =L16/MIN($L:$L) -> 0
B17: Thực hiện các nhiệm vụ khác do cấp trên phân công | M17: =L17/MIN($L:$L) -> 0
C18: Lãnh đạo cơ quan phân công | M18: =L18/MIN($L:$L) -> 0

Sheet KPI CB HD 111
A1: KẾT QUẢ THỰC HIỆN NHIỆM VỤ (KPI)
A2: Quý …., Năm …. | R2: Nguyễn Hùng Cường | kinhcan24 | blognhansu.net.vn
A3: Họ và tên:…………………………..…....................................... Ngày sinh: ………………………........
A4: Vị trí: | E4: ='Co cau P VHXH'!P4 -> HĐ 111
A5: Đơn vị công tác: | E5: Phòng công tác xã hội
A7: TT | B7: NHIỆM VỤ ĐỀ RA KẾ HOẠCH | K7: THỰC TẾ TRIỂN KHAI
B8: Nhiệm vụ | F8: Sản phẩm | G8: Số lượng | H8: Tiến độ | I8: Hệ số quy đổi | J8: Số lượng quy đổi | K8: KPI | M8: KPI | O8: KPI | Q8: Lãnh đạo, chỉ đạo, điều hành
K9: (Số lượng) | M9: (Chất lượng) | O9: (Tiến độ)
K10: Thực tế hoàn thành | L10: Quy đổi | M10: Thực tế hoàn thành | N10: Quy đổi | O10: Thực tế hoàn thành | P10: Quy đổi | Q10: Thực tế hoàn thành | R10: Quy đổi
B11: ='DMCV HD 111'!B10 -> Phụ trách Lĩnh vực Y tế
C12: ='DMCV HD 111'!C11 -> Y tế dự phòng; khám bệnh, chữa bệnh, phục hồi chức năng; | F12: ='DMCV HD 111'!H11 -> 0 | G12: ='DMCV HD 111'!I11 -> 0 | H12: ='DMCV HD 111'!J11 -> 0 | I12: ='DMCV HD 111'!M11 -> 0 | J12: =I12*G12 -> 0 | L12: =K12/G12*J12 -> #DIV/0! | N12: =M12/G12*J12 -> #DIV/0! | P12: =O12/G12*J12 -> #DIV/0! | R12: =Q12/G12*J12 -> #DIV/0!
C13: ='DMCV HD 111'!C12 -> Bà mẹ, trẻ em; dân số; | F13: ='DMCV HD 111'!H12 -> 0 | G13: ='DMCV HD 111'!I12 -> 0 | H13: ='DMCV HD 111'!J12 -> Hàng năm | I13: ='DMCV HD 111'!M12 -> 1 | J13: =I13*G13 -> 0 | L13: =K13/G13*J13 -> #DIV/0! | N13: =M13/G13*J13 -> #DIV/0! | P13: =O13/G13*J13 -> #DIV/0! | R13: =Q13/G13*J13 -> #DIV/0!
C14: ='DMCV HD 111'!C13 -> Phòng, chống tệ nạn xã hội (không bao gồm cai nghiện ma túy và quản lý sau cai nghiện ma túy); | F14: ='DMCV HD 111'!H13 -> 0 | G14: ='DMCV HD 111'!I13 -> 0 | H14: ='DMCV HD 111'!J13 -> Háng tháng | I14: ='DMCV HD 111'!M13 -> 5 | J14: =I14*G14 -> 0 | L14: =K14/G14*J14 -> #DIV/0! | N14: =M14/G14*J14 -> #DIV/0! | P14: =O14/G14*J14 -> #DIV/0! | R14: =Q14/G14*J14 -> #DIV/0!
C15: ='DMCV HD 111'!C14 -> Y dược cổ truyền; dược; mỹ phẩm; | F15: ='DMCV HD 111'!H14 -> 0 | G15: ='DMCV HD 111'!I14 -> 0 | H15: ='DMCV HD 111'!J14 -> 0 | I15: ='DMCV HD 111'!M14 -> 0 | J15: =I15*G15 -> 0 | L15: =K15/G15*J15 -> #DIV/0! | N15: =M15/G15*J15 -> #DIV/0! | P15: =O15/G15*J15 -> #DIV/0! | R15: =Q15/G15*J15 -> #DIV/0!
C16: ='DMCV HD 111'!C15 -> An toàn thực phẩm; thiết bị y tế. | F16: ='DMCV HD 111'!H15 -> 0 | G16: ='DMCV HD 111'!I15 -> 0 | H16: ='DMCV HD 111'!J15 -> 0 | I16: ='DMCV HD 111'!M15 -> 0 | J16: =I16*G16 -> 0 | L16: =K16/G16*J16 -> #DIV/0! | N16: =M16/G16*J16 -> #DIV/0! | P16: =O16/G16*J16 -> #DIV/0! | R16: =Q16/G16*J16 -> #DIV/0!
C17: ='DMCV HD 111'!C16 -> Thiết bị y tế. | F17: ='DMCV HD 111'!H16 -> 0 | G17: ='DMCV HD 111'!I16 -> 0 | H17: ='DMCV HD 111'!J16 -> 0 | I17: ='DMCV HD 111'!M16 -> 0 | J17: =I17*G17 -> 0 | L17: =K17/G17*J17 -> #DIV/0! | N17: =M17/G17*J17 -> #DIV/0! | P17: =O17/G17*J17 -> #DIV/0! | R17: =Q17/G17*J17 -> #DIV/0!
B18: ='DMCV HD 111'!B17 -> Thực hiện các nhiệm vụ khác do cấp trên phân công | F18: ='DMCV HD 111'!H17 -> 0 | G18: ='DMCV HD 111'!I17 -> 0 | H18: ='DMCV HD 111'!J17 -> 0 | I18: ='DMCV HD 111'!M17 -> 0 | J18: =I18*G18 -> 0 | L18: =K18/G18*J18 -> #DIV/0! | N18: =M18/G18*J18 -> #DIV/0! | P18: =O18/G18*J18 -> #DIV/0! | R18: =Q18/G18*J18 -> #DIV/0!
C19: ='DMCV HD 111'!C18 -> Lãnh đạo cơ quan phân công | F19: ='DMCV HD 111'!H18 -> 0 | G19: ='DMCV HD 111'!I18 -> 0 | H19: ='DMCV HD 111'!J18 -> 0 | I19: ='DMCV HD 111'!M18 -> 0 | J19: =I19*G19 -> 0 | L19: =K19/G19*J19 -> #DIV/0! | N19: =M19/G19*J19 -> #DIV/0! | P19: =O19/G19*J19 -> #DIV/0! | R19: =Q19/G19*J19 -> #DIV/0!
B20: Tổng | J20: =SUM(J11:J19) -> 0 | L20: =SUM(L11:L19) -> #DIV/0! | N20: =SUM(N11:N19) -> #DIV/0! | P20: =SUM(P11:P19) -> #DIV/0! | R20: =SUM(R11:R19) -> #DIV/0!
B21: Từ bảng trên suy ra:
B22: A = | D22: =L20/J20 -> #DIV/0! | F22: B = | G22: =N20/J20 -> #DIV/0! | I22: C = | J22: =P20/J20 -> #DIV/0! | L22: D = | M22: =R20/J20 -> #DIV/0!
B23: => KPI = (A+B+C+D)/4 = | E23: =(D22+G22+J22+M22)/4 -> #DIV/0!
B25: Như vậy: Tổng điểm = 30 + %KPI x 70 = | F25: =30+E23*70 -> #DIV/0! | G25: điểm

Sheet DMCV CB Hop dong 1
A1: BẢNG DANH MỤC SẢN PHẨM CÔNG VIỆC
M2: Nguyễn Hùng Cường | kinhcan24 | blognhansu.net.vn
A3: Quý …., Năm ….
A4: Họ và tên:…………………………..…....................................... Ngày sinh: ………………………........
A5: Vị trí: | E5: ='Co cau P VHXH'!Q4 -> Cán bộ HD 1 - TC giáo dục
A6: Đơn vị công tác: | E6: Phòng công tác xã hội
A8: TT | B8: Nhiệm vụ | F8: Định mức lao động
F9: Cấp trình | G9: Độ khó, mới, phức tạp; phạm vi tác động | H9: Sản phẩm | I9: Số lượng | J9: Tiến độ/ tần suất | K9: Ghi chú | L9: Điểm chấm công việc | M9: Hệ số quy đổi
B10: Phụ trách Lĩnh vực Giáo dục và Đào tạo, gồm: Giáo dục mầm non; Giáo dục phổ thông (giáo dục tiểu học và giáo dục trung học cơ sở);
C11: Phụ trách công tác tổ chức, nhân sự, chế độ chính sách và cơ sở vật chất giáo dục. | M11: =L11/MIN($L:$L) -> 0
C12: Công tác tổ chức bộ máy trường học. | J12: Hàng năm | L12: 100 | M12: =L12/MIN($L:$L) -> 1
C13: Biên chế, hợp đồng giáo viên. | J13: Háng tháng | L13: 500 | M13: =L13/MIN($L:$L) -> 5
C14: Tuyển dụng, tiếp nhận, điều động giáo viên. | M14: =L14/MIN($L:$L) -> 0
C15: Thi đua, khen thưởng ngành giáo dục. | M15: =L15/MIN($L:$L) -> 0
C16: Đánh giá viên chức, người đứng đầu cơ sở giáo dục. | M16: =L16/MIN($L:$L) -> 0
C17: Chế độ chính sách giáo viên, học sinh. | M17: =L17/MIN($L:$L) -> 0
C18: Cơ sở vật chất trường học. | M18: =L18/MIN($L:$L) -> 0
C19: Chương trình mục tiêu, đầu tư xây dựng trường học. | M19: =L19/MIN($L:$L) -> 0
C20: Tài chính, ngân sách giáo dục. | M20: =L20/MIN($L:$L) -> 0
C21: Khiếu nại, tố cáo, kiểm tra, thanh tra lĩnh vực giáo dục. | M21: =L21/MIN($L:$L) -> 0
C22: Chuyển đổi số, cơ sở dữ liệu ngành. | M22: =L22/MIN($L:$L) -> 0
B23: Phụ trách Lĩnh vực Văn hóa - Thông tin; | M23: =L23/MIN($L:$L) -> 0
C24: Công tác thể dục, thể thao; | M24: =L24/MIN($L:$L) -> 0
C25: Thông tin cơ sở; | M25: =L25/MIN($L:$L) -> 0
C26: Thông tin đối ngoại; | M26: =L26/MIN($L:$L) -> 0
B27: Thực hiện các nhiệm vụ khác do cấp trên phân công | M27: =L27/MIN($L:$L) -> 0
C28: Lãnh đạo cơ quan phân công | M28: =L28/MIN($L:$L) -> 0

Sheet KPI CB Hop dong 1
A1: KẾT QUẢ THỰC HIỆN NHIỆM VỤ (KPI)
A2: Quý …., Năm …. | R2: Nguyễn Hùng Cường | kinhcan24 | blognhansu.net.vn
A3: Họ và tên:…………………………..…....................................... Ngày sinh: ………………………........
A4: Vị trí: | E4: ='Co cau P VHXH'!Q4 -> Cán bộ HD 1 - TC giáo dục
A5: Đơn vị công tác: | E5: Phòng công tác xã hội
A7: TT | B7: NHIỆM VỤ ĐỀ RA KẾ HOẠCH | K7: THỰC TẾ TRIỂN KHAI
B8: Nhiệm vụ | F8: Sản phẩm | G8: Số lượng | H8: Tiến độ | I8: Hệ số quy đổi | J8: Số lượng quy đổi | K8: KPI | M8: KPI | O8: KPI | Q8: Lãnh đạo, chỉ đạo, điều hành
K9: (Số lượng) | M9: (Chất lượng) | O9: (Tiến độ)
K10: Thực tế hoàn thành | L10: Quy đổi | M10: Thực tế hoàn thành | N10: Quy đổi | O10: Thực tế hoàn thành | P10: Quy đổi | Q10: Thực tế hoàn thành | R10: Quy đổi
B11: ='DMCV CB Hop dong 1'!B10 -> Phụ trách Lĩnh vực Giáo dục và Đào tạo, gồm: Giáo dục mầm non; Giáo dục phổ thông (giáo dục tiểu học và giáo dục trung học cơ sở);
C12: ='DMCV CB Hop dong 1'!C11 -> Phụ trách công tác tổ chức, nhân sự, chế độ chính sách và cơ sở vật chất giáo dục. | F12: ='DMCV CB Hop dong 1'!H11 -> 0 | G12: ='DMCV CB Hop dong 1'!I11 -> 0 | H12: ='DMCV CB Hop dong 1'!J11 -> 0 | I12: ='DMCV CB Hop dong 1'!M11 -> 0 | J12: =I12*G12 -> 0 | L12: =K12/G12*J12 -> #DIV/0! | N12: =M12/G12*J12 -> #DIV/0! | P12: =O12/G12*J12 -> #DIV/0! | R12: =Q12/G12*J12 -> #DIV/0!
C13: ='DMCV CB Hop dong 1'!C12 -> Công tác tổ chức bộ máy trường học. | F13: ='DMCV CB Hop dong 1'!H12 -> 0 | G13: ='DMCV CB Hop dong 1'!I12 -> 0 | H13: ='DMCV CB Hop dong 1'!J12 -> Hàng năm | I13: ='DMCV CB Hop dong 1'!M12 -> 1 | J13: =I13*G13 -> 0 | L13: =K13/G13*J13 -> #DIV/0! | N13: =M13/G13*J13 -> #DIV/0! | P13: =O13/G13*J13 -> #DIV/0! | R13: =Q13/G13*J13 -> #DIV/0!
C14: ='DMCV CB Hop dong 1'!C13 -> Biên chế, hợp đồng giáo viên. | F14: ='DMCV CB Hop dong 1'!H13 -> 0 | G14: ='DMCV CB Hop dong 1'!I13 -> 0 | H14: ='DMCV CB Hop dong 1'!J13 -> Háng tháng | I14: ='DMCV CB Hop dong 1'!M13 -> 5 | J14: =I14*G14 -> 0 | L14: =K14/G14*J14 -> #DIV/0! | N14: =M14/G14*J14 -> #DIV/0! | P14: =O14/G14*J14 -> #DIV/0! | R14: =Q14/G14*J14 -> #DIV/0!
C15: ='DMCV CB Hop dong 1'!C14 -> Tuyển dụng, tiếp nhận, điều động giáo viên. | F15: ='DMCV CB Hop dong 1'!H14 -> 0 | G15: ='DMCV CB Hop dong 1'!I14 -> 0 | H15: ='DMCV CB Hop dong 1'!J14 -> 0 | I15: ='DMCV CB Hop dong 1'!M14 -> 0 | J15: =I15*G15 -> 0 | L15: =K15/G15*J15 -> #DIV/0! | N15: =M15/G15*J15 -> #DIV/0! | P15: =O15/G15*J15 -> #DIV/0! | R15: =Q15/G15*J15 -> #DIV/0!
C16: ='DMCV CB Hop dong 1'!C15 -> Thi đua, khen thưởng ngành giáo dục. | F16: ='DMCV CB Hop dong 1'!H15 -> 0 | G16: ='DMCV CB Hop dong 1'!I15 -> 0 | H16: ='DMCV CB Hop dong 1'!J15 -> 0 | I16: ='DMCV CB Hop dong 1'!M15 -> 0 | J16: =I16*G16 -> 0 | L16: =K16/G16*J16 -> #DIV/0! | N16: =M16/G16*J16 -> #DIV/0! | P16: =O16/G16*J16 -> #DIV/0! | R16: =Q16/G16*J16 -> #DIV/0!
C17: ='DMCV CB Hop dong 1'!C16 -> Đánh giá viên chức, người đứng đầu cơ sở giáo dục. | F17: ='DMCV CB Hop dong 1'!H16 -> 0 | G17: ='DMCV CB Hop dong 1'!I16 -> 0 | H17: ='DMCV CB Hop dong 1'!J16 -> 0 | I17: ='DMCV CB Hop dong 1'!M16 -> 0 | J17: =I17*G17 -> 0 | L17: =K17/G17*J17 -> #DIV/0! | N17: =M17/G17*J17 -> #DIV/0! | P17: =O17/G17*J17 -> #DIV/0! | R17: =Q17/G17*J17 -> #DIV/0!
C18: ='DMCV CB Hop dong 1'!C17 -> Chế độ chính sách giáo viên, học sinh. | F18: ='DMCV CB Hop dong 1'!H17 -> 0 | G18: ='DMCV CB Hop dong 1'!I17 -> 0 | H18: ='DMCV CB Hop dong 1'!J17 -> 0 | I18: ='DMCV CB Hop dong 1'!M17 -> 0 | J18: =I18*G18 -> 0 | L18: =K18/G18*J18 -> #DIV/0! | N18: =M18/G18*J18 -> #DIV/0! | P18: =O18/G18*J18 -> #DIV/0! | R18: =Q18/G18*J18 -> #DIV/0!
C19: ='DMCV CB Hop dong 1'!C18 -> Cơ sở vật chất trường học. | F19: ='DMCV CB Hop dong 1'!H18 -> 0 | G19: ='DMCV CB Hop dong 1'!I18 -> 0 | H19: ='DMCV CB Hop dong 1'!J18 -> 0 | I19: ='DMCV CB Hop dong 1'!M18 -> 0 | J19: =I19*G19 -> 0 | L19: =K19/G19*J19 -> #DIV/0! | N19: =M19/G19*J19 -> #DIV/0! | P19: =O19/G19*J19 -> #DIV/0! | R19: =Q19/G19*J19 -> #DIV/0!
C20: ='DMCV CB Hop dong 1'!C19 -> Chương trình mục tiêu, đầu tư xây dựng trường học. | F20: ='DMCV CB Hop dong 1'!H19 -> 0 | G20: ='DMCV CB Hop dong 1'!I19 -> 0 | H20: ='DMCV CB Hop dong 1'!J19 -> 0 | I20: ='DMCV CB Hop dong 1'!M19 -> 0 | J20: =I20*G20 -> 0 | L20: =K20/G20*J20 -> #DIV/0! | N20: =M20/G20*J20 -> #DIV/0! | P20: =O20/G20*J20 -> #DIV/0! | R20: =Q20/G20*J20 -> #DIV/0!
C21: ='DMCV CB Hop dong 1'!C20 -> Tài chính, ngân sách giáo dục. | F21: ='DMCV CB Hop dong 1'!H20 -> 0 | G21: ='DMCV CB Hop dong 1'!I20 -> 0 | H21: ='DMCV CB Hop dong 1'!J20 -> 0 | I21: ='DMCV CB Hop dong 1'!M20 -> 0 | J21: =I21*G21 -> 0 | L21: =K21/G21*J21 -> #DIV/0! | N21: =M21/G21*J21 -> #DIV/0! | P21: =O21/G21*J21 -> #DIV/0! | R21: =Q21/G21*J21 -> #DIV/0!
C22: ='DMCV CB Hop dong 1'!C21 -> Khiếu nại, tố cáo, kiểm tra, thanh tra lĩnh vực giáo dục. | F22: ='DMCV CB Hop dong 1'!H21 -> 0 | G22: ='DMCV CB Hop dong 1'!I21 -> 0 | H22: ='DMCV CB Hop dong 1'!J21 -> 0 | I22: ='DMCV CB Hop dong 1'!M21 -> 0 | J22: =I22*G22 -> 0 | L22: =K22/G22*J22 -> #DIV/0! | N22: =M22/G22*J22 -> #DIV/0! | P22: =O22/G22*J22 -> #DIV/0! | R22: =Q22/G22*J22 -> #DIV/0!
C23: ='DMCV CB Hop dong 1'!C22 -> Chuyển đổi số, cơ sở dữ liệu ngành. | F23: ='DMCV CB Hop dong 1'!H22 -> 0 | G23: ='DMCV CB Hop dong 1'!I22 -> 0 | H23: ='DMCV CB Hop dong 1'!J22 -> 0 | I23: ='DMCV CB Hop dong 1'!M22 -> 0 | J23: =I23*G23 -> 0 | L23: =K23/G23*J23 -> #DIV/0! | N23: =M23/G23*J23 -> #DIV/0! | P23: =O23/G23*J23 -> #DIV/0! | R23: =Q23/G23*J23 -> #DIV/0!
B24: ='DMCV CB Hop dong 1'!B23 -> Phụ trách Lĩnh vực Văn hóa - Thông tin; | F24: ='DMCV CB Hop dong 1'!H23 -> 0 | G24: ='DMCV CB Hop dong 1'!I23 -> 0 | H24: ='DMCV CB Hop dong 1'!J23 -> 0 | I24: ='DMCV CB Hop dong 1'!M23 -> 0 | J24: =I24*G24 -> 0 | L24: =K24/G24*J24 -> #DIV/0! | N24: =M24/G24*J24 -> #DIV/0! | P24: =O24/G24*J24 -> #DIV/0! | R24: =Q24/G24*J24 -> #DIV/0!
C25: ='DMCV CB Hop dong 1'!C24 -> Công tác thể dục, thể thao; | F25: ='DMCV CB Hop dong 1'!H24 -> 0 | G25: ='DMCV CB Hop dong 1'!I24 -> 0 | H25: ='DMCV CB Hop dong 1'!J24 -> 0 | I25: ='DMCV CB Hop dong 1'!M24 -> 0 | J25: =I25*G25 -> 0 | L25: =K25/G25*J25 -> #DIV/0! | N25: =M25/G25*J25 -> #DIV/0! | P25: =O25/G25*J25 -> #DIV/0! | R25: =Q25/G25*J25 -> #DIV/0!
C26: ='DMCV CB Hop dong 1'!C25 -> Thông tin cơ sở; | F26: ='DMCV CB Hop dong 1'!H25 -> 0 | G26: ='DMCV CB Hop dong 1'!I25 -> 0 | H26: ='DMCV CB Hop dong 1'!J25 -> 0 | I26: ='DMCV CB Hop dong 1'!M25 -> 0 | J26: =I26*G26 -> 0 | L26: =K26/G26*J26 -> #DIV/0! | N26: =M26/G26*J26 -> #DIV/0! | P26: =O26/G26*J26 -> #DIV/0! | R26: =Q26/G26*J26 -> #DIV/0!
C27: ='DMCV CB Hop dong 1'!C26 -> Thông tin đối ngoại; | F27: ='DMCV CB Hop dong 1'!H26 -> 0 | G27: ='DMCV CB Hop dong 1'!I26 -> 0 | H27: ='DMCV CB Hop dong 1'!J26 -> 0 | I27: ='DMCV CB Hop dong 1'!M26 -> 0 | J27: =I27*G27 -> 0 | L27: =K27/G27*J27 -> #DIV/0! | N27: =M27/G27*J27 -> #DIV/0! | P27: =O27/G27*J27 -> #DIV/0! | R27: =Q27/G27*J27 -> #DIV/0!
B28: ='DMCV CB Hop dong 1'!B27 -> Thực hiện các nhiệm vụ khác do cấp trên phân công | F28: ='DMCV CB Hop dong 1'!H27 -> 0 | G28: ='DMCV CB Hop dong 1'!I27 -> 0 | H28: ='DMCV CB Hop dong 1'!J27 -> 0 | I28: ='DMCV CB Hop dong 1'!M27 -> 0 | J28: =I28*G28 -> 0 | L28: =K28/G28*J28 -> #DIV/0! | N28: =M28/G28*J28 -> #DIV/0! | P28: =O28/G28*J28 -> #DIV/0! | R28: =Q28/G28*J28 -> #DIV/0!
C29: ='DMCV CB Hop dong 1'!C28 -> Lãnh đạo cơ quan phân công | F29: ='DMCV CB Hop dong 1'!H28 -> 0 | G29: ='DMCV CB Hop dong 1'!I28 -> 0 | H29: ='DMCV CB Hop dong 1'!J28 -> 0 | I29: ='DMCV CB Hop dong 1'!M28 -> 0 | J29: =I29*G29 -> 0 | L29: =K29/G29*J29 -> #DIV/0! | N29: =M29/G29*J29 -> #DIV/0! | P29: =O29/G29*J29 -> #DIV/0! | R29: =Q29/G29*J29 -> #DIV/0!
B30: Tổng | J30: =SUM(J11:J29) -> 0 | L30: =SUM(L11:L29) -> #DIV/0! | N30: =SUM(N11:N29) -> #DIV/0! | P30: =SUM(P11:P29) -> #DIV/0! | R30: =SUM(R11:R29) -> #DIV/0!
B31: Từ bảng trên suy ra:
B32: A = | D32: =L30/J30 -> #DIV/0! | F32: B = | G32: =N30/J30 -> #DIV/0! | I32: C = | J32: =P30/J30 -> #DIV/0! | L32: D = | M32: =R30/J30 -> #DIV/0!
B33: => KPI = (A+B+C+D)/4 = | E33: =(D32+G32+J32+M32)/4 -> #DIV/0!
B35: Như vậy: Tổng điểm = 30 + %KPI x 70 = | F35: =30+E33*70 -> #DIV/0! | G35: điểm

Sheet DMCV CB Hop dong 2
A1: BẢNG DANH MỤC SẢN PHẨM CÔNG VIỆC
M2: Nguyễn Hùng Cường | kinhcan24 | blognhansu.net.vn
A3: Quý …., Năm ….
A4: Họ và tên:…………………………..…....................................... Ngày sinh: ………………………........
A5: Vị trí: | E5: ='Co cau P VHXH'!R4 -> Cán bộ HD 2 - CM giáo dục
A6: Đơn vị công tác: | E6: Phòng công tác xã hội
A8: TT | B8: Nhiệm vụ | F8: Định mức lao động
F9: Cấp trình | G9: Độ khó, mới, phức tạp; phạm vi tác động | H9: Sản phẩm | I9: Số lượng | J9: Tiến độ/ tần suất | K9: Ghi chú | L9: Điểm chấm công việc | M9: Hệ số quy đổi
B10: Phụ trách Lĩnh vực Giáo dục và Đào tạo, gồm: Giáo dục mầm non; Giáo dục phổ thông (giáo dục tiểu học và giáo dục trung học cơ sở);
C11: Phụ trách công tác chuyên môn giáo dục: | M11: =L11/MIN($L:$L) -> 0
D12: Xây dựng kế hoạch dài hạn và hàng năm phát triển giáo dục mầm non, tiểu học, THCS phù hợp với quy hoạch tổng thể của địa phương. | H12: Bản kế hoạch | I12: 1 | J12: Hàng năm | L12: 100 | M12: =L12/MIN($L:$L) -> 1
D13: Hướng dẫn và đề xuất lên cấp cao hơn về quyết định thành lập, cho phép thành lập, sáp nhập, chia tách, giải thể hoặc đình chỉ hoạt động giáo dục đối với nhóm trẻ, lớp mẫu giáo độc lập | H13: Quyết định | I13: 1 | J13: Háng tháng | L13: 500 | M13: =L13/MIN($L:$L) -> 5
D14: Tổ chức xây dựng trường đạt chuẩn quốc gia tại địa bàn. | M14: =L14/MIN($L:$L) -> 0
D15: Theo dõi giám sát công tác tuyển sinh đầu cấp (mầm non, lớp 1, lớp 6) | M15: =L15/MIN($L:$L) -> 0
D16: Theo dõi hoạt động chuyên môn của 11 trường học. Giáo dục mầm non. Giáo dục tiểu học. Giáo dục trung học cơ sở. | M16: =L16/MIN($L:$L) -> 0
C17: Phổ cập giáo dục, xóa mù chữ (khoản 8 Điều 5 Luật Giáo dục 2019) | M17: =L17/MIN($L:$L) -> 0
D18: Điều tra, khảo sát và lập danh sách | M18: =L18/MIN($L:$L) -> 0
D19: Chuẩn bị điều kiện về cơ sở vật chất và nhân lực | M19: =L19/MIN($L:$L) -> 0
E20: Chuẩn bị phòng học và thiết bị: Kiểm tra, đảm bảo tỷ lệ phòng học/lớp, bàn ghế, đồ dùng tối thiểu, sách giáo khoa và các điều kiện về nước sạch, nhà vệ sinh, sân chơi. | M20: =L20/MIN($L:$L) -> 0
E21: Phân công giáo viên hoặc nhân viên phụ trách theo dõi sâu sát từng tổ dân phố, thôn, bản để nắm bắt tình hình học tập của người dân. | M21: =L21/MIN($L:$L) -> 0
D22: Tổ chức dạy và học | M22: =L22/MIN($L:$L) -> 0
E23: Phối hợp với gia đình, chính quyền địa phương vận động học sinh đến trường, hạn chế tối đa tình trạng bỏ học. | M23: =L23/MIN($L:$L) -> 0
E24: Triển khai các lớp giáo dục bắt buộc (tiểu học, THCS), phổ cập mầm non 5 tuổi và các lớp xóa mù chữ (giai đoạn 1 và giai đoạn 2). | M24: =L24/MIN($L:$L) -> 0
E25: Bố trí đủ giáo viên đạt chuẩn chuyên môn, nghiệp vụ để trực tiếp giảng dạy tại các lớp phổ cập hoặc lớp học cộng đồng | M25: =L25/MIN($L:$L) -> 0
D26: Kiểm tra, đánh giá và công nhận đạt chuẩn | M26: =L26/MIN($L:$L) -> 0
E27: Tự kiểm tra, tổng hợp số liệu và hoàn thiện hồ sơ đề nghị công nhận đạt chuẩn theo lộ trình hàng năm (chốt số liệu xã trước ngày 30/9) | M27: =L27/MIN($L:$L) -> 0
E28: Chuẩn bị các minh chứng, báo cáo để đón đoàn kiểm tra, công nhận từ cấp huyện, cấp tỉnh và Bộ Giáo dục và Đào tạo | M28: =L28/MIN($L:$L) -> 0
D29: Củng cố và duy trì kết quả sau phổ cập / sau xóa mù chữ | M29: =L29/MIN($L:$L) -> 0
E30: Tổ chức các hoạt động giáo dục tiếp tục sau khi biết chữ (chống tái mù chữ) | M30: =L30/MIN($L:$L) -> 0
E31: Triển khai các chế độ, chính sách hỗ trợ cho người học chương trình xóa mù chữ và đội ngũ làm công tác phổ cập theo quy định mới | M31: =L31/MIN($L:$L) -> 0
C32: Chất lượng giáo dục, các kỳ khảo sát, thi tuyển sinh. | M32: =L32/MIN($L:$L) -> 0
D33: Tổ chức cho các trường mầm non, phổ thông thực hiện quy trình tự đánh giá chất lượng; | M33: =L33/MIN($L:$L) -> 0
D34: Thực hiện kiểm tra định kỳ, dự giờ, đánh giá việc thực hiện Chương trình giáo dục phổ thông (GDPT); | M34: =L34/MIN($L:$L) -> 0
D35: Quản lý sổ điểm, học bạ điện tử và việc xét hoàn thành chương trình tiểu học, tốt nghiệp THCS | M35: =L35/MIN($L:$L) -> 0
D36: Phối hợp ra đề, tổ chức coi thi, chấm thi và phân tích dữ liệu điểm số nhằm phân loại học sinh (phụ đạo học sinh yếu, bồi dưỡng học sinh giỏi). | M36: =L36/MIN($L:$L) -> 0
C37: Công tác học sinh, an toàn trường học, phòng chống đuối nước. | M37: =L37/MIN($L:$L) -> 0
D38: Tổ chức các hoạt động giáo dục tư tưởng, đạo đức, lối sống, kỹ năng sống và giá trị sống cho học sinh. | M38: =L38/MIN($L:$L) -> 0
D39: Theo dõi, đánh giá hạnh kiểm, rèn luyện định kỳ. | M39: =L39/MIN($L:$L) -> 0
D40: Vận hành phòng tư vấn tâm lý nhằm kịp thời phát hiện, hỗ trợ học sinh gặp khó khăn về tâm lý, áp lực học tập hoặc có dấu hiệu trầm cảm. | M40: =L40/MIN($L:$L) -> 0
D41: Phòng chống bạo lực học đường | M41: =L41/MIN($L:$L) -> 0
E42: Xây dựng hòm thư góp ý, kênh tiếp nhận thông tin phản ánh trực tuyến | M42: =L42/MIN($L:$L) -> 0
E43: Thành lập Tổ công tác phòng chống bạo lực học đường để giám sát, xử lý các mâu thuẫn giữa học sinh. | M43: =L43/MIN($L:$L) -> 0
D44: Phối hợp với gia đình và các tổ chức đoàn thể (Đoàn Thanh niên, Hội Phụ nữ) tại địa phương để cảm hóa, hỗ trợ học sinh có hoàn cảnh đặc biệt. | M44: =L44/MIN($L:$L) -> 0
D45: Duy trì an toàn trường học: | M45: =L45/MIN($L:$L) -> 0
E46: Khảo sát, rà soát hệ thống phòng học, lan can, ban công, cây cổ thụ, hệ thống điện, thiết bị thí nghiệm... nhằm phát hiện, sửa chữa kịp thời các nguy cơ gây tai nạn thương tích, PCCC | M46: =L46/MIN($L:$L) -> 0
E47: Kiểm soát nghiêm ngặt nguồn gốc thực phẩm tại bếp ăn bán trú, căng tin trường học; | M47: =L47/MIN($L:$L) -> 0
E48: Phối hợp kiểm tra, giải tỏa các hàng quán kinh doanh đồ ăn vặt không rõ nguồn gốc xung quanh cổng trường. | M48: =L48/MIN($L:$L) -> 0
E49: Duy trì phòng y tế đạt chuẩn, bảo đảm sơ cấp cứu kịp thời; | M49: =L49/MIN($L:$L) -> 0
E50: Phối hợp với công an địa phương thực hiện mô hình "Cổng trường an toàn giao thông" để phân luồng, giảm ùn tắc và tai nạn giờ cao điểm. | M50: =L50/MIN($L:$L) -> 0
D51: Phòng chống đuối nước | M51: =L51/MIN($L:$L) -> 0
E52: Tuyên truyền và giáo dục nhận thức, tập huấn kỹ năng sinh tồn và sơ cứu đuối nước | M52: =L52/MIN($L:$L) -> 0
E53: Phối hợp với UBND cấp xã rà soát toàn bộ các khu vực có nguy cơ xảy ra tai nạn đuối nước tại địa phương để đặt biển cảnh báo, rào chắn bảo vệ. | M53: =L53/MIN($L:$L) -> 0
E54: Liên kết tổ chức các lớp học bơi trong dịp hè tại bể bơi nhà trường hoặc các cơ sở dịch vụ thể thao trên địa bàn | M54: =L54/MIN($L:$L) -> 0
C55: Hội khỏe Phù Đổng, các hội thi ngành giáo dục. | M55: =L55/MIN($L:$L) -> 0
D56: Lên kế hoạch tổ chức hội thi | M56: =L56/MIN($L:$L) -> 0
D57: Phối hợp tổ chức hội khỏe và các hội thi ngành giáo dục | M57: =L57/MIN($L:$L) -> 0
C58: Công tác khuyến học, xã hội học tập. | M58: =L58/MIN($L:$L) -> 0
D59: Xây dựng nội dung, chương trình hoạt động cho Trung tâm học tập cộng đồng cấp xã | M59: =L59/MIN($L:$L) -> 0
C60: Tổng hợp báo cáo chuyên môn ngành giáo dục. | M60: =L60/MIN($L:$L) -> 0
B61: Thực hiện các nhiệm vụ khác do cấp trên phân công | M61: =L61/MIN($L:$L) -> 0
C62: Lãnh đạo cơ quan phân công | M62: =L62/MIN($L:$L) -> 0

Sheet KPI CB Hop dong 2
A1: KẾT QUẢ THỰC HIỆN NHIỆM VỤ (KPI)
A2: Quý …., Năm …. | R2: Nguyễn Hùng Cường | kinhcan24 | blognhansu.net.vn
A3: Họ và tên:…………………………..…....................................... Ngày sinh: ………………………........
A4: Vị trí: | E4: ='Co cau P VHXH'!R4 -> Cán bộ HD 2 - CM giáo dục
A5: Đơn vị công tác: | E5: Phòng công tác xã hội
A7: TT | B7: NHIỆM VỤ ĐỀ RA KẾ HOẠCH | K7: THỰC TẾ TRIỂN KHAI
B8: Nhiệm vụ | F8: Sản phẩm | G8: Số lượng | H8: Tiến độ | I8: Hệ số quy đổi | J8: Số lượng quy đổi | K8: KPI | M8: KPI | O8: KPI | Q8: Lãnh đạo, chỉ đạo, điều hành
K9: (Số lượng) | M9: (Chất lượng) | O9: (Tiến độ)
K10: Thực tế hoàn thành | L10: Quy đổi | M10: Thực tế hoàn thành | N10: Quy đổi | O10: Thực tế hoàn thành | P10: Quy đổi | Q10: Thực tế hoàn thành | R10: Quy đổi
A11: 1 | B11: ='DMCV CB Hop dong 2'!B10 -> Phụ trách Lĩnh vực Giáo dục và Đào tạo, gồm: Giáo dục mầm non; Giáo dục phổ thông (giáo dục tiểu học và giáo dục trung học cơ sở);
C12: ='DMCV CB Hop dong 2'!C11 -> Phụ trách công tác chuyên môn giáo dục: | F12: ='DMCV CB Hop dong 2'!H11 -> 0 | G12: ='DMCV CB Hop dong 2'!I11 -> 0 | H12: ='DMCV CB Hop dong 2'!J11 -> 0 | I12: ='DMCV CB Hop dong 2'!M11 -> 0 | J12: =I12*G12 -> 0 | L12: =K12/G12*J12 -> #DIV/0! | N12: =M12/G12*J12 -> #DIV/0! | P12: =O12/G12*J12 -> #DIV/0! | R12: =Q12/G12*J12 -> #DIV/0!
D13: ='DMCV CB Hop dong 2'!D12 -> Xây dựng kế hoạch dài hạn và hàng năm phát triển giáo dục mầm non, tiểu học, THCS phù hợp với quy hoạch tổng thể của địa phương. | F13: ='DMCV CB Hop dong 2'!H12 -> Bản kế hoạch | G13: ='DMCV CB Hop dong 2'!I12 -> 1 | H13: ='DMCV CB Hop dong 2'!J12 -> Hàng năm | I13: ='DMCV CB Hop dong 2'!M12 -> 1 | J13: =I13*G13 -> 1 | L13: =K13/G13*J13 -> 0 | N13: =M13/G13*J13 -> 0 | P13: =O13/G13*J13 -> 0 | R13: =Q13/G13*J13 -> 0
D14: ='DMCV CB Hop dong 2'!D13 -> Hướng dẫn và đề xuất lên cấp cao hơn về quyết định thành lập, cho phép thành lập, sáp nhập, chia tách, giải thể hoặc đình chỉ hoạt động giáo dục đối với nhóm trẻ, lớp mẫu giáo độc lập | F14: ='DMCV CB Hop dong 2'!H13 -> Quyết định | G14: ='DMCV CB Hop dong 2'!I13 -> 1 | H14: ='DMCV CB Hop dong 2'!J13 -> Háng tháng | I14: ='DMCV CB Hop dong 2'!M13 -> 5 | J14: =I14*G14 -> 5 | L14: =K14/G14*J14 -> 0 | N14: =M14/G14*J14 -> 0 | P14: =O14/G14*J14 -> 0 | R14: =Q14/G14*J14 -> 0
D15: ='DMCV CB Hop dong 2'!D14 -> Tổ chức xây dựng trường đạt chuẩn quốc gia tại địa bàn. | F15: ='DMCV CB Hop dong 2'!H14 -> 0 | G15: ='DMCV CB Hop dong 2'!I14 -> 0 | H15: ='DMCV CB Hop dong 2'!J14 -> 0 | I15: ='DMCV CB Hop dong 2'!M14 -> 0 | J15: =I15*G15 -> 0 | L15: =K15/G15*J15 -> #DIV/0! | N15: =M15/G15*J15 -> #DIV/0! | P15: =O15/G15*J15 -> #DIV/0! | R15: =Q15/G15*J15 -> #DIV/0!
D16: ='DMCV CB Hop dong 2'!D15 -> Theo dõi giám sát công tác tuyển sinh đầu cấp (mầm non, lớp 1, lớp 6) | F16: ='DMCV CB Hop dong 2'!H15 -> 0 | G16: ='DMCV CB Hop dong 2'!I15 -> 0 | H16: ='DMCV CB Hop dong 2'!J15 -> 0 | I16: ='DMCV CB Hop dong 2'!M15 -> 0 | J16: =I16*G16 -> 0 | L16: =K16/G16*J16 -> #DIV/0! | N16: =M16/G16*J16 -> #DIV/0! | P16: =O16/G16*J16 -> #DIV/0! | R16: =Q16/G16*J16 -> #DIV/0!
D17: ='DMCV CB Hop dong 2'!D16 -> Theo dõi hoạt động chuyên môn của 11 trường học. Giáo dục mầm non. Giáo dục tiểu học. Giáo dục trung học cơ sở. | F17: ='DMCV CB Hop dong 2'!H16 -> 0 | G17: ='DMCV CB Hop dong 2'!I16 -> 0 | H17: ='DMCV CB Hop dong 2'!J16 -> 0 | I17: ='DMCV CB Hop dong 2'!M16 -> 0 | J17: =I17*G17 -> 0 | L17: =K17/G17*J17 -> #DIV/0! | N17: =M17/G17*J17 -> #DIV/0! | P17: =O17/G17*J17 -> #DIV/0! | R17: =Q17/G17*J17 -> #DIV/0!
C18: ='DMCV CB Hop dong 2'!C17 -> Phổ cập giáo dục, xóa mù chữ (khoản 8 Điều 5 Luật Giáo dục 2019) | F18: ='DMCV CB Hop dong 2'!H17 -> 0 | G18: ='DMCV CB Hop dong 2'!I17 -> 0 | H18: ='DMCV CB Hop dong 2'!J17 -> 0 | I18: ='DMCV CB Hop dong 2'!M17 -> 0 | J18: =I18*G18 -> 0 | L18: =K18/G18*J18 -> #DIV/0! | N18: =M18/G18*J18 -> #DIV/0! | P18: =O18/G18*J18 -> #DIV/0! | R18: =Q18/G18*J18 -> #DIV/0!
D19: ='DMCV CB Hop dong 2'!D18 -> Điều tra, khảo sát và lập danh sách | F19: ='DMCV CB Hop dong 2'!H18 -> 0 | G19: ='DMCV CB Hop dong 2'!I18 -> 0 | H19: ='DMCV CB Hop dong 2'!J18 -> 0 | I19: ='DMCV CB Hop dong 2'!M18 -> 0 | J19: =I19*G19 -> 0 | L19: =K19/G19*J19 -> #DIV/0! | N19: =M19/G19*J19 -> #DIV/0! | P19: =O19/G19*J19 -> #DIV/0! | R19: =Q19/G19*J19 -> #DIV/0!
D20: ='DMCV CB Hop dong 2'!D19 -> Chuẩn bị điều kiện về cơ sở vật chất và nhân lực | F20: ='DMCV CB Hop dong 2'!H19 -> 0 | G20: ='DMCV CB Hop dong 2'!I19 -> 0 | H20: ='DMCV CB Hop dong 2'!J19 -> 0 | I20: ='DMCV CB Hop dong 2'!M19 -> 0 | J20: =I20*G20 -> 0 | L20: =K20/G20*J20 -> #DIV/0! | N20: =M20/G20*J20 -> #DIV/0! | P20: =O20/G20*J20 -> #DIV/0! | R20: =Q20/G20*J20 -> #DIV/0!
E21: ='DMCV CB Hop dong 2'!E20 -> Chuẩn bị phòng học và thiết bị: Kiểm tra, đảm bảo tỷ lệ phòng học/lớp, bàn ghế, đồ dùng tối thiểu, sách giáo khoa và các điều kiện về nước sạch, nhà vệ sinh, sân chơi. | F21: ='DMCV CB Hop dong 2'!H20 -> 0 | G21: ='DMCV CB Hop dong 2'!I20 -> 0 | H21: ='DMCV CB Hop dong 2'!J20 -> 0 | I21: ='DMCV CB Hop dong 2'!M20 -> 0 | J21: =I21*G21 -> 0 | L21: =K21/G21*J21 -> #DIV/0! | N21: =M21/G21*J21 -> #DIV/0! | P21: =O21/G21*J21 -> #DIV/0! | R21: =Q21/G21*J21 -> #DIV/0!
E22: ='DMCV CB Hop dong 2'!E21 -> Phân công giáo viên hoặc nhân viên phụ trách theo dõi sâu sát từng tổ dân phố, thôn, bản để nắm bắt tình hình học tập của người dân. | F22: ='DMCV CB Hop dong 2'!H21 -> 0 | G22: ='DMCV CB Hop dong 2'!I21 -> 0 | H22: ='DMCV CB Hop dong 2'!J21 -> 0 | I22: ='DMCV CB Hop dong 2'!M21 -> 0 | J22: =I22*G22 -> 0 | L22: =K22/G22*J22 -> #DIV/0! | N22: =M22/G22*J22 -> #DIV/0! | P22: =O22/G22*J22 -> #DIV/0! | R22: =Q22/G22*J22 -> #DIV/0!
D23: ='DMCV CB Hop dong 2'!D22 -> Tổ chức dạy và học | F23: ='DMCV CB Hop dong 2'!H22 -> 0 | G23: ='DMCV CB Hop dong 2'!I22 -> 0 | H23: ='DMCV CB Hop dong 2'!J22 -> 0 | I23: ='DMCV CB Hop dong 2'!M22 -> 0 | J23: =I23*G23 -> 0 | L23: =K23/G23*J23 -> #DIV/0! | N23: =M23/G23*J23 -> #DIV/0! | P23: =O23/G23*J23 -> #DIV/0! | R23: =Q23/G23*J23 -> #DIV/0!
E24: ='DMCV CB Hop dong 2'!E23 -> Phối hợp với gia đình, chính quyền địa phương vận động học sinh đến trường, hạn chế tối đa tình trạng bỏ học. | F24: ='DMCV CB Hop dong 2'!H23 -> 0 | G24: ='DMCV CB Hop dong 2'!I23 -> 0 | H24: ='DMCV CB Hop dong 2'!J23 -> 0 | I24: ='DMCV CB Hop dong 2'!M23 -> 0 | J24: =I24*G24 -> 0 | L24: =K24/G24*J24 -> #DIV/0! | N24: =M24/G24*J24 -> #DIV/0! | P24: =O24/G24*J24 -> #DIV/0! | R24: =Q24/G24*J24 -> #DIV/0!
E25: ='DMCV CB Hop dong 2'!E24 -> Triển khai các lớp giáo dục bắt buộc (tiểu học, THCS), phổ cập mầm non 5 tuổi và các lớp xóa mù chữ (giai đoạn 1 và giai đoạn 2). | F25: ='DMCV CB Hop dong 2'!H24 -> 0 | G25: ='DMCV CB Hop dong 2'!I24 -> 0 | H25: ='DMCV CB Hop dong 2'!J24 -> 0 | I25: ='DMCV CB Hop dong 2'!M24 -> 0 | J25: =I25*G25 -> 0 | L25: =K25/G25*J25 -> #DIV/0! | N25: =M25/G25*J25 -> #DIV/0! | P25: =O25/G25*J25 -> #DIV/0! | R25: =Q25/G25*J25 -> #DIV/0!
E26: ='DMCV CB Hop dong 2'!E25 -> Bố trí đủ giáo viên đạt chuẩn chuyên môn, nghiệp vụ để trực tiếp giảng dạy tại các lớp phổ cập hoặc lớp học cộng đồng | F26: ='DMCV CB Hop dong 2'!H25 -> 0 | G26: ='DMCV CB Hop dong 2'!I25 -> 0 | H26: ='DMCV CB Hop dong 2'!J25 -> 0 | I26: ='DMCV CB Hop dong 2'!M25 -> 0 | J26: =I26*G26 -> 0 | L26: =K26/G26*J26 -> #DIV/0! | N26: =M26/G26*J26 -> #DIV/0! | P26: =O26/G26*J26 -> #DIV/0! | R26: =Q26/G26*J26 -> #DIV/0!
D27: ='DMCV CB Hop dong 2'!D26 -> Kiểm tra, đánh giá và công nhận đạt chuẩn | F27: ='DMCV CB Hop dong 2'!H26 -> 0 | G27: ='DMCV CB Hop dong 2'!I26 -> 0 | H27: ='DMCV CB Hop dong 2'!J26 -> 0 | I27: ='DMCV CB Hop dong 2'!M26 -> 0 | J27: =I27*G27 -> 0 | L27: =K27/G27*J27 -> #DIV/0! | N27: =M27/G27*J27 -> #DIV/0! | P27: =O27/G27*J27 -> #DIV/0! | R27: =Q27/G27*J27 -> #DIV/0!
E28: ='DMCV CB Hop dong 2'!E27 -> Tự kiểm tra, tổng hợp số liệu và hoàn thiện hồ sơ đề nghị công nhận đạt chuẩn theo lộ trình hàng năm (chốt số liệu xã trước ngày 30/9) | F28: ='DMCV CB Hop dong 2'!H27 -> 0 | G28: ='DMCV CB Hop dong 2'!I27 -> 0 | H28: ='DMCV CB Hop dong 2'!J27 -> 0 | I28: ='DMCV CB Hop dong 2'!M27 -> 0 | J28: =I28*G28 -> 0 | L28: =K28/G28*J28 -> #DIV/0! | N28: =M28/G28*J28 -> #DIV/0! | P28: =O28/G28*J28 -> #DIV/0! | R28: =Q28/G28*J28 -> #DIV/0!
E29: ='DMCV CB Hop dong 2'!E28 -> Chuẩn bị các minh chứng, báo cáo để đón đoàn kiểm tra, công nhận từ cấp huyện, cấp tỉnh và Bộ Giáo dục và Đào tạo | F29: ='DMCV CB Hop dong 2'!H28 -> 0 | G29: ='DMCV CB Hop dong 2'!I28 -> 0 | H29: ='DMCV CB Hop dong 2'!J28 -> 0 | I29: ='DMCV CB Hop dong 2'!M28 -> 0 | J29: =I29*G29 -> 0 | L29: =K29/G29*J29 -> #DIV/0! | N29: =M29/G29*J29 -> #DIV/0! | P29: =O29/G29*J29 -> #DIV/0! | R29: =Q29/G29*J29 -> #DIV/0!
D30: ='DMCV CB Hop dong 2'!D29 -> Củng cố và duy trì kết quả sau phổ cập / sau xóa mù chữ | F30: ='DMCV CB Hop dong 2'!H29 -> 0 | G30: ='DMCV CB Hop dong 2'!I29 -> 0 | H30: ='DMCV CB Hop dong 2'!J29 -> 0 | I30: ='DMCV CB Hop dong 2'!M29 -> 0 | J30: =I30*G30 -> 0 | L30: =K30/G30*J30 -> #DIV/0! | N30: =M30/G30*J30 -> #DIV/0! | P30: =O30/G30*J30 -> #DIV/0! | R30: =Q30/G30*J30 -> #DIV/0!
E31: ='DMCV CB Hop dong 2'!E30 -> Tổ chức các hoạt động giáo dục tiếp tục sau khi biết chữ (chống tái mù chữ) | F31: ='DMCV CB Hop dong 2'!H30 -> 0 | G31: ='DMCV CB Hop dong 2'!I30 -> 0 | H31: ='DMCV CB Hop dong 2'!J30 -> 0 | I31: ='DMCV CB Hop dong 2'!M30 -> 0 | J31: =I31*G31 -> 0 | L31: =K31/G31*J31 -> #DIV/0! | N31: =M31/G31*J31 -> #DIV/0! | P31: =O31/G31*J31 -> #DIV/0! | R31: =Q31/G31*J31 -> #DIV/0!
E32: ='DMCV CB Hop dong 2'!E31 -> Triển khai các chế độ, chính sách hỗ trợ cho người học chương trình xóa mù chữ và đội ngũ làm công tác phổ cập theo quy định mới | F32: ='DMCV CB Hop dong 2'!H31 -> 0 | G32: ='DMCV CB Hop dong 2'!I31 -> 0 | H32: ='DMCV CB Hop dong 2'!J31 -> 0 | I32: ='DMCV CB Hop dong 2'!M31 -> 0 | J32: =I32*G32 -> 0 | L32: =K32/G32*J32 -> #DIV/0! | N32: =M32/G32*J32 -> #DIV/0! | P32: =O32/G32*J32 -> #DIV/0! | R32: =Q32/G32*J32 -> #DIV/0!
C33: ='DMCV CB Hop dong 2'!C32 -> Chất lượng giáo dục, các kỳ khảo sát, thi tuyển sinh. | F33: ='DMCV CB Hop dong 2'!H32 -> 0 | G33: ='DMCV CB Hop dong 2'!I32 -> 0 | H33: ='DMCV CB Hop dong 2'!J32 -> 0 | I33: ='DMCV CB Hop dong 2'!M32 -> 0 | J33: =I33*G33 -> 0 | L33: =K33/G33*J33 -> #DIV/0! | N33: =M33/G33*J33 -> #DIV/0! | P33: =O33/G33*J33 -> #DIV/0! | R33: =Q33/G33*J33 -> #DIV/0!
D34: ='DMCV CB Hop dong 2'!D33 -> Tổ chức cho các trường mầm non, phổ thông thực hiện quy trình tự đánh giá chất lượng; | F34: ='DMCV CB Hop dong 2'!H33 -> 0 | G34: ='DMCV CB Hop dong 2'!I33 -> 0 | H34: ='DMCV CB Hop dong 2'!J33 -> 0 | I34: ='DMCV CB Hop dong 2'!M33 -> 0 | J34: =I34*G34 -> 0 | L34: =K34/G34*J34 -> #DIV/0! | N34: =M34/G34*J34 -> #DIV/0! | P34: =O34/G34*J34 -> #DIV/0! | R34: =Q34/G34*J34 -> #DIV/0!
D35: ='DMCV CB Hop dong 2'!D34 -> Thực hiện kiểm tra định kỳ, dự giờ, đánh giá việc thực hiện Chương trình giáo dục phổ thông (GDPT); | F35: ='DMCV CB Hop dong 2'!H34 -> 0 | G35: ='DMCV CB Hop dong 2'!I34 -> 0 | H35: ='DMCV CB Hop dong 2'!J34 -> 0 | I35: ='DMCV CB Hop dong 2'!M34 -> 0 | J35: =I35*G35 -> 0 | L35: =K35/G35*J35 -> #DIV/0! | N35: =M35/G35*J35 -> #DIV/0! | P35: =O35/G35*J35 -> #DIV/0! | R35: =Q35/G35*J35 -> #DIV/0!
D36: ='DMCV CB Hop dong 2'!D35 -> Quản lý sổ điểm, học bạ điện tử và việc xét hoàn thành chương trình tiểu học, tốt nghiệp THCS | F36: ='DMCV CB Hop dong 2'!H35 -> 0 | G36: ='DMCV CB Hop dong 2'!I35 -> 0 | H36: ='DMCV CB Hop dong 2'!J35 -> 0 | I36: ='DMCV CB Hop dong 2'!M35 -> 0 | J36: =I36*G36 -> 0 | L36: =K36/G36*J36 -> #DIV/0! | N36: =M36/G36*J36 -> #DIV/0! | P36: =O36/G36*J36 -> #DIV/0! | R36: =Q36/G36*J36 -> #DIV/0!
D37: ='DMCV CB Hop dong 2'!D36 -> Phối hợp ra đề, tổ chức coi thi, chấm thi và phân tích dữ liệu điểm số nhằm phân loại học sinh (phụ đạo học sinh yếu, bồi dưỡng học sinh giỏi). | F37: ='DMCV CB Hop dong 2'!H36 -> 0 | G37: ='DMCV CB Hop dong 2'!I36 -> 0 | H37: ='DMCV CB Hop dong 2'!J36 -> 0 | I37: ='DMCV CB Hop dong 2'!M36 -> 0 | J37: =I37*G37 -> 0 | L37: =K37/G37*J37 -> #DIV/0! | N37: =M37/G37*J37 -> #DIV/0! | P37: =O37/G37*J37 -> #DIV/0! | R37: =Q37/G37*J37 -> #DIV/0!
C38: ='DMCV CB Hop dong 2'!C37 -> Công tác học sinh, an toàn trường học, phòng chống đuối nước. | F38: ='DMCV CB Hop dong 2'!H37 -> 0 | G38: ='DMCV CB Hop dong 2'!I37 -> 0 | H38: ='DMCV CB Hop dong 2'!J37 -> 0 | I38: ='DMCV CB Hop dong 2'!M37 -> 0 | J38: =I38*G38 -> 0 | L38: =K38/G38*J38 -> #DIV/0! | N38: =M38/G38*J38 -> #DIV/0! | P38: =O38/G38*J38 -> #DIV/0! | R38: =Q38/G38*J38 -> #DIV/0!
D39: ='DMCV CB Hop dong 2'!D38 -> Tổ chức các hoạt động giáo dục tư tưởng, đạo đức, lối sống, kỹ năng sống và giá trị sống cho học sinh. | F39: ='DMCV CB Hop dong 2'!H38 -> 0 | G39: ='DMCV CB Hop dong 2'!I38 -> 0 | H39: ='DMCV CB Hop dong 2'!J38 -> 0 | I39: ='DMCV CB Hop dong 2'!M38 -> 0 | J39: =I39*G39 -> 0 | L39: =K39/G39*J39 -> #DIV/0! | N39: =M39/G39*J39 -> #DIV/0! | P39: =O39/G39*J39 -> #DIV/0! | R39: =Q39/G39*J39 -> #DIV/0!
D40: ='DMCV CB Hop dong 2'!D39 -> Theo dõi, đánh giá hạnh kiểm, rèn luyện định kỳ. | F40: ='DMCV CB Hop dong 2'!H39 -> 0 | G40: ='DMCV CB Hop dong 2'!I39 -> 0 | H40: ='DMCV CB Hop dong 2'!J39 -> 0 | I40: ='DMCV CB Hop dong 2'!M39 -> 0 | J40: =I40*G40 -> 0 | L40: =K40/G40*J40 -> #DIV/0! | N40: =M40/G40*J40 -> #DIV/0! | P40: =O40/G40*J40 -> #DIV/0! | R40: =Q40/G40*J40 -> #DIV/0!
D41: ='DMCV CB Hop dong 2'!D40 -> Vận hành phòng tư vấn tâm lý nhằm kịp thời phát hiện, hỗ trợ học sinh gặp khó khăn về tâm lý, áp lực học tập hoặc có dấu hiệu trầm cảm. | F41: ='DMCV CB Hop dong 2'!H40 -> 0 | G41: ='DMCV CB Hop dong 2'!I40 -> 0 | H41: ='DMCV CB Hop dong 2'!J40 -> 0 | I41: ='DMCV CB Hop dong 2'!M40 -> 0 | J41: =I41*G41 -> 0 | L41: =K41/G41*J41 -> #DIV/0! | N41: =M41/G41*J41 -> #DIV/0! | P41: =O41/G41*J41 -> #DIV/0! | R41: =Q41/G41*J41 -> #DIV/0!
D42: ='DMCV CB Hop dong 2'!D41 -> Phòng chống bạo lực học đường | F42: ='DMCV CB Hop dong 2'!H41 -> 0 | G42: ='DMCV CB Hop dong 2'!I41 -> 0 | H42: ='DMCV CB Hop dong 2'!J41 -> 0 | I42: ='DMCV CB Hop dong 2'!M41 -> 0 | J42: =I42*G42 -> 0 | L42: =K42/G42*J42 -> #DIV/0! | N42: =M42/G42*J42 -> #DIV/0! | P42: =O42/G42*J42 -> #DIV/0! | R42: =Q42/G42*J42 -> #DIV/0!
E43: ='DMCV CB Hop dong 2'!E42 -> Xây dựng hòm thư góp ý, kênh tiếp nhận thông tin phản ánh trực tuyến | F43: ='DMCV CB Hop dong 2'!H42 -> 0 | G43: ='DMCV CB Hop dong 2'!I42 -> 0 | H43: ='DMCV CB Hop dong 2'!J42 -> 0 | I43: ='DMCV CB Hop dong 2'!M42 -> 0 | J43: =I43*G43 -> 0 | L43: =K43/G43*J43 -> #DIV/0! | N43: =M43/G43*J43 -> #DIV/0! | P43: =O43/G43*J43 -> #DIV/0! | R43: =Q43/G43*J43 -> #DIV/0!
E44: ='DMCV CB Hop dong 2'!E43 -> Thành lập Tổ công tác phòng chống bạo lực học đường để giám sát, xử lý các mâu thuẫn giữa học sinh. | F44: ='DMCV CB Hop dong 2'!H43 -> 0 | G44: ='DMCV CB Hop dong 2'!I43 -> 0 | H44: ='DMCV CB Hop dong 2'!J43 -> 0 | I44: ='DMCV CB Hop dong 2'!M43 -> 0 | J44: =I44*G44 -> 0 | L44: =K44/G44*J44 -> #DIV/0! | N44: =M44/G44*J44 -> #DIV/0! | P44: =O44/G44*J44 -> #DIV/0! | R44: =Q44/G44*J44 -> #DIV/0!
D45: ='DMCV CB Hop dong 2'!D44 -> Phối hợp với gia đình và các tổ chức đoàn thể (Đoàn Thanh niên, Hội Phụ nữ) tại địa phương để cảm hóa, hỗ trợ học sinh có hoàn cảnh đặc biệt. | F45: ='DMCV CB Hop dong 2'!H44 -> 0 | G45: ='DMCV CB Hop dong 2'!I44 -> 0 | H45: ='DMCV CB Hop dong 2'!J44 -> 0 | I45: ='DMCV CB Hop dong 2'!M44 -> 0 | J45: =I45*G45 -> 0 | L45: =K45/G45*J45 -> #DIV/0! | N45: =M45/G45*J45 -> #DIV/0! | P45: =O45/G45*J45 -> #DIV/0! | R45: =Q45/G45*J45 -> #DIV/0!
D46: ='DMCV CB Hop dong 2'!D45 -> Duy trì an toàn trường học: | F46: ='DMCV CB Hop dong 2'!H45 -> 0 | G46: ='DMCV CB Hop dong 2'!I45 -> 0 | H46: ='DMCV CB Hop dong 2'!J45 -> 0 | I46: ='DMCV CB Hop dong 2'!M45 -> 0 | J46: =I46*G46 -> 0 | L46: =K46/G46*J46 -> #DIV/0! | N46: =M46/G46*J46 -> #DIV/0! | P46: =O46/G46*J46 -> #DIV/0! | R46: =Q46/G46*J46 -> #DIV/0!
E47: ='DMCV CB Hop dong 2'!E46 -> Khảo sát, rà soát hệ thống phòng học, lan can, ban công, cây cổ thụ, hệ thống điện, thiết bị thí nghiệm... nhằm phát hiện, sửa chữa kịp thời các nguy cơ gây tai nạn thương tích, PCCC | F47: ='DMCV CB Hop dong 2'!H46 -> 0 | G47: ='DMCV CB Hop dong 2'!I46 -> 0 | H47: ='DMCV CB Hop dong 2'!J46 -> 0 | I47: ='DMCV CB Hop dong 2'!M46 -> 0 | J47: =I47*G47 -> 0 | L47: =K47/G47*J47 -> #DIV/0! | N47: =M47/G47*J47 -> #DIV/0! | P47: =O47/G47*J47 -> #DIV/0! | R47: =Q47/G47*J47 -> #DIV/0!
E48: ='DMCV CB Hop dong 2'!E47 -> Kiểm soát nghiêm ngặt nguồn gốc thực phẩm tại bếp ăn bán trú, căng tin trường học; | F48: ='DMCV CB Hop dong 2'!H47 -> 0 | G48: ='DMCV CB Hop dong 2'!I47 -> 0 | H48: ='DMCV CB Hop dong 2'!J47 -> 0 | I48: ='DMCV CB Hop dong 2'!M47 -> 0 | J48: =I48*G48 -> 0 | L48: =K48/G48*J48 -> #DIV/0! | N48: =M48/G48*J48 -> #DIV/0! | P48: =O48/G48*J48 -> #DIV/0! | R48: =Q48/G48*J48 -> #DIV/0!
E49: ='DMCV CB Hop dong 2'!E48 -> Phối hợp kiểm tra, giải tỏa các hàng quán kinh doanh đồ ăn vặt không rõ nguồn gốc xung quanh cổng trường. | F49: ='DMCV CB Hop dong 2'!H48 -> 0 | G49: ='DMCV CB Hop dong 2'!I48 -> 0 | H49: ='DMCV CB Hop dong 2'!J48 -> 0 | I49: ='DMCV CB Hop dong 2'!M48 -> 0 | J49: =I49*G49 -> 0 | L49: =K49/G49*J49 -> #DIV/0! | N49: =M49/G49*J49 -> #DIV/0! | P49: =O49/G49*J49 -> #DIV/0! | R49: =Q49/G49*J49 -> #DIV/0!
E50: ='DMCV CB Hop dong 2'!E49 -> Duy trì phòng y tế đạt chuẩn, bảo đảm sơ cấp cứu kịp thời; | F50: ='DMCV CB Hop dong 2'!H49 -> 0 | G50: ='DMCV CB Hop dong 2'!I49 -> 0 | H50: ='DMCV CB Hop dong 2'!J49 -> 0 | I50: ='DMCV CB Hop dong 2'!M49 -> 0 | J50: =I50*G50 -> 0 | L50: =K50/G50*J50 -> #DIV/0! | N50: =M50/G50*J50 -> #DIV/0! | P50: =O50/G50*J50 -> #DIV/0! | R50: =Q50/G50*J50 -> #DIV/0!
E51: ='DMCV CB Hop dong 2'!E50 -> Phối hợp với công an địa phương thực hiện mô hình "Cổng trường an toàn giao thông" để phân luồng, giảm ùn tắc và tai nạn giờ cao điểm. | F51: ='DMCV CB Hop dong 2'!H50 -> 0 | G51: ='DMCV CB Hop dong 2'!I50 -> 0 | H51: ='DMCV CB Hop dong 2'!J50 -> 0 | I51: ='DMCV CB Hop dong 2'!M50 -> 0 | J51: =I51*G51 -> 0 | L51: =K51/G51*J51 -> #DIV/0! | N51: =M51/G51*J51 -> #DIV/0! | P51: =O51/G51*J51 -> #DIV/0! | R51: =Q51/G51*J51 -> #DIV/0!
D52: ='DMCV CB Hop dong 2'!D51 -> Phòng chống đuối nước | F52: ='DMCV CB Hop dong 2'!H51 -> 0 | G52: ='DMCV CB Hop dong 2'!I51 -> 0 | H52: ='DMCV CB Hop dong 2'!J51 -> 0 | I52: ='DMCV CB Hop dong 2'!M51 -> 0 | J52: =I52*G52 -> 0 | L52: =K52/G52*J52 -> #DIV/0! | N52: =M52/G52*J52 -> #DIV/0! | P52: =O52/G52*J52 -> #DIV/0! | R52: =Q52/G52*J52 -> #DIV/0!
E53: ='DMCV CB Hop dong 2'!E52 -> Tuyên truyền và giáo dục nhận thức, tập huấn kỹ năng sinh tồn và sơ cứu đuối nước | F53: ='DMCV CB Hop dong 2'!H52 -> 0 | G53: ='DMCV CB Hop dong 2'!I52 -> 0 | H53: ='DMCV CB Hop dong 2'!J52 -> 0 | I53: ='DMCV CB Hop dong 2'!M52 -> 0 | J53: =I53*G53 -> 0 | L53: =K53/G53*J53 -> #DIV/0! | N53: =M53/G53*J53 -> #DIV/0! | P53: =O53/G53*J53 -> #DIV/0! | R53: =Q53/G53*J53 -> #DIV/0!
E54: ='DMCV CB Hop dong 2'!E53 -> Phối hợp với UBND cấp xã rà soát toàn bộ các khu vực có nguy cơ xảy ra tai nạn đuối nước tại địa phương để đặt biển cảnh báo, rào chắn bảo vệ. | F54: ='DMCV CB Hop dong 2'!H53 -> 0 | G54: ='DMCV CB Hop dong 2'!I53 -> 0 | H54: ='DMCV CB Hop dong 2'!J53 -> 0 | I54: ='DMCV CB Hop dong 2'!M53 -> 0 | J54: =I54*G54 -> 0 | L54: =K54/G54*J54 -> #DIV/0! | N54: =M54/G54*J54 -> #DIV/0! | P54: =O54/G54*J54 -> #DIV/0! | R54: =Q54/G54*J54 -> #DIV/0!
E55: ='DMCV CB Hop dong 2'!E54 -> Liên kết tổ chức các lớp học bơi trong dịp hè tại bể bơi nhà trường hoặc các cơ sở dịch vụ thể thao trên địa bàn | F55: ='DMCV CB Hop dong 2'!H54 -> 0 | G55: ='DMCV CB Hop dong 2'!I54 -> 0 | H55: ='DMCV CB Hop dong 2'!J54 -> 0 | I55: ='DMCV CB Hop dong 2'!M54 -> 0 | J55: =I55*G55 -> 0 | L55: =K55/G55*J55 -> #DIV/0! | N55: =M55/G55*J55 -> #DIV/0! | P55: =O55/G55*J55 -> #DIV/0! | R55: =Q55/G55*J55 -> #DIV/0!
C56: ='DMCV CB Hop dong 2'!C55 -> Hội khỏe Phù Đổng, các hội thi ngành giáo dục. | F56: ='DMCV CB Hop dong 2'!H55 -> 0 | G56: ='DMCV CB Hop dong 2'!I55 -> 0 | H56: ='DMCV CB Hop dong 2'!J55 -> 0 | I56: ='DMCV CB Hop dong 2'!M55 -> 0 | J56: =I56*G56 -> 0 | L56: =K56/G56*J56 -> #DIV/0! | N56: =M56/G56*J56 -> #DIV/0! | P56: =O56/G56*J56 -> #DIV/0! | R56: =Q56/G56*J56 -> #DIV/0!
D57: ='DMCV CB Hop dong 2'!D56 -> Lên kế hoạch tổ chức hội thi | F57: ='DMCV CB Hop dong 2'!H56 -> 0 | G57: ='DMCV CB Hop dong 2'!I56 -> 0 | H57: ='DMCV CB Hop dong 2'!J56 -> 0 | I57: ='DMCV CB Hop dong 2'!M56 -> 0 | J57: =I57*G57 -> 0 | L57: =K57/G57*J57 -> #DIV/0! | N57: =M57/G57*J57 -> #DIV/0! | P57: =O57/G57*J57 -> #DIV/0! | R57: =Q57/G57*J57 -> #DIV/0!
D58: ='DMCV CB Hop dong 2'!D57 -> Phối hợp tổ chức hội khỏe và các hội thi ngành giáo dục | F58: ='DMCV CB Hop dong 2'!H57 -> 0 | G58: ='DMCV CB Hop dong 2'!I57 -> 0 | H58: ='DMCV CB Hop dong 2'!J57 -> 0 | I58: ='DMCV CB Hop dong 2'!M57 -> 0 | J58: =I58*G58 -> 0 | L58: =K58/G58*J58 -> #DIV/0! | N58: =M58/G58*J58 -> #DIV/0! | P58: =O58/G58*J58 -> #DIV/0! | R58: =Q58/G58*J58 -> #DIV/0!
C59: ='DMCV CB Hop dong 2'!C58 -> Công tác khuyến học, xã hội học tập. | F59: ='DMCV CB Hop dong 2'!H58 -> 0 | G59: ='DMCV CB Hop dong 2'!I58 -> 0 | H59: ='DMCV CB Hop dong 2'!J58 -> 0 | I59: ='DMCV CB Hop dong 2'!M58 -> 0 | J59: =I59*G59 -> 0 | L59: =K59/G59*J59 -> #DIV/0! | N59: =M59/G59*J59 -> #DIV/0! | P59: =O59/G59*J59 -> #DIV/0! | R59: =Q59/G59*J59 -> #DIV/0!
D60: ='DMCV CB Hop dong 2'!D59 -> Xây dựng nội dung, chương trình hoạt động cho Trung tâm học tập cộng đồng cấp xã | F60: ='DMCV CB Hop dong 2'!H59 -> 0 | G60: ='DMCV CB Hop dong 2'!I59 -> 0 | H60: ='DMCV CB Hop dong 2'!J59 -> 0 | I60: ='DMCV CB Hop dong 2'!M59 -> 0 | J60: =I60*G60 -> 0 | L60: =K60/G60*J60 -> #DIV/0! | N60: =M60/G60*J60 -> #DIV/0! | P60: =O60/G60*J60 -> #DIV/0! | R60: =Q60/G60*J60 -> #DIV/0!
C61: ='DMCV CB Hop dong 2'!C60 -> Tổng hợp báo cáo chuyên môn ngành giáo dục. | F61: ='DMCV CB Hop dong 2'!H60 -> 0 | G61: ='DMCV CB Hop dong 2'!I60 -> 0 | H61: ='DMCV CB Hop dong 2'!J60 -> 0 | I61: ='DMCV CB Hop dong 2'!M60 -> 0 | J61: =I61*G61 -> 0 | L61: =K61/G61*J61 -> #DIV/0! | N61: =M61/G61*J61 -> #DIV/0! | P61: =O61/G61*J61 -> #DIV/0! | R61: =Q61/G61*J61 -> #DIV/0!
B62: ='DMCV CB Hop dong 2'!B61 -> Thực hiện các nhiệm vụ khác do cấp trên phân công | F62: ='DMCV CB Hop dong 2'!H61 -> 0 | G62: ='DMCV CB Hop dong 2'!I61 -> 0 | H62: ='DMCV CB Hop dong 2'!J61 -> 0 | I62: ='DMCV CB Hop dong 2'!M61 -> 0 | J62: =I62*G62 -> 0 | L62: =K62/G62*J62 -> #DIV/0! | N62: =M62/G62*J62 -> #DIV/0! | P62: =O62/G62*J62 -> #DIV/0! | R62: =Q62/G62*J62 -> #DIV/0!
C63: ='DMCV CB Hop dong 2'!C62 -> Lãnh đạo cơ quan phân công | F63: ='DMCV CB Hop dong 2'!H62 -> 0 | G63: ='DMCV CB Hop dong 2'!I62 -> 0 | H63: ='DMCV CB Hop dong 2'!J62 -> 0 | I63: ='DMCV CB Hop dong 2'!M62 -> 0 | J63: =I63*G63 -> 0 | L63: =K63/G63*J63 -> #DIV/0! | N63: =M63/G63*J63 -> #DIV/0! | P63: =O63/G63*J63 -> #DIV/0! | R63: =Q63/G63*J63 -> #DIV/0!
B64: Tổng | J64: =SUM(J11:J63) -> 6 | L64: =SUM(L11:L63) -> #DIV/0! | N64: =SUM(N11:N63) -> #DIV/0! | P64: =SUM(P11:P63) -> #DIV/0! | R64: =SUM(R11:R63) -> #DIV/0!
B65: Từ bảng trên suy ra:
B66: A = | D66: =L64/J64 -> #DIV/0! | F66: B = | G66: =N64/J64 -> #DIV/0! | I66: C = | J66: =P64/J64 -> #DIV/0! | L66: D = | M66: =R64/J64 -> #DIV/0!
B67: => KPI = (A+B+C+D)/4 = | E67: =(D66+G66+J66+M66)/4 -> #DIV/0!
B69: Như vậy: Tổng điểm = 30 + %KPI x 70 = | F69: =30+E67*70 -> #DIV/0! | G69: điểm
