Workbook

Sheet Co cau P VHXH
A1: DANH MỤC CÔNG VIỆC PHÒNG VĂN HÓA XÃ HỘI
R2: Nguyễn Hùng Cường | kinhcan24 | blognhansu.net.vn
A3: TT | B3: Chức năng | J3: Phân bổ nhiệm vụ
J4: Trưởng phòng | N4: Chuyên viên 3 - Nội vụ Thủ quỹ
B5: Làm chủ tài khoản, quản lý tài chính của phòng; tài sản của cơ quan theo quy định | J5: C | N5: T
C6: Phụ trách công tác kế toán của cơ quan. | J6: C
C7: Công tác thủ quỹ của cơ quan (Phụ trách quỹ phòng, đơn vị). | J7: C | N7: T
B8: Phụ trách Lĩnh vực Nội vụ, gồm: | J8: C | N8: T
C9: Tổ chức hành chính, sự nghiệp nhà nước; | J9: C | N9: T
D10: Cải cách hành chính (kế hoạch, báo cáo, chấm điểm, các nhiệm vụ khác về CCHC) | J10: C | N10: T
C11: Chính quyền địa phương, địa giới đơn vị hành chính; | J11: C
C12: Cán bộ, công chức, viên chức và công vụ; | J12: C | N12: T
D13: Công tác cán bộ công chức (nâng lương trước hạn, điều động, bổ nhiệm, quy hoạch...) | J13: C
D14: Chế độ chính sách cho người hoạt động không chuyên trách xã, xóm | J14: C
D15: Công tác viên chức (đánh giá, xếp loại viên chức, nâng lương trước thời hạn cho viên chức, duyệt quỹ lương viên chức, quy hoạch, điều động, bổ nhiệm...) | J15: C
C16: Thi đua, khen thưởng; | J16: C
D17: Đánh giá, xếp loại, thi đua, khen thưởng | J17: C
C18: Văn thư, lưu trữ nhà nước; | J18: C
D19: Quản lý con dấu của Phòng Văn hóa xã hội. | J19: C
D20: Xây dựng và ban hành Giấy mời, văn bản có tính chất đơn giản | J20: C
D21: Tiếp nhận, chuyển tiếp văn thư, lưu trữ của phòng, đơn vị | J21: C
D22: Công khai các Thủ tục hành chính theo quyết định công bố của cấp có thẩm quyền | J22: C
D23: Ghi biên bản các cuộc họp của phòng, đơn vị, cơ quan | J23: C
D24: Thẩm tra, kiểm tra thể thức, trình tự thủ tục các văn bản trước khi ký ban hành | J24: C
D25: Tiếp nhận, vào sổ, đăng ký các loại công văn đi, công văn đến theo quy định, chuyển văn bản trên hệ thống văn bản điện tử VNPT-Ioffice, qua bưu điện; chuyển báo chí, tài liệu cho lãnh đạo và chuyển công văn giấy tờ đi cho các cơ quan, đơn vị theo quy định, quản lý con dấu | J25: C
C26: Phụ trách công tác Công đoàn và vệ sinh cơ quan | J26: C
B27: Phụ trách Lĩnh vực Giáo dục và Đào tạo, gồm: Giáo dục mầm non; Giáo dục phổ thông (giáo dục tiểu học và giáo dục trung học cơ sở); | J27: C
C28: Phụ trách công tác tổ chức, nhân sự, chế độ chính sách và cơ sở vật chất giáo dục. | J28: C
C29: Công tác tổ chức bộ máy trường học. | J29: C
C30: Biên chế, hợp đồng giáo viên. | J30: C
C31: Tuyển dụng, tiếp nhận, điều động giáo viên. | J31: C
C32: Thi đua, khen thưởng ngành giáo dục. | J32: C
C33: Đánh giá viên chức, người đứng đầu cơ sở giáo dục. | J33: C
C34: Chế độ chính sách giáo viên, học sinh. | J34: C
C35: Cơ sở vật chất trường học. | J35: C
C36: Chương trình mục tiêu, đầu tư xây dựng trường học. | J36: C
C37: Tài chính, ngân sách giáo dục. | J37: C
C38: Khiếu nại, tố cáo, kiểm tra, thanh tra lĩnh vực giáo dục. | J38: C
C39: Chuyển đổi số, cơ sở dữ liệu ngành. | J39: C
... C46: Tổng hợp báo cáo chuyên môn ngành giáo dục. | J46: C
...

Sheet Danh mục Nội vụ
A1: DANH MỤC SẢN PHẨM/ CÔNG VIỆC CHUYÊN MÔN VÀ CÔNG VIỆC DÙNG CHUNG QUY ĐỔI ĐỐI VỚI CÔNG CHỨC THUỘC ỦY BAN NHÂN DÂN XÃ (LĨNH VỰC NỘI VỤ)
A3: STT | B3: Nhiệm vụ / Nhóm nhiệm vụ | C3: Công việc chi tiết | D3: Sản phẩm đầu ra | E3: Phân nhóm | F3: Khung điểm tối đa | G3: Điểm tiêu chí 1: Mức độ khó | H3: Điểm tiêu chí 2: Thời gian hao phí | I3: Điểm tiêu chí 3: Phối hợp | J3: Điểm tiêu chí 4: Phạm vi áp dụng | K3: Điểm chấm | L3: Điểm đơn vị sản phẩm công việc chuẩn | M3: Hệ số quy đổi | N3: Ghi chú
A4: 1 | B4: 2 | C4: 3 | D4: 4 | E4: 5 | F4: 6 | G4: 7 | H4: 8 | I4: 9 | J4: 10 | K4: 11 | L4: 12 | M4: 13 | N4: 14
B5: Soạn thảo văn bản hành chính đơn giản | C5: Soạn thảo văn bản | D5: Văn bản hành chính | E5: N1 | F5: 1 | G5: 2 | H5: 1 | I5: 1 | J5: 5 | K5: 5 | L5: 5 | M5: 1 | N5: Đơn vị sản phẩm, công việc chuẩn
A6: I | B6: CÔNG VIỆC CHUYÊN MÔN
A7: 1 | B7: Quản lý hồ sơ cán bộ | C7: Cập nhật hồ sơ lý lịch CBCC lên phần mềm. | D7: Cơ sở dữ liệu; Sổ theo dõi hồ sơ | E7: N1 | F7: 100 | G7: 10 | H7: 10 | I7: 10 | J7: 10 | K7: =SUM(G7:J7) -> 40 | L7: 5 | M7: =K7/5 -> 8
A8: 2 | B8: Hồ sơ nâng lương định kỳ | C8: Rà soát danh sách, lập tờ trình | D8: Tờ trình kèm Danh sách nâng lương | E8: N2 | F8: 200 | G8: 30 | H8: 20 | I8: 20 | J8: 10 | K8: =SUM(G8:J8) -> 80 | L8: 5 | M8: =K8/5 -> 16
A9: 3 | B9: Quy hoạch, bổ nhiệm cán bộ | C9: Tham mưu quy trình rà soát quy hoạch chức danh lãnh đạo. | D9: Tờ trình, Biên bản các bước quy trình | E9: N4 | F9: 400 | G9: 50 | H9: 50 | I9: 60 | J9: 60 | K9: =SUM(G9:J9) -> 220 | L9: 5 | M9: =K9/5 -> 44
A10: 4 | B10: Đánh giá, xếp loại CBCC | C10: Tổng hợp phiếu chấm điểm sản phẩm toàn cơ quan cấp xã. | D10: Quyết định phân loại chất lượng năm | E10: N3 | F10: 300 | G10: 40 | H10: 40 | I10: 50 | J10: 50 | K10: =SUM(G10:J10) -> 180 | L10: 5 | M10: =K10/5 -> 36
A11: 5 | B11: Kiểm tra công vụ cơ quan | C11: Kiểm tra việc chấp hành giờ giấc, tác phong làm việc. | D11: Biên bản kiểm tra, Thông báo, Báo cáo, ... | E11: N2 | F11: 200 | G11: 30 | H11: 20 | I11: 20 | J11: 30 | K11: =SUM(G11:J11) -> 100 | L11: 5 | M11: =K11/5 -> 20
A12: 6 | B12: Đề án sắp xếp, sáp nhập, chia tách thôn/tổ dân phố | C12: Khảo sát thực trạng, xây dựng tờ trình, đề án, tổ chức lấy ý kiến cử tri đại diện hộ gia đình tại khu dân cư về việc sáp nhập. | D12: Đề án sáp nhập/chia tách thôn kèm Biên bản lấy ý kiến cử tri | E12: N4 | F12: 400 | G12: 80 | H12: 80 | I12: 80 | J12: 80 | K12: =SUM(G12:J12) -> 320 | L12: 5 | M12: =K12/5 -> 64
A13: 7 | B13: Thiết lập sơ đồ tổ chức bộ máy và vị trí việc làm | C13: Cập nhật bản mô tả công việc, khung năng lực của từng chức danh chuyên môn theo đề án vị trí việc làm được phê duyệt. | D13: Hồ sơ vị trí việc làm cơ quan (Bản mô tả và Khung năng lực) | E13: N2 | F13: 200 | G13: 50 | H13: 40 | I13: 40 | J13: 40 | K13: =SUM(G13:J13) -> 170 | L13: 5 | M13: =K13/5 -> 34
A14: 8 | B14: Quản lý tổ chức hội, quỹ xã hội, phi chính phủ | C14: Tiếp nhận hồ sơ, theo dõi tình hình tổ chức và hoạt động của các hội đặc thù (Hội Chữ thập đỏ, Hội Người cao tuổi, Hội Khuyến học...). | D14: Báo cáo tình hình tổ chức và hoạt động của các Hội cấp xã | E14: N2 | F14: 200 | G14: 40 | H14: 40 | I14: 50 | J14: 50 | K14: =SUM(G14:J14) -> 180 | L14: 5 | M14: =K14/5 -> 36
A15: 9 | B15: Quản lý hoạt động Thôn | C15: Tham mưu quy trình bầu cử Trưởng thôn, phê duyệt hương ước. | D15: Quyết định kết quả; Hương ước thôn được duyệt | E15: N3 | F15: 300 | G15: 70 | H15: 60 | I15: 60 | J15: 60 | K15: =SUM(G15:J15) -> 250 | L15: 5 | M15: =K15/5 -> 50
A16: 10 | B16: Công tác Bầu cử | C16: Chuẩn bị các điều kiện | D16: Hồ sơ kết quả bầu cử (Biên bản kiểm phiếu), Báo cáo, Văn bản, … | E16: N4 | F16: 400 | G16: 80 | H16: 100 | I16: 80 | J16: 80 | K16: =SUM(G16:J16) -> 340 | L16: 5 | M16: =K16/5 -> 68
A17: 11 | B17: Báo cáo đột xuất hỏa tốc | C17: Xây dựng báo cáo hỏa tốc theo yêu cầu khẩn. | D17: Văn bản báo cáo đột xuất gửi cơ quan cấp trên | E17: N3 | F17: 300 | G17: 60 | H17: 70 | I17: 70 | J17: 60 | K17: =SUM(G17:J17) -> 260 | L17: 5 | M17: =K17/5 -> 52
A18: II | B18: CÔNG VIỆC DÙNG CHUNG
B19: LĨNH VỰC TỔ CHỨC, CÁN BỘ
A20: 1 | B20: Quản lý Hồ sơ và Dữ liệu Cán bộ, Công chức | C20: - Vận hành Cơ sở dữ liệu Quốc gia: Trực tiếp cập nhật hằng ngày, đồng bộ hóa 100% biến động (lương, bằng cấp, khen thưởng, kỷ luật) của cán bộ, công chức xã lên Phần mềm quản lý cán bộ, công chức quốc gia. - Lập và lưu trữ hồ sơ giấy: Tiếp nhận, sắp xếp, bổ sung các thành phần hồ sơ lý lịch (mẫu 2C), bản kê khai tài sản, nhận xét đảng viên nơi cư trú của cán bộ, công chức và người hoạt động không chuyên trách. | D20: Báo cáo, Công văn, Kế hoạch, … | E20: N2 | F20: 200 | G20: 40 | H20: 30 | I20: 30 | J20: 40 | K20: =G20+H20+I20+J20 -> 140 | L20: 5 | M20: =K20/5 -> 28
A21: 2 | B21: Tham mưu quản lý, giải quyết chế độ chính sách | C21: - Phân công nhiệm vụ nội bộ: Soạn thảo Quyết định của Chủ tịch UBND xã về việc phân công nhiệm vụ cụ thể, quy chế làm việc và mối quan hệ công tác giữa các vị trí chức danh công chức cấp xã. - Đề xuất chế độ lương, phụ cấp: Định kỳ rà soát thời hạn nâng lương, lập tờ trình kèm hồ sơ gửi thẩm định việc nâng bậc lương, hưởng phụ cấp vượt khung, phụ cấp thu hút cho cán bộ, công chức xã. - Theo dõi đào tạo, quy hoạch: Tổng hợp danh sách cán bộ, công chức xã đủ điều kiện cử đi học các lớp chuẩn hóa trình độ hoặc các lớp tập huấn kỹ năng chuyên môn do cấp trên tổ chức. | D21: Quyết định, Thông báo, Báo cáo, … | E21: N2 | F21: 200 | G21: 40 | H21: 40 | I21: 30 | J21: 30 | K21: =G21+H21+I21+J21 -> 140 | L21: 5 | M21: =K21/5 -> 28
A22: 3 | B22: Về kỷ cương công vụ và đánh giá, xếp loại định kỳ | C22: - Kiểm tra kỷ luật, kỷ cương hành chính: Trực tiếp giám sát việc chấp hành giờ giấc làm việc, đeo thẻ công chức, văn hóa ứng xử tại Bộ phận Một cửa và tại các phòng làm việc của UBND xã. - Đánh giá, xếp loại: triển khai, hướng dẫn cán bộ, công chức thực hiện; tổng hợp ý kiến nhận xét; chuẩn bị tài liệu cho cuộc họp đánh giá, phân loại chất lượng định kỳ. - Người hoạt động không chuyên trách: Tham mưu quy trình bầu chọn, tuyển chọn, ký kết thỏa thuận công việc và giải quyết chế độ phụ cấp đối với đội ngũ không chuyên trách ở xã và ở thôn/tổ dân phố. | D22: Kế hoạch, Quyết định, Báo cáo, … | E22: N2 | F22: 200 | G22: 40 | H22: 30 | I22: 20 | J22: 30 | K22: =G22+H22+I22+J22 -> 120 | L22: 5 | M22: =K22/5 -> 24
B23: LĨNH VỰC CẢI CÁCH HÀNH CHÍNH
A24: 4 | B24: Tham mưu ban hành văn bản chỉ đạo điều hành, triển khai thực hiện các nội dung công tác CCHC | C24: Tham mưu văn bản về Kế hoạch CCHC năm của UBND xã; Kế hoạch khắc phục hạn chế sau kiểm tra; Báo cáo kết quả CCHC định kỳ của xã; Lịch và biên bản tiếp công dân của Lãnh đạo. | D24: Văn bản, Kế hoạch, Báo cáo | E24: N2 | F24: 200 | G24: 20 | H24: 30 | I24: 20 | J24: 20 | K24: =SUM(G24:J24) -> 90 | L24: 5 | M24: =K24/5 -> 18
A25: 5 | B25: Tham mưu văn bản về Cải cách bộ máy | C25: - Quyết định phân công nhiệm vụ cụ thể cho công chức xã. - Báo cáo rà soát chức năng, nhiệm vụ, quy chế làm việc. - Hồ sơ sáp nhập, chia tách thôn, tổ dân phố (nếu có). | D25: Công văn, Quyết định, Báo cáo, Hồ sơ … | E25: N3 | F25: 300 | G25: 30 | H25: 40 | I25: 40 | J25: 40 | K25: =SUM(G25:J25) -> 150 | L25: 5 | M25: =K25/5 -> 30
A26: 6 | B26: Tham mưu văn bản về Cải cách công vụ | C26: Bản đánh giá, xếp loại chất lượng công chức hằng năm; Hồ sơ quản lý lý lịch, biến động công chức xã; Bảng chấm công, sổ theo dõi kỷ luật, kỷ cương công vụ. | D26: Công văn, Quyết định, Báo cáo, Hồ sơ … | E26: N2 | F26: 200 | G26: 15 | H26: 10 | I26: 20 | J26: 20 | K26: =SUM(G26:J26) -> 65 | L26: 5 | M26: =K26/5 -> 13
B27: LĨNH VỰC TỔNG HỢP, HÀNH CHÍNH
A28: 1 | B28: Thông báo có tính chuyên môn nghiệp vụ | C28: Có tổng hợp, xử lý số liệu chuyên môn nghiệp vụ, như: Thông báo tuyển dụng; Thông báo kết quả tuyển dụng; thông báo nghỉ hưu; thông báo đánh giá, xếp loại cán bộ, công chức, viên chức; thông báo kết quả… | D28: Thông báo | E28: N2 | F28: 200 | G28: 10 | H28: 10 | I28: 5 | J28: 5 | K28: =G28+H28+I28+J28 -> 30 | L28: 5 | M28: =K28/5 -> 6
A29: 2 | B29: Biên bản ghi nhận, xác lập các sự việc đơn giản trong phạm vi cơ quan, đơn vị, địa phương | C29: Biên bản ghi nhận trực tiếp một sự việc cụ thể, phạm vi hẹp, không đi sâu phân tích: Biên bản bàn giao tài liệu, hồ sơ; biên bản niêm phong; biên bản xác định hiện trạng… | D29: Biên bản | E29: N1 | F29: 100 | G29: 1.5 | H29: 1.5 | I29: 1 | J29: 1 | K29: =G29+H29+I29+J29 -> 5 | L29: 5 | M29: =K29/5 -> 1
A30: 3 | B30: Biên bản ghi nhận quá trình và kết quả thực hiện công việc | C30: Biên bản phản ánh diễn biến; có thể ghi nhận nhiều ý kiến: Biên bản họp giao ban, biên bản họp xét nâng lương, biên bản họp xét thi đua - khen thưởng, biên bản họp hội đồng tuyển dụng, biên bản họp hội đồng xét sáng kiến, biên bản kiểm tra… | D30: Biên bản | E30: N2 | F30: 200 | G30: 5 | H30: 5 | I30: 5 | J30: 5 | K30: =G30+H30+I30+J30 -> 20 | L30: 5 | M30: =K30/5 -> 4
A31: 4 | B31: Báo cáo cung cấp thông tin, số liệu, sự vụ đơn giản | C31: Báo cáo nhanh; nội dung báo cáo ngắn gọn, chủ yếu là số liệu, tình hình; thường mang tính định kỳ hoặc đột xuất đơn giản: báo cáo nhanh, báo cáo tuần, tháng, báo cáo cung cấp số liệu… | D31: Báo cáo | E31: N2 | F31: 200 | G31: 8 | H31: 7 | I31: 5 | J31: 5 | K31: =G31+H31+I31+J31 -> 25 | L31: 5 | M31: =K31/5 -> 5
A32: 5 | B32: Báo cáo khó khăn, vướng mắc theo nhiệm vụ được giao (Về tiến độ chương trình, dự án, kế hoạch.., ) | C32: Báo cáo cấp thẩm quyền về những khó khăn, vướng mắc trong thực hiện nhiệm vụ; kiến nghị đề xuất giải pháp thực hiện | D32: Báo cáo | E32: N2 | F32: 200 | G32: 25 | H32: 20 | I32: 20 | J32: 15 | K32: =G32+H32+I32+J32 -> 80 | L32: 5 | M32: =K32/5 -> 16
A33: 6 | B33: Báo cáo tổng hợp, phân tích số liệu, cung cấp thông tin trong phạm vi cơ quan, đơn vị | C33: Báo cáo quý, năm, sơ kết, tổng kết trong phạm vi cơ quan, đơn vị… | D33: Báo cáo | E33: N2 | F33: 200 | G33: 18 | H33: 14 | I33: 14 | J33: 14 | K33: =G33+H33+I33+J33 -> 60 | L33: 5 | M33: =K33/5 -> 12
A34: 7 | B34: Xây dựng đề án trong phạm vi cơ quan, đơn vị | C34: Đề án vị trí việc làm, đề án xét thăng hạng, nâng ngạch; Đề án xây dựng văn hóa công sở và đạo đức công vụ | D34: Đề án | E34: N2 | F34: 200 | G34: 40 | H34: 35 | I34: 30 | J34: 25 | K34: =G34+H34+I34+J34 -> 130 | L34: 5 | M34: =K34/5 -> 26
A35: 8 | B35: Tờ trình xin ý kiến các nhiệm vụ thường xuyên, đơn giản theo quy định trong phạm vi cơ quan, đơn vị; Tờ trình đề nghị phê duyệt, ký quyết định hành chính cơ bản, văn bản có nội dung, phạm vi ảnh hưởng nhỏ | C35: Tờ trình đơn giản, thường xuyên, công việc lặp lại: mua sắm, nâng lương thường xuyên… | D35: Tờ trình | E35: N2 | F35: 200 | G35: 6 | H35: 5 | I35: 5 | J35: 4 | K35: =G35+H35+I35+J35 -> 20 | L35: 5 | M35: =K35/5 -> 4
A36: 9 | B36: Quyết định hành chính cá biệt về chế độ, chính sách, công tác cán bộ, khen thưởng, kỷ luật | C36: Quyết định nâng bậc lương thường xuyên, nâng bậc lương trước thời hạn; Quyết định cử cán bộ, công chức, viên chức tham gia đào tạo, bồi dưỡng; Quyết định bổ nhiệm, luân chuyển, điều động, biệt phái; Quyết định xử lý kỷ luật, Quyết định thanh tra, Quyết định kiểm tra, Quyết định thành lập đoàn… | D36: Quyết định | E36: N2 | F36: 200 | G36: 6 | H36: 5 | I36: 5 | J36: 4 | K36: =G36+H36+I36+J36 -> 20 | L36: 5 | M36: =K36/5 -> 4
A37: 10 | B37: Văn bản triển khai chuyên môn nghiệp vụ trong phạm vi cơ quan đơn vị | C37: Triển khai rà soát thủ tục hành chính trong nội bộ cơ quan; triển khai rà soát, xây dựng đề án vị trí việc làm… | D37: Công văn | E37: N2 | F37: 100 | G37: 6 | H37: 5 | I37: 5 | J37: 4 | K37: =G37+H37+I37+J37 -> 20 | L37: 5 | M37: =K37/5 -> 4

Sheet DMCV CV3 - NVTQ
A1: BẢNG DANH MỤC SẢN PHẨM CÔNG VIỆC
M2: Nguyễn Hùng Cường | kinhcan24 | blognhansu.net.vn
A3: Quý …., Năm ….
A4: Họ và tên: | E4: Nguyễn Thị H… | F4: Ngày sinh: ………………………........
A5: Vị trí: | E5: Nội vụ - Thủ quỹ
A6: Đơn vị công tác: | E6: Phòng Văn hóa xã hội
A8: TT | B8: Nhiệm vụ | F8: Định mức lao động
F9: Cấp trình | G9: Độ khó, mới, phức tạp; phạm vi tác động | H9: Sản phẩm | I9: Số lượng | J9: Tiến độ/ tần suất | K9: Ghi chú | L9: Điểm chấm công việc | M9: Hệ số quy đổi
B10: Quản lý tài chính của phòng
C11: Thủ quỹ của Phòng VHXH. | I11: 1 | J11: Hàng ngày | M11: =L11/MIN($L:$L) -> 0
B12: Lĩnh vực Nội vụ
C13: Tổ chức hành chính, sự nghiệp nhà nước;
D14: Thông báo có tính chuyên môn nghiệp vụ
E15: Có tổng hợp, xử lý số liệu chuyên môn nghiệp vụ, như: Thông báo tuyển dụng; Thông báo kết quả tuyển dụng; thông báo nghỉ hưu; thông báo đánh giá, xếp loại cán bộ, công chức, viên chức; thông báo kết quả… | H15: Thông báo | I15: 1 | L15: ='Danh mục Nội vụ'!K28 -> 30 | M15: =L15/MIN($L:$L) -> 6
D16: Biên bản ghi nhận, xác lập các sự việc đơn giản trong phạm vi cơ quan, đơn vị, địa phương
E17: Biên bản ghi nhận trực tiếp một sự việc cụ thể, phạm vi hẹp, không đi sâu phân tích: Biên bản bàn giao tài liệu, hồ sơ; biên bản niêm phong; biên bản xác định hiện trạng… | H17: Biên bản | I17: 1 | L17: ='Danh mục Nội vụ'!K29 -> 5 | M17: =L17/MIN($L:$L) -> 1
D18: Biên bản ghi nhận quá trình và kết quả thực hiện công việc
E19: Biên bản phản ánh diễn biến; có thể ghi nhận nhiều ý kiến: Biên bản họp giao ban, biên bản họp xét nâng lương, biên bản họp xét thi đua - khen thưởng, biên bản họp hội đồng tuyển dụng, biên bản họp hội đồng xét sáng kiến, biên bản kiểm tra… | H19: Biên bản | I19: 1 | L19: ='Danh mục Nội vụ'!K30 -> 20 | M19: =L19/MIN($L:$L) -> 4
D20: Báo cáo cung cấp thông tin, số liệu, sự vụ đơn giản
E21: Báo cáo nhanh; nội dung báo cáo ngắn gọn, chủ yếu là số liệu, tình hình; thường mang tính định kỳ hoặc đột xuất đơn giản: báo cáo nhanh, báo cáo tuần, tháng, báo cáo cung cấp số liệu… | H21: Báo cáo | I21: 1 | L21: ='Danh mục Nội vụ'!K31 -> 25 | M21: =L21/MIN($L:$L) -> 5
D22: Báo cáo khó khăn, vướng mắc theo nhiệm vụ được giao (Về tiến độ chương trình, dự án, kế hoạch.., )
E23: Báo cáo cấp thẩm quyền về những khó khăn, vướng mắc trong thực hiện nhiệm vụ; kiến nghị đề xuất giải pháp thực hiện | H23: Báo cáo | I23: 1 | L23: ='Danh mục Nội vụ'!K32 -> 80 | M23: =L23/MIN($L:$L) -> 16
D24: Báo cáo tổng hợp, phân tích số liệu, cung cấp thông tin trong phạm vi cơ quan, đơn vị
E25: Báo cáo quý, năm, sơ kết, tổng kết trong phạm vi cơ quan, đơn vị… | H25: Báo cáo | I25: 1 | L25: ='Danh mục Nội vụ'!K33 -> 60 | M25: =L25/MIN($L:$L) -> 12
D26: Xây dựng đề án trong phạm vi cơ quan, đơn vị
E27: Đề án vị trí việc làm, đề án xét thăng hạng, nâng ngạch; Đề án xây dựng văn hóa công sở và đạo đức công vụ | H27: Đề án | I27: 1 | L27: ='Danh mục Nội vụ'!K34 -> 130 | M27: =L27/MIN($L:$L) -> 26
D28: Tờ trình xin ý kiến các nhiệm vụ thường xuyên, đơn giản theo quy định trong phạm vi cơ quan, đơn vị; Tờ trình đề nghị phê duyệt, ký quyết định hành chính cơ bản, văn bản có nội dung, phạm vi ảnh hưởng nhỏ
E29: Tờ trình đơn giản, thường xuyên, công việc lặp lại: mua sắm, nâng lương thường xuyên… | H29: Tờ trình | I29: 1 | L29: ='Danh mục Nội vụ'!K35 -> 20 | M29: =L29/MIN($L:$L) -> 4
D30: Quyết định hành chính cá biệt về chế độ, chính sách, công tác cán bộ, khen thưởng, kỷ luật
E31: Quyết định nâng bậc lương thường xuyên, nâng bậc lương trước thời hạn; Quyết định cử cán bộ, công chức, viên chức tham gia đào tạo, bồi dưỡng; Quyết định bổ nhiệm, luân chuyển, điều động, biệt phái; Quyết định xử lý kỷ luật, Quyết định thanh tra, Quyết định kiểm tra, Quyết định thành lập đoàn… | H31: Quyết định | I31: 1 | L31: ='Danh mục Nội vụ'!K36 -> 20 | M31: =L31/MIN($L:$L) -> 4
D32: Văn bản triển khai chuyên môn nghiệp vụ trong phạm vi cơ quan đơn vị
E33: Triển khai rà soát thủ tục hành chính trong nội bộ cơ quan; triển khai rà soát, xây dựng đề án vị trí việc làm… | H33: Công văn | I33: 1 | L33: ='Danh mục Nội vụ'!K37 -> 20 | M33: =L33/MIN($L:$L) -> 4
C34: Cán bộ, công chức, viên chức;
D35: Quản lý Hồ sơ và Dữ liệu Cán bộ, Công chức
E36: - Vận hành Cơ sở dữ liệu Quốc gia: Trực tiếp cập nhật hằng ngày, đồng bộ hóa 100% biến động (lương, bằng cấp, khen thưởng, kỷ luật) của cán bộ, công chức xã lên Phần mềm quản lý cán bộ, công chức quốc gia. | H36: Báo cáo, Công văn, Kế hoạch, … | I36: 1 | L36: ='Danh mục Nội vụ'!K20 -> 140 | M36: =L36/MIN($L:$L) -> 28
E37: - Lập và lưu trữ hồ sơ giấy: Tiếp nhận, sắp xếp, bổ sung các thành phần hồ sơ lý lịch (mẫu 2C), bản kê khai tài sản, nhận xét đảng viên nơi cư trú của cán bộ, công chức và người hoạt động không chuyên trách.
D38: Về kỷ cương công vụ và đánh giá, xếp loại định kỳ
E39: - Kiểm tra kỷ luật, kỷ cương hành chính: Trực tiếp giám sát việc chấp hành giờ giấc làm việc, đeo thẻ công chức, văn hóa ứng xử tại Bộ phận Một cửa và tại các phòng làm việc của UBND xã. | H39: Kế hoạch, Quyết định, Báo cáo, … | I39: 1 | L39: ='Danh mục Nội vụ'!K22 -> 120 | M39: =L39/MIN($L:$L) -> 24
E40: - Đánh giá, xếp loại: triển khai, hướng dẫn cán bộ, công chức thực hiện; tổng hợp ý kiến nhận xét; chuẩn bị tài liệu cho cuộc họp đánh giá, phân loại chất lượng định kỳ.
E41: - Người hoạt động không chuyên trách: Tham mưu quy trình bầu chọn, tuyển chọn, ký kết thỏa thuận công việc và giải quyết chế độ phụ cấp đối với đội ngũ không chuyên trách ở xã và ở thôn/tổ dân phố.
...

Sheet KPI CV3 - NVTQ
A1: KẾT QUẢ THỰC HIỆN NHIỆM VỤ (KPI)
A2: Quý …., Năm …. | R2: Nguyễn Hùng Cường | kinhcan24 | blognhansu.net.vn
A3: Họ và tên: | E3: Nguyễn Thị H… | F3: Ngày sinh: ………………………........
A4: Vị trí: | E4: Nội vụ - Thủ quỹ
A5: Đơn vị công tác: | E5: Phòng Văn hóa xã hội
A7: TT | B7: NHIỆM VỤ ĐỀ RA KẾ HOẠCH | K7: THỰC TẾ TRIỂN KHAI
B8: Nhiệm vụ | F8: Sản phẩm | G8: Số lượng | H8: Tiến độ | I8: Hệ số quy đổi | J8: Số lượng quy đổi | K8: KPI (A) | M8: KPI (B) | O8: KPI © | Q8: Lãnh đạo, chỉ đạo, điều hành
K9: (Số lượng) | M9: (Chất lượng) | O9: (Tiến độ)
K10: Thực tế hoàn thành | L10: Quy đổi | M10: Thực tế hoàn thành | N10: Quy đổi | O10: Thực tế hoàn thành | P10: Quy đổi | Q10: Thực tế hoàn thành | R10: Quy đổi
B11: ='DMCV CV3 - NVTQ'!B10 -> Quản lý tài chính của phòng
C12: ='DMCV CV3 - NVTQ'!C11 -> Thủ quỹ của Phòng VHXH. | F12: ='DMCV CV3 - NVTQ'!H11 -> 0 | G12: ='DMCV CV3 - NVTQ'!I11 -> 1 | H12: ='DMCV CV3 - NVTQ'!J11 -> Hàng ngày | I12: ='DMCV CV3 - NVTQ'!M11 -> 0 | J12: =I12*G12 -> 0 | K12: 1 | L12: =K12/G12*J12 -> 0 | M12: 1 | N12: =M12/G12*J12 -> 0 | O12: 1 | P12: =O12/G12*J12 -> 0 | Q12: 1 | R12: =Q12/G12*J12 -> 0
B13: ='DMCV CV3 - NVTQ'!B12 -> Lĩnh vực Nội vụ
C14: ='DMCV CV3 - NVTQ'!C13 -> Tổ chức hành chính, sự nghiệp nhà nước;
D15: ='DMCV CV3 - NVTQ'!D14 -> Thông báo có tính chuyên môn nghiệp vụ
E16: ='DMCV CV3 - NVTQ'!E15 -> Có tổng hợp, xử lý số liệu chuyên môn nghiệp vụ, như: Thông báo tuyển dụng; Thông báo kết quả tuyển dụng; thông báo nghỉ hưu; thông báo đánh giá, xếp loại cán bộ, công chức, viên chức; thông báo kết quả… | F16: ='DMCV CV3 - NVTQ'!H15 -> Thông báo | G16: ='DMCV CV3 - NVTQ'!I15 -> 1 | H16: ='DMCV CV3 - NVTQ'!J15 -> 0 | I16: ='DMCV CV3 - NVTQ'!M15 -> 6 | J16: =I16*G16 -> 6 | K16: 1 | L16: =K16/G16*J16 -> 6 | M16: 1 | N16: =M16/G16*J16 -> 6 | O16: 1 | P16: =O16/G16*J16 -> 6 | Q16: 1 | R16: =Q16/G16*J16 -> 6
D17: ='DMCV CV3 - NVTQ'!D16 -> Biên bản ghi nhận, xác lập các sự việc đơn giản trong phạm vi cơ quan, đơn vị, địa phương
E18: ='DMCV CV3 - NVTQ'!E17 -> Biên bản ghi nhận trực tiếp một sự việc cụ thể, phạm vi hẹp, không đi sâu phân tích: Biên bản bàn giao tài liệu, hồ sơ; biên bản niêm phong; biên bản xác định hiện trạng… | F18: ='DMCV CV3 - NVTQ'!H17 -> Biên bản | G18: ='DMCV CV3 - NVTQ'!I17 -> 1 | H18: ='DMCV CV3 - NVTQ'!J17 -> 0 | I18: ='DMCV CV3 - NVTQ'!M17 -> 1 | J18: =I18*G18 -> 1 | K18: 1 | L18: =K18/G18*J18 -> 1 | M18: 1 | N18: =M18/G18*J18 -> 1 | O18: 1 | P18: =O18/G18*J18 -> 1 | Q18: 1 | R18: =Q18/G18*J18 -> 1
D19: ='DMCV CV3 - NVTQ'!D18 -> Biên bản ghi nhận quá trình và kết quả thực hiện công việc
E20: ='DMCV CV3 - NVTQ'!E19 -> Biên bản phản ánh diễn biến; có thể ghi nhận nhiều ý kiến: Biên bản họp giao ban, biên bản họp xét nâng lương, biên bản họp xét thi đua - khen thưởng, biên bản họp hội đồng tuyển dụng, biên bản họp hội đồng xét sáng kiến, biên bản kiểm tra… | F20: ='DMCV CV3 - NVTQ'!H19 -> Biên bản | G20: ='DMCV CV3 - NVTQ'!I19 -> 1 | H20: ='DMCV CV3 - NVTQ'!J19 -> 0 | I20: ='DMCV CV3 - NVTQ'!M19 -> 4 | J20: =I20*G20 -> 4 | K20: 1 | L20: =K20/G20*J20 -> 4 | M20: 1 | N20: =M20/G20*J20 -> 4 | O20: 1 | P20: =O20/G20*J20 -> 4 | Q20: 1 | R20: =Q20/G20*J20 -> 4
D21: ='DMCV CV3 - NVTQ'!D20 -> Báo cáo cung cấp thông tin, số liệu, sự vụ đơn giản
E22: ='DMCV CV3 - NVTQ'!E21 -> Báo cáo nhanh; nội dung báo cáo ngắn gọn, chủ yếu là số liệu, tình hình; thường mang tính định kỳ hoặc đột xuất đơn giản: báo cáo nhanh, báo cáo tuần, tháng, báo cáo cung cấp số liệu… | F22: ='DMCV CV3 - NVTQ'!H21 -> Báo cáo | G22: ='DMCV CV3 - NVTQ'!I21 -> 1 | H22: ='DMCV CV3 - NVTQ'!J21 -> 0 | I22: ='DMCV CV3 - NVTQ'!M21 -> 5 | J22: =I22*G22 -> 5 | K22: 1 | L22: =K22/G22*J22 -> 5 | M22: 1 | N22: =M22/G22*J22 -> 5 | O22: 1 | P22: =O22/G22*J22 -> 5 | Q22: 1 | R22: =Q22/G22*J22 -> 5
D23: ='DMCV CV3 - NVTQ'!D22 -> Báo cáo khó khăn, vướng mắc theo nhiệm vụ được giao (Về tiến độ chương trình, dự án, kế hoạch.., )
E24: ='DMCV CV3 - NVTQ'!E23 -> Báo cáo cấp thẩm quyền về những khó khăn, vướng mắc trong thực hiện nhiệm vụ; kiến nghị đề xuất giải pháp thực hiện | F24: ='DMCV CV3 - NVTQ'!H23 -> Báo cáo | G24: ='DMCV CV3 - NVTQ'!I23 -> 1 | H24: ='DMCV CV3 - NVTQ'!J23 -> 0 | I24: ='DMCV CV3 - NVTQ'!M23 -> 16 | J24: =I24*G24 -> 16 | K24: 1 | L24: =K24/G24*J24 -> 16 | M24: 1 | N24: =M24/G24*J24 -> 16 | O24: 1 | P24: =O24/G24*J24 -> 16 | Q24: 1 | R24: =Q24/G24*J24 -> 16
D25: ='DMCV CV3 - NVTQ'!D24 -> Báo cáo tổng hợp, phân tích số liệu, cung cấp thông tin trong phạm vi cơ quan, đơn vị
E26: ='DMCV CV3 - NVTQ'!E25 -> Báo cáo quý, năm, sơ kết, tổng kết trong phạm vi cơ quan, đơn vị… | F26: ='DMCV CV3 - NVTQ'!H25 -> Báo cáo | G26: ='DMCV CV3 - NVTQ'!I25 -> 1 | H26: ='DMCV CV3 - NVTQ'!J25 -> 0 | I26: ='DMCV CV3 - NVTQ'!M25 -> 12 | J26: =I26*G26 -> 12 | K26: 1 | L26: =K26/G26*J26 -> 12 | M26: 1 | N26: =M26/G26*J26 -> 12 | O26: 1 | P26: =O26/G26*J26 -> 12 | Q26: 1 | R26: =Q26/G26*J26 -> 12
D27: ='DMCV CV3 - NVTQ'!D26 -> Xây dựng đề án trong phạm vi cơ quan, đơn vị
E28: ='DMCV CV3 - NVTQ'!E27 -> Đề án vị trí việc làm, đề án xét thăng hạng, nâng ngạch; Đề án xây dựng văn hóa công sở và đạo đức công vụ | F28: ='DMCV CV3 - NVTQ'!H27 -> Đề án | G28: ='DMCV CV3 - NVTQ'!I27 -> 1 | H28: ='DMCV CV3 - NVTQ'!J27 -> 0 | I28: ='DMCV CV3 - NVTQ'!M27 -> 26 | J28: =I28*G28 -> 26 | K28: 1 | L28: =K28/G28*J28 -> 26 | M28: 1 | N28: =M28/G28*J28 -> 26 | O28: 1 | P28: =O28/G28*J28 -> 26 | Q28: 1 | R28: =Q28/G28*J28 -> 26
D29: ='DMCV CV3 - NVTQ'!D28 -> Tờ trình xin ý kiến các nhiệm vụ thường xuyên, đơn giản theo quy định trong phạm vi cơ quan, đơn vị; Tờ trình đề nghị phê duyệt, ký quyết định hành chính cơ bản, văn bản có nội dung, phạm vi ảnh hưởng nhỏ
E30: ='DMCV CV3 - NVTQ'!E29 -> Tờ trình đơn giản, thường xuyên, công việc lặp lại: mua sắm, nâng lương thường xuyên… | F30: ='DMCV CV3 - NVTQ'!H29 -> Tờ trình | G30: ='DMCV CV3 - NVTQ'!I29 -> 1 | H30: ='DMCV CV3 - NVTQ'!J29 -> 0 | I30: ='DMCV CV3 - NVTQ'!M29 -> 4 | J30: =I30*G30 -> 4 | K30: 1 | L30: =K30/G30*J30 -> 4 | M30: 1 | N30: =M30/G30*J30 -> 4 | O30: 1 | P30: =O30/G30*J30 -> 4 | Q30: 1 | R30: =Q30/G30*J30 -> 4
D31: ='DMCV CV3 - NVTQ'!D30 -> Quyết định hành chính cá biệt về chế độ, chính sách, công tác cán bộ, khen thưởng, kỷ luật
E32: ='DMCV CV3 - NVTQ'!E31 -> Quyết định nâng bậc lương thường xuyên, nâng bậc lương trước thời hạn; Quyết định cử cán bộ, công chức, viên chức tham gia đào tạo, bồi dưỡng; Quyết định bổ nhiệm, luân chuyển, điều động, biệt phái; Quyết định xử lý kỷ luật, Quyết định thanh tra, Quyết định kiểm tra, Quyết định thành lập đoàn… | F32: ='DMCV CV3 - NVTQ'!H31 -> Quyết định | G32: ='DMCV CV3 - NVTQ'!I31 -> 1 | H32: ='DMCV CV3 - NVTQ'!J31 -> 0 | I32: ='DMCV CV3 - NVTQ'!M31 -> 4 | J32: =I32*G32 -> 4 | K32: 1 | L32: =K32/G32*J32 -> 4 | M32: 1 | N32: =M32/G32*J32 -> 4 | O32: 1 | P32: =O32/G32*J32 -> 4 | Q32: 1 | R32: =Q32/G32*J32 -> 4
D33: ='DMCV CV3 - NVTQ'!D32 -> Văn bản triển khai chuyên môn nghiệp vụ trong phạm vi cơ quan đơn vị
E34: ='DMCV CV3 - NVTQ'!E33 -> Triển khai rà soát thủ tục hành chính trong nội bộ cơ quan; triển khai rà soát, xây dựng đề án vị trí việc làm… | F34: ='DMCV CV3 - NVTQ'!H33 -> Công văn | G34: ='DMCV CV3 - NVTQ'!I33 -> 1 | H34: ='DMCV CV3 - NVTQ'!J33 -> 0 | I34: ='DMCV CV3 - NVTQ'!M33 -> 4 | J34: =I34*G34 -> 4 | K34: 1 | L34: =K34/G34*J34 -> 4 | M34: 1 | N34: =M34/G34*J34 -> 4 | O34: 1 | P34: =O34/G34*J34 -> 4 | Q34: 1 | R34: =Q34/G34*J34 -> 4
C35: ='DMCV CV3 - NVTQ'!C34 -> Cán bộ, công chức, viên chức;
D36: ='DMCV CV3 - NVTQ'!D35 -> Quản lý Hồ sơ và Dữ liệu Cán bộ, Công chức
E37: ='DMCV CV3 - NVTQ'!E36 -> - Vận hành Cơ sở dữ liệu Quốc gia: Trực tiếp cập nhật hằng ngày, đồng bộ hóa 100% biến động (lương, bằng cấp, khen thưởng, kỷ luật) của cán bộ, công chức xã lên Phần mềm quản lý cán bộ, công chức quốc gia. | F37: ='DMCV CV3 - NVTQ'!H36 -> Báo cáo, Công văn, Kế hoạch, … | G37: ='DMCV CV3 - NVTQ'!I36 -> 1 | H37: ='DMCV CV3 - NVTQ'!J36 -> 0 | I37: ='DMCV CV3 - NVTQ'!M36 -> 28 | J37: =I37*G37 -> 28 | K37: 1 | L37: =K37/G37*J37 -> 28 | M37: 1 | N37: =M37/G37*J37 -> 28 | O37: 1 | P37: =O37/G37*J37 -> 28 | Q37: 1 | R37: =Q37/G37*J37 -> 28
E38: ='DMCV CV3 - NVTQ'!E37 -> - Lập và lưu trữ hồ sơ giấy: Tiếp nhận, sắp xếp, bổ sung các thành phần hồ sơ lý lịch (mẫu 2C), bản kê khai tài sản, nhận xét đảng viên nơi cư trú của cán bộ, công chức và người hoạt động không chuyên trách.
D39: ='DMCV CV3 - NVTQ'!D38 -> Về kỷ cương công vụ và đánh giá, xếp loại định kỳ
E40: ='DMCV CV3 - NVTQ'!E39 -> - Kiểm tra kỷ luật, kỷ cương hành chính: Trực tiếp giám sát việc chấp hành giờ giấc làm việc, đeo thẻ công chức, văn hóa ứng xử tại Bộ phận Một cửa và tại các phòng làm việc của UBND xã. | F40: ='DMCV CV3 - NVTQ'!H39 -> Kế hoạch, Quyết định, Báo cáo, … | G40: ='DMCV CV3 - NVTQ'!I39 -> 1 | H40: ='DMCV CV3 - NVTQ'!J39 -> 0 | I40: ='DMCV CV3 - NVTQ'!M39 -> 24 | J40: =I40*G40 -> 24 | K40: 1 | L40: =K40/G40*J40 -> 24 | M40: 1 | N40: =M40/G40*J40 -> 24 | O40: 1 | P40: =O40/G40*J40 -> 24 | Q40: 1 | R40: =Q40/G40*J40 -> 24
E41: ='DMCV CV3 - NVTQ'!E40 -> - Đánh giá, xếp loại: triển khai, hướng dẫn cán bộ, công chức thực hiện; tổng hợp ý kiến nhận xét; chuẩn bị tài liệu cho cuộc họp đánh giá, phân loại chất lượng định kỳ.
...

Sheet KPI vi tri Noi vu
A1: KẾT QUẢ THỰC HIỆN NHIỆM VỤ (KPI)
A2: Quý …., Năm …. | T2: Nguyễn Hùng Cường | kinhcan24 | blognhansu.net.vn
A3: Họ và tên: | C3: Nguyễn Thị H… | D3: Ngày sinh: ………………………........
A4: Vị trí: | C4: Nội vụ - Thủ quỹ
A5: Đơn vị công tác: | C5: Phòng Văn hóa xã hội
A7: STT | B7: Nhiệm vụ / Nhóm nhiệm vụ | C7: Công việc chi tiết | D7: Sản phẩm đầu ra | E7: Phân nhóm | F7: Khung điểm tối đa | G7: Điểm tiêu chí 1: Mức độ khó | H7: Điểm tiêu chí 2: Thời gian hao phí | I7: Điểm tiêu chí 3: Phối hợp | J7: Điểm tiêu chí 4: Phạm vi áp dụng | K7: Điểm chấm | L7: Điểm đơn vị sản phẩm công việc chuẩn | M7: Hệ số quy đổi | N7: Ghi chú | O7: Số lượng | P7: Số lượng quy đổi | Q7: THỰC TẾ TRIỂN KHAI
Q8: KPI | S8: KPI | U8: KPI | W8: Lãnh đạo, chỉ đạo, điều hành
Q9: (Số lượng) | S9: (Chất lượng) | U9: (Tiến độ)
Q10: Thực tế hoàn thành | R10: Quy đổi | S10: Thực tế hoàn thành | T10: Quy đổi | U10: Thực tế hoàn thành | V10: Quy đổi | W10: Thực tế hoàn thành | X10: Quy đổi
A11: 1 | B11: 2 | C11: 3 | D11: 4 | E11: 5 | F11: 6 | G11: 7 | H11: 8 | I11: 9 | J11: 10 | K11: 11 | L11: 12 | M11: 13 | N11: 14
B12: Soạn thảo văn bản hành chính đơn giản | C12: Soạn thảo văn bản | D12: Văn bản hành chính | E12: N1 | F12: 1 | G12: 2 | H12: 1 | I12: 1 | J12: 5 | K12: 5 | L12: 5 | M12: 1 | N12: Đơn vị sản phẩm, công việc chuẩn | O12: 1 | P12: =O12*M12 -> 1 | Q12: 1 | R12: =Q12/O12*P12 -> 1 | S12: 1 | T12: =S12/O12*P12 -> 1 | U12: 1 | V12: =U12/O12*P12 -> 1 | W12: 1 | X12: =W12/O12*P12 -> 1
A13: I | B13: CÔNG VIỆC CHUYÊN MÔN
A14: 1 | B14: Quản lý hồ sơ cán bộ | C14: Cập nhật hồ sơ lý lịch CBCC lên phần mềm. | D14: Cơ sở dữ liệu; Sổ theo dõi hồ sơ | E14: N1 | F14: 100 | G14: 10 | H14: 10 | I14: 10 | J14: 10 | K14: =SUM(G14:J14) -> 40 | L14: 5 | M14: =K14/5 -> 8 | O14: 1 | P14: =O14*M14 -> 8 | Q14: 1 | R14: =Q14/O14*P14 -> 8 | S14: 1 | T14: =S14/O14*P14 -> 8 | U14: 1 | V14: =U14/O14*P14 -> 8 | W14: 1 | X14: =W14/O14*P14 -> 8
A15: 2 | B15: Hồ sơ nâng lương định kỳ | C15: Rà soát danh sách, lập tờ trình | D15: Tờ trình kèm Danh sách nâng lương | E15: N2 | F15: 200 | G15: 30 | H15: 20 | I15: 20 | J15: 10 | K15: =SUM(G15:J15) -> 80 | L15: 5 | M15: =K15/5 -> 16 | O15: 1 | P15: =O15*M15 -> 16 | Q15: 1 | R15: =Q15/O15*P15 -> 16 | S15: 1 | T15: =S15/O15*P15 -> 16 | U15: 1 | V15: =U15/O15*P15 -> 16 | W15: 1 | X15: =W15/O15*P15 -> 16
A16: 3 | B16: Quy hoạch, bổ nhiệm cán bộ | C16: Tham mưu quy trình rà soát quy hoạch chức danh lãnh đạo. | D16: Tờ trình, Biên bản các bước quy trình | E16: N4 | F16: 400 | G16: 50 | H16: 50 | I16: 60 | J16: 60 | K16: =SUM(G16:J16) -> 220 | L16: 5 | M16: =K16/5 -> 44 | O16: 1 | P16: =O16*M16 -> 44 | Q16: 1 | R16: =Q16/O16*P16 -> 44 | S16: 1 | T16: =S16/O16*P16 -> 44 | U16: 1 | V16: =U16/O16*P16 -> 44 | W16: 1 | X16: =W16/O16*P16 -> 44
A17: 4 | B17: Đánh giá, xếp loại CBCC | C17: Tổng hợp phiếu chấm điểm sản phẩm toàn cơ quan cấp xã. | D17: Quyết định phân loại chất lượng năm | E17: N3 | F17: 300 | G17: 40 | H17: 40 | I17: 50 | J17: 50 | K17: =SUM(G17:J17) -> 180 | L17: 5 | M17: =K17/5 -> 36 | O17: 1 | P17: =O17*M17 -> 36 | Q17: 1 | R17: =Q17/O17*P17 -> 36 | S17: 1 | T17: =S17/O17*P17 -> 36 | U17: 1 | V17: =U17/O17*P17 -> 36 | W17: 1 | X17: =W17/O17*P17 -> 36
A18: 5 | B18: Kiểm tra công vụ cơ quan | C18: Kiểm tra việc chấp hành giờ giấc, tác phong làm việc. | D18: Biên bản kiểm tra, Thông báo, Báo cáo, ... | E18: N2 | F18: 200 | G18: 30 | H18: 20 | I18: 20 | J18: 30 | K18: =SUM(G18:J18) -> 100 | L18: 5 | M18: =K18/5 -> 20 | O18: 1 | P18: =O18*M18 -> 20 | Q18: 1 | R18: =Q18/O18*P18 -> 20 | S18: 1 | T18: =S18/O18*P18 -> 20 | U18: 1 | V18: =U18/O18*P18 -> 20 | W18: 1 | X18: =W18/O18*P18 -> 20
A19: 6 | B19: Đề án sắp xếp, sáp nhập, chia tách thôn/tổ dân phố | C19: Khảo sát thực trạng, xây dựng tờ trình, đề án, tổ chức lấy ý kiến cử tri đại diện hộ gia đình tại khu dân cư về việc sáp nhập. | D19: Đề án sáp nhập/chia tách thôn kèm Biên bản lấy ý kiến cử tri | E19: N4 | F19: 400 | G19: 80 | H19: 80 | I19: 80 | J19: 80 | K19: =SUM(G19:J19) -> 320 | L19: 5 | M19: =K19/5 -> 64 | O19: 1 | P19: =O19*M19 -> 64 | Q19: 1 | R19: =Q19/O19*P19 -> 64 | S19: 1 | T19: =S19/O19*P19 -> 64 | U19: 1 | V19: =U19/O19*P19 -> 64 | W19: 1 | X19: =W19/O19*P19 -> 64
A20: 7 | B20: Thiết lập sơ đồ tổ chức bộ máy và vị trí việc làm | C20: Cập nhật bản mô tả công việc, khung năng lực của từng chức danh chuyên môn theo đề án vị trí việc làm được phê duyệt. | D20: Hồ sơ vị trí việc làm cơ quan (Bản mô tả và Khung năng lực) | E20: N2 | F20: 200 | G20: 50 | H20: 40 | I20: 40 | J20: 40 | K20: =SUM(G20:J20) -> 170 | L20: 5 | M20: =K20/5 -> 34 | O20: 1 | P20: =O20*M20 -> 34 | Q20: 1 | R20: =Q20/O20*P20 -> 34 | S20: 1 | T20: =S20/O20*P20 -> 34 | U20: 1 | V20: =U20/O20*P20 -> 34 | W20: 1 | X20: =W20/O20*P20 -> 34
A21: 8 | B21: Quản lý tổ chức hội, quỹ xã hội, phi chính phủ | C21: Tiếp nhận hồ sơ, theo dõi tình hình tổ chức và hoạt động của các hội đặc thù (Hội Chữ thập đỏ, Hội Người cao tuổi, Hội Khuyến học...). | D21: Báo cáo tình hình tổ chức và hoạt động của các Hội cấp xã | E21: N2 | F21: 200 | G21: 40 | H21: 40 | I21: 50 | J21: 50 | K21: =SUM(G21:J21) -> 180 | L21: 5 | M21: =K21/5 -> 36 | O21: 1 | P21: =O21*M21 -> 36 | Q21: 1 | R21: =Q21/O21*P21 -> 36 | S21: 1 | T21: =S21/O21*P21 -> 36 | U21: 1 | V21: =U21/O21*P21 -> 36 | W21: 1 | X21: =W21/O21*P21 -> 36
A22: 9 | B22: Quản lý hoạt động Thôn | C22: Tham mưu quy trình bầu cử Trưởng thôn, phê duyệt hương ước. | D22: Quyết định kết quả; Hương ước thôn được duyệt | E22: N3 | F22: 300 | G22: 70 | H22: 60 | I22: 60 | J22: 60 | K22: =SUM(G22:J22) -> 250 | L22: 5 | M22: =K22/5 -> 50 | O22: 1 | P22: =O22*M22 -> 50 | Q22: 1 | R22: =Q22/O22*P22 -> 50 | S22: 1 | T22: =S22/O22*P22 -> 50 | U22: 1 | V22: =U22/O22*P22 -> 50 | W22: 1 | X22: =W22/O22*P22 -> 50
A23: 10 | B23: Công tác Bầu cử | C23: Chuẩn bị các điều kiện | D23: Hồ sơ kết quả bầu cử (Biên bản kiểm phiếu), Báo cáo, Văn bản, … | E23: N4 | F23: 400 | G23: 80 | H23: 100 | I23: 80 | J23: 80 | K23: =SUM(G23:J23) -> 340 | L23: 5 | M23: =K23/5 -> 68 | O23: 1 | P23: =O23*M23 -> 68 | Q23: 1 | R23: =Q23/O23*P23 -> 68 | S23: 1 | T23: =S23/O23*P23 -> 68 | U23: 1 | V23: =U23/O23*P23 -> 68 | W23: 1 | X23: =W23/O23*P23 -> 68
A24: 11 | B24: Báo cáo đột xuất hỏa tốc | C24: Xây dựng báo cáo hỏa tốc theo yêu cầu khẩn. | D24: Văn bản báo cáo đột xuất gửi cơ quan cấp trên | E24: N3 | F24: 300 | G24: 60 | H24: 70 | I24: 70 | J24: 60 | K24: =SUM(G24:J24) -> 260 | L24: 5 | M24: =K24/5 -> 52 | O24: 1 | P24: =O24*M24 -> 52 | Q24: 1 | R24: =Q24/O24*P24 -> 52 | S24: 1 | T24: =S24/O24*P24 -> 52 | U24: 1 | V24: =U24/O24*P24 -> 52 | W24: 1 | X24: =W24/O24*P24 -> 52
A25: II | B25: CÔNG VIỆC DÙNG CHUNG
B26: LĨNH VỰC TỔ CHỨC, CÁN BỘ
A27: 1 | B27: Quản lý Hồ sơ và Dữ liệu Cán bộ, Công chức | C27: - Vận hành Cơ sở dữ liệu Quốc gia: Trực tiếp cập nhật hằng ngày, đồng bộ hóa 100% biến động (lương, bằng cấp, khen thưởng, kỷ luật) của cán bộ, công chức xã lên Phần mềm quản lý cán bộ, công chức quốc gia. - Lập và lưu trữ hồ sơ giấy: Tiếp nhận, sắp xếp, bổ sung các thành phần hồ sơ lý lịch (mẫu 2C), bản kê khai tài sản, nhận xét đảng viên nơi cư trú của cán bộ, công chức và người hoạt động không chuyên trách. | D27: Báo cáo, Công văn, Kế hoạch, … | E27: N2 | F27: 200 | G27: 40 | H27: 30 | I27: 30 | J27: 40 | K27: =G27+H27+I27+J27 -> 140 | L27: 5 | M27: =K27/5 -> 28 | O27: 1 | P27: =O27*M27 -> 28 | Q27: 1 | R27: =Q27/O27*P27 -> 28 | S27: 1 | T27: =S27/O27*P27 -> 28 | U27: 1 | V27: =U27/O27*P27 -> 28 | W27: 1 | X27: =W27/O27*P27 -> 28
A28: 2 | B28: Tham mưu quản lý, giải quyết chế độ chính sách | C28: - Phân công nhiệm vụ nội bộ: Soạn thảo Quyết định của Chủ tịch UBND xã về việc phân công nhiệm vụ cụ thể, quy chế làm việc và mối quan hệ công tác giữa các vị trí chức danh công chức cấp xã. - Đề xuất chế độ lương, phụ cấp: Định kỳ rà soát thời hạn nâng lương, lập tờ trình kèm hồ sơ gửi thẩm định việc nâng bậc lương, hưởng phụ cấp vượt khung, phụ cấp thu hút cho cán bộ, công chức xã. - Theo dõi đào tạo, quy hoạch: Tổng hợp danh sách cán bộ, công chức xã đủ điều kiện cử đi học các lớp chuẩn hóa trình độ hoặc các lớp tập huấn kỹ năng chuyên môn do cấp trên tổ chức. | D28: Quyết định, Thông báo, Báo cáo, … | E28: N2 | F28: 200 | G28: 40 | H28: 40 | I28: 30 | J28: 30 | K28: =G28+H28+I28+J28 -> 140 | L28: 5 | M28: =K28/5 -> 28 | O28: 1 | P28: =O28*M28 -> 28 | Q28: 1 | R28: =Q28/O28*P28 -> 28 | S28: 1 | T28: =S28/O28*P28 -> 28 | U28: 1 | V28: =U28/O28*P28 -> 28 | W28: 1 | X28: =W28/O28*P28 -> 28
A29: 3 | B29: Về kỷ cương công vụ và đánh giá, xếp loại định kỳ | C29: - Kiểm tra kỷ luật, kỷ cương hành chính: Trực tiếp giám sát việc chấp hành giờ giấc làm việc, đeo thẻ công chức, văn hóa ứng xử tại Bộ phận Một cửa và tại các phòng làm việc của UBND xã. - Đánh giá, xếp loại: triển khai, hướng dẫn cán bộ, công chức thực hiện; tổng hợp ý kiến nhận xét; chuẩn bị tài liệu cho cuộc họp đánh giá, phân loại chất lượng định kỳ. - Người hoạt động không chuyên trách: Tham mưu quy trình bầu chọn, tuyển chọn, ký kết thỏa thuận công việc và giải quyết chế độ phụ cấp đối với đội ngũ không chuyên trách ở xã và ở thôn/tổ dân phố. | D29: Kế hoạch, Quyết định, Báo cáo, … | E29: N2 | F29: 200 | G29: 40 | H29: 30 | I29: 20 | J29: 30 | K29: =G29+H29+I29+J29 -> 120 | L29: 5 | M29: =K29/5 -> 24 | O29: 1 | P29: =O29*M29 -> 24 | Q29: 1 | R29: =Q29/O29*P29 -> 24 | S29: 1 | T29: =S29/O29*P29 -> 24 | U29: 1 | V29: =U29/O29*P29 -> 24 | W29: 1 | X29: =W29/O29*P29 -> 24
B30: LĨNH VỰC CẢI CÁCH HÀNH CHÍNH
A31: 4 | B31: Tham mưu ban hành văn bản chỉ đạo điều hành, triển khai thực hiện các nội dung công tác CCHC | C31: Tham mưu văn bản về Kế hoạch CCHC năm của UBND xã; Kế hoạch khắc phục hạn chế sau kiểm tra; Báo cáo kết quả CCHC định kỳ của xã; Lịch và biên bản tiếp công dân của Lãnh đạo. | D31: Văn bản, Kế hoạch, Báo cáo | E31: N2 | F31: 200 | G31: 20 | H31: 30 | I31: 20 | J31: 20 | K31: =SUM(G31:J31) -> 90 | L31: 5 | M31: =K31/5 -> 18 | O31: 1 | P31: =O31*M31 -> 18 | Q31: 1 | R31: =Q31/O31*P31 -> 18 | S31: 1 | T31: =S31/O31*P31 -> 18 | U31: 1 | V31: =U31/O31*P31 -> 18 | W31: 1 | X31: =W31/O31*P31 -> 18
A32: 5 | B32: Tham mưu văn bản về Cải cách bộ máy | C32: - Quyết định phân công nhiệm vụ cụ thể cho công chức xã. - Báo cáo rà soát chức năng, nhiệm vụ, quy chế làm việc. - Hồ sơ sáp nhập, chia tách thôn, tổ dân phố (nếu có). | D32: Công văn, Quyết định, Báo cáo, Hồ sơ … | E32: N3 | F32: 300 | G32: 30 | H32: 40 | I32: 40 | J32: 40 | K32: =SUM(G32:J32) -> 150 | L32: 5 | M32: =K32/5 -> 30 | O32: 1 | P32: =O32*M32 -> 30 | Q32: 1 | R32: =Q32/O32*P32 -> 30 | S32: 1 | T32: =S32/O32*P32 -> 30 | U32: 1 | V32: =U32/O32*P32 -> 30 | W32: 1 | X32: =W32/O32*P32 -> 30
A33: 6 | B33: Tham mưu văn bản về Cải cách công vụ | C33: Bản đánh giá, xếp loại chất lượng công chức hằng năm; Hồ sơ quản lý lý lịch, biến động công chức xã; Bảng chấm công, sổ theo dõi kỷ luật, kỷ cương công vụ. | D33: Công văn, Quyết định, Báo cáo, Hồ sơ … | E33: N2 | F33: 200 | G33: 15 | H33: 10 | I33: 20 | J33: 20 | K33: =SUM(G33:J33) -> 65 | L33: 5 | M33: =K33/5 -> 13 | O33: 1 | P33: =O33*M33 -> 13 | Q33: 1 | R33: =Q33/O33*P33 -> 13 | S33: 1 | T33: =S33/O33*P33 -> 13 | U33: 1 | V33: =U33/O33*P33 -> 13 | W33: 1 | X33: =W33/O33*P33 -> 13
B34: LĨNH VỰC TỔNG HỢP, HÀNH CHÍNH
A35: 1 | B35: Thông báo có tính chuyên môn nghiệp vụ | C35: Có tổng hợp, xử lý số liệu chuyên môn nghiệp vụ, như: Thông báo tuyển dụng; Thông báo kết quả tuyển dụng; thông báo nghỉ hưu; thông báo đánh giá, xếp loại cán bộ, công chức, viên chức; thông báo kết quả… | D35: Thông báo | E35: N2 | F35: 200 | G35: 10 | H35: 10 | I35: 5 | J35: 5 | K35: =G35+H35+I35+J35 -> 30 | L35: 5 | M35: =K35/5 -> 6 | O35: 1 | P35: =O35*M35 -> 6 | Q35: 1 | R35: =Q35/O35*P35 -> 6 | S35: 1 | T35: =S35/O35*P35 -> 6 | U35: 1 | V35: =U35/O35*P35 -> 6 | W35: 1 | X35: =W35/O35*P35 -> 6
A36: 2 | B36: Biên bản ghi nhận, xác lập các sự việc đơn giản trong phạm vi cơ quan, đơn vị, địa phương | C36: Biên bản ghi nhận trực tiếp một sự việc cụ thể, phạm vi hẹp, không đi sâu phân tích: Biên bản bàn giao tài liệu, hồ sơ; biên bản niêm phong; biên bản xác định hiện trạng… | D36: Biên bản | E36: N1 | F36: 100 | G36: 1.5 | H36: 1.5 | I36: 1 | J36: 1 | K36: =G36+H36+I36+J36 -> 5 | L36: 5 | M36: =K36/5 -> 1 | O36: 1 | P36: =O36*M36 -> 1 | Q36: 1 | R36: =Q36/O36*P36 -> 1 | S36: 1 | T36: =S36/O36*P36 -> 1 | U36: 1 | V36: =U36/O36*P36 -> 1 | W36: 1 | X36: =W36/O36*P36 -> 1
A37: 3 | B37: Biên bản ghi nhận quá trình và kết quả thực hiện công việc | C37: Biên bản phản ánh diễn biến; có thể ghi nhận nhiều ý kiến: Biên bản họp giao ban, biên bản họp xét nâng lương, biên bản họp xét thi đua - khen thưởng, biên bản họp hội đồng tuyển dụng, biên bản họp hội đồng xét sáng kiến, biên bản kiểm tra… | D37: Biên bản | E37: N2 | F37: 200 | G37: 5 | H37: 5 | I37: 5 | J37: 5 | K37: =G37+H37+I37+J37 -> 20 | L37: 5 | M37: =K37/5 -> 4 | O37: 1 | P37: =O37*M37 -> 4 | Q37: 1 | R37: =Q37/O37*P37 -> 4 | S37: 1 | T37: =S37/O37*P37 -> 4 | U37: 1 | V37: =U37/O37*P37 -> 4 | W37: 1 | X37: =W37/O37*P37 -> 4
A38: 4 | B38: Báo cáo cung cấp thông tin, số liệu, sự vụ đơn giản | C38: Báo cáo nhanh; nội dung báo cáo ngắn gọn, chủ yếu là số liệu, tình hình; thường mang tính định kỳ hoặc đột xuất đơn giản: báo cáo nhanh, báo cáo tuần, tháng, báo cáo cung cấp số liệu… | D38: Báo cáo | E38: N2 | F38: 200 | G38: 8 | H38: 7 | I38: 5 | J38: 5 | K38: =G38+H38+I38+J38 -> 25 | L38: 5 | M38: =K38/5 -> 5 | O38: 1 | P38: =O38*M38 -> 5 | Q38: 1 | R38: =Q38/O38*P38 -> 5 | S38: 1 | T38: =S38/O38*P38 -> 5 | U38: 1 | V38: =U38/O38*P38 -> 5 | W38: 1 | X38: =W38/O38*P38 -> 5
A39: 5 | B39: Báo cáo khó khăn, vướng mắc theo nhiệm vụ được giao (Về tiến độ chương trình, dự án, kế hoạch.., ) | C39: Báo cáo cấp thẩm quyền về những khó khăn, vướng mắc trong thực hiện nhiệm vụ; kiến nghị đề xuất giải pháp thực hiện | D39: Báo cáo | E39: N2 | F39: 200 | G39: 25 | H39: 20 | I39: 20 | J39: 15 | K39: =G39+H39+I39+J39 -> 80 | L39: 5 | M39: =K39/5 -> 16 | O39: 1 | P39: =O39*M39 -> 16 | Q39: 1 | R39: =Q39/O39*P39 -> 16 | S39: 1 | T39: =S39/O39*P39 -> 16 | U39: 1 | V39: =U39/O39*P39 -> 16 | W39: 1 | X39: =W39/O39*P39 -> 16
A40: 6 | B40: Báo cáo tổng hợp, phân tích số liệu, cung cấp thông tin trong phạm vi cơ quan, đơn vị | C40: Báo cáo quý, năm, sơ kết, tổng kết trong phạm vi cơ quan, đơn vị… | D40: Báo cáo | E40: N2 | F40: 200 | G40: 18 | H40: 14 | I40: 14 | J40: 14 | K40: =G40+H40+I40+J40 -> 60 | L40: 5 | M40: =K40/5 -> 12 | O40: 1 | P40: =O40*M40 -> 12 | Q40: 1 | R40: =Q40/O40*P40 -> 12 | S40: 1 | T40: =S40/O40*P40 -> 12 | U40: 1 | V40: =U40/O40*P40 -> 12 | W40: 1 | X40: =W40/O40*P40 -> 12
A41: 7 | B41: Xây dựng đề án trong phạm vi cơ quan, đơn vị | C41: Đề án vị trí việc làm, đề án xét thăng hạng, nâng ngạch; Đề án xây dựng văn hóa công sở và đạo đức công vụ | D41: Đề án | E41: N2 | F41: 200 | G41: 40 | H41: 35 | I41: 30 | J41: 25 | K41: =G41+H41+I41+J41 -> 130 | L41: 5 | M41: =K41/5 -> 26 | O41: 1 | P41: =O41*M41 -> 26 | Q41: 1 | R41: =Q41/O41*P41 -> 26 | S41: 1 | T41: =S41/O41*P41 -> 26 | U41: 1 | V41: =U41/O41*P41 -> 26 | W41: 1 | X41: =W41/O41*P41 -> 26
...
