Workbook

Sheet Co cau to chuc
A1: CƠ CẤU TỔ CHỨC PHÒNG KỸ THUẬT CƠ ĐIỆN
M2: Nguyễn Hùng Cường | kinhcan24 | blognhansu.net.vn
A3: 1. Mục đích:
B4: Đảm bảo dịch vụ của công ty được diễn ra liên tục đạt chất lượng, số lượng, tiến độ theo yêu cầu
A6: 2. Sơ đồ tổ chức:
F8: Trưởng phòng
F9: 1
D10: Trưởng nhóm
D11: 4
B12: Kỹ thuật điện | D12: Kỹ thuật bảo trì | F12: Kỹ thuật cơ | H12: Admin
B13: 4 | D13: 1 | F13: 2 | H13: 1
A15: 3. Chức năng của bộ phận
A17: Stt | B17: Chức năng | H17: =F8 -> Trưởng phòng | I17: =D10 -> Trưởng nhóm | J17: =B12 -> Kỹ thuật điện | K17: =D12 -> Kỹ thuật bảo trì | L17: =F12 -> Kỹ thuật cơ | M17: =H12 -> Admin
A18: 1 | B18: Tham gia xây dựng hồ sơ dự thầu | H18: C | I18: T
A19: 2 | B19: Tiếp nhận dự án vận hành kỹ thuật | H19: C | I19: T
A20: 3 | B20: Xây dựng kế hoạch vận hành tòa nhà | H20: C | I20: T
A21: 4 | B21: Duy trì, giám sát các thiết bị cơ, điện trong tòa nhà | H21: C | I21: T | J21: T | L21: T
A22: 5 | B22: Tiến hành sửa chữa, xử lý các sự cố cơ điện phát sinh | H22: C | I22: T | J22: T | L22: T
A23: 6 | B23: Vận hành các máy móc (máy bơm, xử lý nước thải, máy phát điện, PCCC...) | H23: C | I23: T | K23: T
A24: 7 | B24: Duy tu, bảo dưỡng, bào trì máy móc thiết bị | H24: C | I24: T | K24: T
A25: 8 | B25: Hướng dẫn, huấn luyện an toàn sử dung thiết bị cho người trong tòa nhà | H25: C | I25: T | J25: T | K25: T | L25: T
A26: 9 | B26: Trả lời các phàn nàn, khiếu kiện của khách hàng | H26: C | I26: T | M26: T
A27: 10 | B27: Thống kê, báo cáo tình hình triển khai dịch vụ | H27: C | M27: T
B29: C (Chịu trách nhiệm chính), T (tham gia trực tiếp vào dòng chảy hoạt động), H (hỗ trợ)

Sheet Thu vien KPI p Ky thuat
I1: BẢNG GIAO MỤC TIÊU HOẠT ĐỘNG TOÀN CÔNG TY NĂM (Ban hành theo quyết định số ………./HĐQT ngày ……/……./………… | AF1: Số:
AF2: Ngày: ……/……/………
M3: C (Chịu trách nhiệm chính), T (tham gia trực tiếp vào dòng chảy hoạt động), H (hỗ trợ) | AA3: Nguyễn Hùng Cường | kinhcan24 | blognhansu.net.vn
A4: Stt | B4: Viễn cảnh BSC | C4: Trọng số Mục tiêu | D4: Ký hiệu | F4: Mục tiêu chiến lược | G4: Chiến thuật/ nhân tố dẫn tới sự thành công của chiến lược (CSF) | H4: Nhân tố hay hành động nào dẫn tới sự thành công của chiến lược và chiến thuật | I4: Trọng số | K4: Phân loại | L4: Chiến lược như thế nào là đạt kỳ vọng về số lượng, chất lượng, chi phí và thời gian | M4: Tiêu chí - thước đo/ tên KPI | N4: KPI năm | P4: Thước đo, đơn vị tính | Q4: Tần suất kiểm soát | R4: Công cụ đo lường/Nguồn chứng minh | S4: Phân bổ KPI xuống các vị trí | Z4: PHÂN BỔ MỤC TIÊU THEO THÁNG
D5: Nhóm | E5: Thành phần | I5: Nhóm | J5: Thành phần | N5: Tham chiếu | O5: Chỉ tiêu | S5: Kỹ thuật | T5: ='Co cau to chuc'!H17 -> Trưởng phòng | U5: ='Co cau to chuc'!I17 -> Trưởng nhóm | V5: ='Co cau to chuc'!J17 -> Kỹ thuật điện | W5: ='Co cau to chuc'!K17 -> Kỹ thuật bảo trì | X5: ='Co cau to chuc'!L17 -> Kỹ thuật cơ | Y5: ='Co cau to chuc'!M17 -> Admin | Z5: 1 | AA5: 2 | AB5: 3 | AC5: 4 | AD5: 5 | AE5: 6 | AF5: 7 | AG5: 8 | AH5: 9 | AI5: 10 | AJ5: 11 | AK5: 12
A6: III | B6: Nội bộ | C6: 0.125 | D6: P1 | E6: P11 | F6: Duy trì và nâng cao chất lượng dịch vụ vận hành kỹ và bảo trì kỹ thuật | I6: 0.55 | J6: 0.3 | M6: Tổng dự án cần triển khai | O6: 6.1111111 | P6: dự án | Q6: Quý | R6: BC Kỹ thuật | S6: C | T6: C | U6: T | V6: T | W6: T | X6: T | Y6: T
E7: P12 | J7: 0.3 | M7: Tổng giá trị dự án cần triển khai | O7: 24.444444 | P7: VND | Q7: Tháng | R7: BC Kỹ thuật | S7: C | T7: C
E8: P13 | J8: 0.1 | M8: Tỷ lệ vật tư sửa chữa phát sinh/ tổng giá trị dự án triển khai | P8: % | Q8: Tháng | R8: BC Kỹ thuật | S8: C | T8: C
E9: P14 | J9: 0.2 | M9: Số lần bị dừng vận hành của khách hàng | P9: Lần | Q9: Tuần | R9: BC Kỹ thuật | S9: C | T9: C | U9: T | V9: T | W9: T | X9: T | Y9: T
E10: P15 | J10: 0.1 | M10: Tỷ lệ thời gian dừng vận hành của các dự án/ tổng thời gian dự án vận hành | P10: % | Q10: Tuần | R10: BC Kỹ thuật | S10: C | T10: C | U10: T | V10: T | W10: T | X10: T | Y10: T
D11: P3 | E11: P31 | F11: Hoàn thiện hệ thống quy trình, quản trị doanh nghiệp | I11: 0.15 | J11: 1 | M11: Thời gian hoàn thành hệ thống Quản trị hiệu suất BSCvsKPI | Q11: Quý | R11: BC Nhân sự | S11: T | T11: C
E12: P311 | H12: Phòng Kỹ thuật xây dựng hệ thống bộ phận | L12: Hoàn thành | M12: Thời gian hoàn thành hệ thống Quản trị hiệu suất BSCvsKPI của phòng Kỹ thuật | T12: C
D13: P4 | E13: P41 | F13: Đảm bảo các hoạt động của các khách hàng tại dự án được diễn ra liên tục | I13: 0.1 | J13: 0.5 | M13: Tổng giá trị hỗ trợ thêm cho các khách hàng | P13: VND | Q13: Tháng | R13: BC Nhân sự | S13: C | T13: C | U13: T | V13: T | W13: T | X13: T
E14: P42 | J14: 0.5 | M14: Số lần hỗ trợ cho khách hàng | P14: Lần | Q14: Tháng | R14: BC Nhân sự | S14: C | T14: C | U14: T | V14: T | W14: T | X14: T
D15: P5 | E15: P51 | F15: Gia tăng cam kết cho nhân viên kỹ thuật key (quan trọng) | I15: 0.1 | J15: 0.35 | M15: Tỷ lệ nhân viên kỹ thuật tồn tại >= 6 tháng / tổng số nhân viên kỹ thuật | P15: % | Q15: Năm | R15: BC Nhân sự | S15: T | T15: C
E16: P52 | J16: 0.35 | M16: Tỷ lệ nhân viên kỹ thuật nghỉ việc/ tổng số nhân viên | P16: % | Q16: Năm | R16: BC Nhân sự | S16: T | T16: C
E17: P53 | J17: 0.3 | M17: Tỷ lệ tổng thời gian vắng mặt của nhân viên kỹ thuật/ tổng thời gian lý thuyết của các nhân viên kỹ thuật | P17: % | Q17: Năm | R17: BC Nhân sự | S17: T | T17: C
E18: P531 | H18: Tổ chức các hoạt động teambuilding kết nối | L18: Tháng tổ chức kết nối 1 lần | M18: Số sự kiện teambuilding được tổ chức: 12 | T18: C
E19: P32 | M19: Tỷ lệ nhân viên kỹ thuật tham gia các sự kiện teambuilding của công ty: 90% | T19: C
D20: L2 | E20: L21 | F20: Phát triển mạnh hơn trong việc ứng dụng CN vào quản lý kỹ thuật | I20: 0.5 | J20: 1 | M20: Thời gian hoàn thành nâng cấp ứng dụng CN vào quản lý kỹ thuật | Q20: Quý | R20: BC Kỹ thuật | S20: C | T20: C
D21: JD01 | G21: Tham gia xây dựng hồ sơ dự thầu | L21: Đảm bảo đáp ứng đúng yêu cầu của bài thầu kinh doanh | M21: Số dự án trúng thầu khi có sự tham gia của kỹ thuật | Q21: Tháng | R21: BC Kỹ thuật | T21: C | U21: T
M22: Tỷ lệ số dự án trúng thầu khi có sự tham gia của kỹ thuật/ tổng số gói thầu | Q22: Tháng | R22: BC Kỹ thuật | T22: C | U22: T
L23: Các yêu cầu tham gia thầu của kinh doanh được đáp ứng 100 % | M23: Số hồ sơ thầu, phương án thầu cần lập | Q23: Tháng | R23: BC Kỹ thuật | T23: C | U23: T
M24: Tỷ lệ gói thầu có sự tham gia của kỹ thuật/ tổng gói thầu kinh doanh: 100% | Q24: Tháng | R24: BC Kỹ thuật | T24: C | U24: T
L25: Số lượng hồ sơ, phương án kỹ thuật đạt yêu cầu cao | M25: Tỷ lệ gói thầu có sự tham gia của kỹ thuật vượt qua sơ loại/ tổng số gói thầu | Q25: Tháng | R25: BC Kỹ thuật | T25: C | U25: T
M26: Số bộ hồ sơ thầu được kỹ thuật chuẩn bị vượt qua sơ loại | Q26: Tháng | R26: BC Kỹ thuật | T26: C | U26: T
L27: Kinh doanh hài lòng | M27: Số lời khen của kinh doanh | Q27: Tháng | R27: BC Kỹ thuật | T27: C | U27: T
L28: Đúng tiến độ yêu cầu của kinh doanh | M28: Số lượng hồ sơ kỹ thuật đáp ứng đúng tiến độ của kinh doanh | Q28: Tháng | R28: BC Kỹ thuật | T28: C | U28: T
M29: Tỷ lệ số lượng hồ sơ kỹ thuật đáp ứng đúng tiến độ của kinh doanh/ tổng số lượng hồ sơ kỹ thuật | Q29: Tháng | R29: BC Kỹ thuật | T29: C | U29: T
M30: Số lượng hồ sơ kỹ thuật phục vụ thầu trễ tiến độ | Q30: Tháng | R30: BC Kỹ thuật | T30: C | U30: T
L31: Không lãng phí vật tư làm thầu | M31: Tổng chi phí làm hồ sơ thầu | Q31: Tháng | R31: BC Kỹ thuật | T31: C | U31: T
M32: Tỷ lệ chi phí làm thầu/ tổng chi phí | Q32: Tháng | R32: BC Kỹ thuật | T32: C | U32: T
D33: JD02 | G33: Tiếp nhận dự án vận hành kỹ thuật | M33: Số lượng dự án được tiếp nhận | Q33: Tháng | R33: BC Kỹ thuật | T33: C | U33: T
D34: JD03 | G34: Xây dựng kế hoạch vận hành tòa nhà | M34: Số bản kế hoạch được triển khai | Q34: Tháng | R34: BC Kỹ thuật | T34: C | U34: T
D35: JD04 | G35: Duy trì, giám sát các thiết bị cơ, điện trong tòa nhà | M35: Tổng số thiết bị được giám sát trong tòa nhà | Q35: Tháng | R35: BC Kỹ thuật | T35: C | U35: T | V35: T | X35: T
M36: Số lần tuần tra, kiểm tra các thiết bị cơ điện trong tòa nhà | Q36: Tháng | R36: BC Kỹ thuật | T36: C | U36: T | V36: T | X36: T
M37: Số lần xảy ra sự cố thiết bị | Q37: Tháng | R37: BC Kỹ thuật | T37: C | U37: T | V37: T | X37: T
M38: Số lần đề xuất xử lý các vấn đề trước khi | Q38: Tháng | R38: BC Kỹ thuật | T38: C | U38: T | V38: T | X38: T
D39: JD05 | G39: Tiến hành sửa chữa, xử lý các sự cố cơ điện phát sinh | M39: Số lần sửa chữa xử lý sự cố cơ điện phát sinh | Q39: Tháng | R39: BC Kỹ thuật | T39: C | U39: T | V39: T | X39: T
M40: Tổng điểm sửa chữa xử lý sự cố cơ điện được tiến hành | Q40: Tháng | R40: BC Kỹ thuật | T40: C | U40: T | V40: T | X40: T
M41: Tỷ lệ sự cố phát sinh lần 2/ tổng số sự cố được sửa chữa xử lý | Q41: Tháng | R41: BC Kỹ thuật | T41: C | U41: T | V41: T | X41: T
M42: Thời gian trung bình xử lý 1 sự cố | Q42: Tháng | R42: BC Kỹ thuật | T42: C | U42: T | V42: T | X42: T
M43: Tổng chi phí phát sinh xử lý sự cố | Q43: Tháng | R43: BC Kỹ thuật | T43: C | U43: T | V43: T | X43: T
M44: Tỷ lệ chi phí sửa chữa, xử lý sự cố/ tổng chi phí dự án | Q44: Tháng | R44: BC Kỹ thuật | T44: C | U44: T | V44: T | X44: T
D45: JD06 | G45: Vận hành các máy móc (máy bơm, xử lý nước thải, máy phát điện, PCCC...) | M45: Tổng số giá trị năng lượng được sử dụng vận hành máy móc | Q45: Tháng | R45: BC Kỹ thuật | T45: C | U45: T | W45: T
M46: Tổng số thiết bị được vận hành và quản lý | Q46: Tháng | R46: BC Kỹ thuật | T46: C | U46: T | W46: T
M47: Tổng khối lượng nước được bơm qua hệ thống | Q47: Tháng | R47: BC Kỹ thuật | T47: C | U47: T | W47: T
M48: Tổng chi phí vận hành máy móc | Q48: Tháng | R48: BC Kỹ thuật | T48: C | U48: T | W48: T
M49: Tỷ lệ chi phí vận hành máy móc/ tổng chi phí dự án | Q49: Tháng | R49: BC Kỹ thuật | T49: C | U49: T | W49: T
D50: JD07 | G50: Duy tu, bảo dưỡng, bào trì máy móc thiết bị | M50: Tổng số máy móc được duy tu bảo dưỡng | Q50: Tháng | R50: BC Kỹ thuật | T50: C | U50: T | W50: T
M51: Tổng điểm bảo dưỡng duy tu được xử lý | Q51: Tháng | R51: BC Kỹ thuật | T51: C | U51: T | W51: T
M52: Tỷ lệ máy móc được cá nhân sửa chữa duy tu / tổng số máy móc bị hỏng | Q52: Tháng | R52: BC Kỹ thuật | T52: C | U52: T | W52: T
M53: Tỷ lệ máy móc bị hỏng trở lại / tổng số máy móc được sửa chữa | Q53: Tháng | R53: BC Kỹ thuật | T53: C | U53: T | W53: T
M54: Số lời khen của đơn vị đối tác về thiết bị | Q54: Tháng | R54: BC Kỹ thuật | T54: C | U54: T | W54: T
M55: Tổng chi phí duy tu bảo dướng, bảo trì máy móc | Q55: Tháng | R55: BC Kỹ thuật | T55: C | U55: T | W55: T
M56: Tỷ lệ chi phí duy tu bảo trì máy móc/ tổng chi phí dự án | Q56: Tháng | R56: BC Kỹ thuật | T56: C | U56: T | W56: T
D57: JD08 | G57: Hướng dẫn, huấn luyện an toàn sử dung thiết bị cho người trong tòa nhà | M57: Tổng số lượt người được huấn luyện an toàn | Q57: Tháng | R57: BC Kỹ thuật | T57: C | U57: T | V57: T | W57: T | X57: T
M58: Số sự cố phát sinh do nhân viên đối tác không biết thao tác | Q58: Tháng | R58: BC Kỹ thuật | T58: C | U58: T | V58: T | W58: T | X58: T
M59: Tỷ lệ người được huấn luyện đạt tiêu chuẩn/ tổng số người được huấn luyện an toàn | Q59: Tháng | R59: BC Kỹ thuật | T59: C | U59: T | V59: T | W59: T | X59: T
M60: Tổng chi phí huấn luyện an toàn | Q60: Tháng | R60: BC Kỹ thuật | T60: C | U60: T | V60: T | W60: T | X60: T
M61: Tỷ lệ chi phí huấn luyện/ tổng chi phí dự án | Q61: Tháng | R61: BC Kỹ thuật | T61: C | U61: T | V61: T | W61: T | X61: T
D62: JD09 | G62: Trả lời các phàn nàn, khiếu kiện của khách hàng | M62: Tổng số lượt phàn nàn của khách hàng được xử lý | Q62: Tháng | R62: BC Kỹ thuật | T62: C | U62: T | Y62: T
M63: Tỷ lệ số lượt xử lý khiếu nại thành công/ tổng số khiếu nại | Q63: Tháng | R63: BC Kỹ thuật | T63: C | U63: T | Y63: T
M64: Số lời khen của đối tác về dịch vụ | Q64: Tháng | R64: BC Kỹ thuật | T64: C | U64: T | Y64: T
D65: JD10 | G65: Thống kê, báo cáo tình hình triển khai dịch vụ | M65: Số lần thống kê báo cáo tình hình được làm | Q65: Tháng | R65: BC Kỹ thuật | T65: C | Y65: T
A66: Tổng
B68: Hướng dẫn phân bổ chỉ tiêu Công ty xuống các Đơn vị: Căn cứ theo Ma trận chức năng Công ty để phân bổ theo các tiêu thức: C (Chịu trách nhiệm chính), T (tham gia trực tiếp vào dòng chảy hoạt động), H (hỗ trợ)
R70: Ngày …. Tháng ….. Năm …….
R71: Người nhận mục tiêu

Sheet JD - KPI
A1: BẢNG PHÂN TÁCH KPI TỪ CHỨC NĂNG
K2: Nguyễn Hùng Cường | kinhcan24 | blognhansu.net.vn
A3: Stt | B3: Chức năng (KRA) | E3: Công việc đảm bảo điều gì | G3: Công việc như thế nào là đạt | O3: Vấn đề gì đang xảy ra ở công việc
G4: Số lượng | I4: Chất lượng | K4: Thời gian | M4: Chi phí
E5: Diễn đạt | F5: Thước đo | G5: Diễn đạt | H5: Thước đo | I5: Diễn đạt | J5: Thước đo | K5: Diễn đạt | L5: Thước đo | M5: Diễn đạt | N5: Thước đo | O5: Diễn đạt | P5: Thước đo
A6: 1 | B6: Tham gia xây dựng hồ sơ dự thầu | E6: Đảm bảo đáp ứng đúng yêu cầu của bài thầu kinh doanh | F6: Số dự án trúng thầu khi có sự tham gia của kỹ thuật | G6: Các yêu cầu tham gia thầu của kinh doanh được đáp ứng 100 % | H6: Số hồ sơ thầu, phương án thầu cần lập | I6: Số lượng hồ sơ, phương án kỹ thuật đạt yêu cầu cao | J6: Tỷ lệ gói thầu có sự tham gia của kỹ thuật vượt qua sơ loại/ tổng số gói thầu | K6: Đúng tiến độ yêu cầu của kinh doanh | L6: Số lượng hồ sơ kỹ thuật đáp ứng đúng tiến độ của kinh doanh | M6: Không lãng phí vật tư làm thầu | N6: Tổng chi phí làm hồ sơ thầu
F7: Tỷ lệ số dự án trúng thầu khi có sự tham gia của kỹ thuật/ tổng số gói thầu | H7: Tỷ lệ gói thầu có sự tham gia của kỹ thuật/ tổng gói thầu kinh doanh: 100% | J7: Số bộ hồ sơ thầu được kỹ thuật chuẩn bị vượt qua sơ loại | L7: Tỷ lệ số lượng hồ sơ kỹ thuật đáp ứng đúng tiến độ của kinh doanh/ tổng số lượng hồ sơ kỹ thuật | N7: Tỷ lệ chi phí làm thầu/ tổng chi phí
I8: Kinh doanh hài lòng | J8: Số lời khen của kinh doanh | L8: Số lượng hồ sơ kỹ thuật phục vụ thầu trễ tiến độ
A9: 2 | B9: Tiếp nhận dự án vận hành kỹ thuật | H9: Số lượng dự án được tiếp nhận
A10: 3 | B10: Xây dựng kế hoạch vận hành tòa nhà | H10: Số bản kế hoạch được triển khai
A11: 4 | B11: Duy trì, giám sát các thiết bị cơ, điện trong tòa nhà | H11: Tổng số thiết bị được giám sát trong tòa nhà | J11: Số lần xảy ra sự cố thiết bị
H12: Số lần tuần tra, kiểm tra các thiết bị cơ điện trong tòa nhà | J12: Số lần đề xuất xử lý các vấn đề trước khi
A13: 5 | B13: Tiến hành sửa chữa, xử lý các sự cố cơ điện phát sinh | H13: Số lần sửa chữa xử lý sự cố cơ điện phát sinh | J13: Tỷ lệ sự cố phát sinh lần 2/ tổng số sự cố được sửa chữa xử lý | M13: Tổng chi phí phát sinh xử lý sự cố
H14: Tổng điểm sửa chữa xử lý sự cố cơ điện được tiến hành | L14: Thời gian trung bình xử lý 1 sự cố | M14: Tỷ lệ chi phí sửa chữa, xử lý sự cố/ tổng chi phí dự án
A15: 6 | B15: Vận hành các máy móc (máy bơm, xử lý nước thải, máy phát điện, PCCC...) | H15: Tổng số giá trị năng lượng được sử dụng vận hành máy móc | J15: Tổng khối lượng nước được bơm qua hệ thống | M15: Tổng chi phí vận hành máy móc
H16: Tổng số thiết bị được vận hành và quản lý | M16: Tỷ lệ chi phí vận hành máy móc/ tổng chi phí dự án
A17: 7 | B17: Duy tu, bảo dưỡng, bào trì máy móc thiết bị | H17: Tổng số máy móc được duy tu bảo dưỡng | J17: Tỷ lệ máy móc được cá nhân sửa chữa duy tu / tổng số máy móc bị hỏng | M17: Tổng chi phí duy tu bảo dướng, bảo trì máy móc
H18: Tổng điểm bảo dưỡng duy tu được xử lý | J18: Tỷ lệ máy móc bị hỏng trở lại / tổng số máy móc được sửa chữa | M18: Tỷ lệ chi phí duy tu bảo trì máy móc/ tổng chi phí dự án
J19: Số lời khen của đơn vị đối tác về thiết bị
C20: Lên kế hoạch duy tu bảo dưỡng
C21: Kiểm tra, đánh giá các máy móc
C22: Tiến hành tự bảo trì sửa chữa các hỏng hóc nhỏ | G22: Số máy móc được sửa chữa bảo dưỡng | J22: Tỷ lệ máy móc được sửa chữa thành công/ tổng số máy móc
C23: Quản lý đối tác sửa chữa | G23: Số máy móc được phân công quản lý bảo dưỡng sửa chữa
C24: Thử nghiệm máy móc
C25: Nghiệm thu bàn giao máy móc
A26: 8 | B26: Hướng dẫn, huấn luyện an toàn sử dung thiết bị cho người trong tòa nhà | H26: Tổng số lượt người được huấn luyện an toàn | J26: Số sự cố phát sinh do nhân viên đối tác không biết thao tác | M26: Tổng chi phí huấn luyện an toàn
J27: Tỷ lệ người được huấn luyện đạt tiêu chuẩn/ tổng số người được huấn luyện an toàn | M27: Tỷ lệ chi phí huấn luyện/ tổng chi phí dự án
A28: 9 | B28: Trả lời các phàn nàn, khiếu kiện của khách hàng | H28: Tổng số lượt phàn nàn của khách hàng được xử lý | J28: Tỷ lệ số lượt xử lý khiếu nại thành công/ tổng số khiếu nại
J29: Số lời khen của đối tác về dịch vụ
A30: 10 | B30: Thống kê, báo cáo tình hình triển khai dịch vụ | H30: Số lần thống kê báo cáo tình hình được làm

Sheet KPI Ky thuat dien final
E1: BẢNG GIAO MỤC TIÊU HOẠT ĐỘNG TOÀN CÔNG TY NĂM (Ban hành theo quyết định số ………./HĐQT ngày ……/……./………… | AI1: Số:
AI2: Ngày: ……/……/………
C3: Vị trí | D3: Kỹ thuật điện | M3: Nguyễn Hùng Cường | kinhcan24 | blognhansu.net.vn
A4: Stt | B4: Ký hiệu | D4: Mục tiêu bộ phận | E4: Trọng số | G4: Tiêu chí - thước đo/ tên KPI | H4: KPI năm | J4: Thước đo, đơn vị tính | K4: Tần suất kiểm soát | L4: Công cụ đo lường/Nguồn chứng minh | M4: Cách tính %HT | N4: KPI | O4: Đánh giá thả nổi | R4: KPI theo bậc | W4: 5W - 1H | AC4: PHÂN BỔ MỤC TIÊU THEO THÁNG
B5: Nhóm | C5: Thành phần | E5: Nhóm | F5: Thành phần | H5: Tham chiếu | I5: Chỉ tiêu | N5: TB tháng | O5: KQ | P5: % HT | Q5: Điểm % | R5: 1 | S5: 2 | T5: 3 | U5: 4 | V5: 5 | W5: What | X5: Why | Y5: Where | Z5: When | AA5: Who | AB5: How | AC5: 1 | AD5: 2 | AE5: 3 | AF5: 4 | AG5: 5 | AH5: 6 | AI5: 7 | AJ5: 8 | AK5: 9 | AL5: 10 | AM5: 11 | AN5: 12
A6: 1 | B6: P1 | C6: P11 | D6: Duy trì và nâng cao chất lượng dịch vụ vận hành kỹ và bảo trì kỹ thuật | E6: =F6 -> 0.03 | F6: 0.03 | G6: Tổng dự án đang triển khai | I6: =6.11111111111111*12 -> 73.333333 | J6: dự án | K6: Tháng | L6: BC Kỹ thuật | M6: KQ/ Chỉ tiêu x 100% | N6: =I6/12 -> 6.1111111 | O6: 6 | P6: =O6/N6 -> 0.98181818 | Q6: =P6*F6 -> 0.029454545 | R6: =N6 -> 6.1111111 | S6: =R6*[1]CS!$W$12/100 -> 6.875 | T6: =S6*[1]CS!$W$13/100 -> 7.6388889 | U6: =T6*[1]CS!$W$14/100 -> 8.4027778 | V6: =U6*[1]CS!$W$15/100 -> 9.1666667 | W6: Tên KPI | X6: Key | Y6: Dữ liệu | Z6: Quy trình | AA6: Quy trình | AB6: Đánh giá thả nổi
A7: 2 | B7: P4 | C7: P42 | D7: Đảm bảo các hoạt động của các khách hàng tại dự án được diễn ra liên tục | E7: =F7 -> 0.03 | F7: 0.03 | G7: Số lần hỗ trợ cho khách hàng | I7: =4*12 -> 48 | J7: Lần | K7: Tháng | L7: BC Kỹ thuật | M7: Nếu hỗ trợ được 4 lần thì đạt 100%, cứ mỗi lần tăng thêm được 10%, cứ mỗi lần giảm đi thì - 25% | N7: =I7/12 -> 4 | O7: 3 | P7: 0.75 | Q7: =P7*F7 -> 0.0225 | R7: =N7 -> 4 | S7: =R7*[1]CS!$W$12/100 -> 4.5 | T7: =S7*[1]CS!$W$13/100 -> 5 | U7: =T7*[1]CS!$W$14/100 -> 5.5 | V7: =U7*[1]CS!$W$15/100 -> 6
A8: 3 | B8: JD04 | C8: JD041 | D8: Duy trì, giám sát các thiết bị cơ, điện trong tòa nhà | E8: =F8+F9+F10 -> 0.5 | F8: 0.15 | G8: Tổng số thiết bị được giám sát trong tòa nhà | I8: =20*12 -> 240 | J8: Thiết bị | K8: Tháng | L8: BC Kỹ thuật | M8: KQ/ Chỉ tiêu x 100% | N8: =I8/12 -> 20 | O8: 21 | P8: =O8/N8 -> 1.05 | Q8: =P8*F8 -> 0.1575 | R8: =N8 -> 20 | S8: =R8*[1]CS!$W$12/100 -> 22.5 | T8: =S8*[1]CS!$W$13/100 -> 25 | U8: =T8*[1]CS!$W$14/100 -> 27.5 | V8: =U8*[1]CS!$W$15/100 -> 30
A9: 4 | C9: JD042 | F9: 0.25 | G9: Số lần bị xảy ra sự cố thiết bị | I9: =5*12 -> 60 | J9: Lần | K9: Tháng | L9: BC Kỹ thuật | M9: Chỉ tiêu / KQ x 100% | N9: =I9/12 -> 5 | O9: 6 | P9: =N9/O9 -> 0.83333333 | Q9: =P9*F9 -> 0.20833333 | R9: =N9 -> 5 | S9: =R9*100/[1]CS!W12 -> 4.4444444 | T9: =S9*100/[1]CS!W13 -> 4 | U9: =T9*100/[1]CS!W14 -> 3.6363636 | V9: =U9*100/[1]CS!W15 -> 3.3333333
A10: 5 | C10: JD043 | F10: 0.1 | G10: Số lần đề xuất xử lý các vấn đề trước khi | I10: =4*12 -> 48 | J10: Lần | K10: Tháng | L10: BC Kỹ thuật | M10: KQ/ Chỉ tiêu x 100% | N10: =I10/12 -> 4 | O10: 4 | P10: =O10/N10 -> 1 | Q10: =P10*F10 -> 0.1 | R10: =N10 -> 4 | S10: =R10*[1]CS!$W$12/100 -> 4.5 | T10: =S10*[1]CS!$W$13/100 -> 5 | U10: =T10*[1]CS!$W$14/100 -> 5.5 | V10: =U10*[1]CS!$W$15/100 -> 6
A11: 6 | B11: JD05 | C11: JD051 | D11: Tiến hành sửa chữa, xử lý các sự cố cơ điện phát sinh | E11: =F11 -> 0.28 | F11: 0.28 | G11: Tổng điểm sửa chữa xử lý sự cố cơ điện được tiến hành | I11: =100*12 -> 1200 | J11: điểm | K11: Tháng | L11: BC Kỹ thuật | M11: KQ/ Chỉ tiêu x 100% | N11: =I11/12 -> 100 | O11: 100 | P11: =O11/N11 -> 1 | Q11: =P11*F11 -> 0.28 | R11: =N11 -> 100 | S11: =R11*[1]CS!$W$12/100 -> 112.5 | T11: =S11*[1]CS!$W$13/100 -> 125 | U11: =T11*[1]CS!$W$14/100 -> 137.5 | V11: =U11*[1]CS!$W$15/100 -> 150
A12: 7 | B12: JD08 | C12: JD081 | D12: Hướng dẫn, huấn luyện an toàn sử dung thiết bị cho người trong tòa nhà | E12: =F12+F13 -> 0.06 | F12: 0.03 | G12: Tổng số lượt người được huấn luyện an toàn | I12: =20*12 -> 240 | J12: Lượt | K12: Tháng | L12: BC Kỹ thuật | M12: KQ/ Chỉ tiêu x 100% | N12: =I12/12 -> 20 | O12: 20 | P12: =O12/N12 -> 1 | Q12: =P12*F12 -> 0.03 | R12: =N12 -> 20 | S12: =R12*[1]CS!$W$12/100 -> 22.5 | T12: =S12*[1]CS!$W$13/100 -> 25 | U12: =T12*[1]CS!$W$14/100 -> 27.5 | V12: =U12*[1]CS!$W$15/100 -> 30
A13: 8 | C13: JD082 | F13: 0.03 | G13: Tỷ lệ người được huấn luyện đạt tiêu chuẩn/ tổng số người được huấn luyện an toàn | I13: 100 | J13: % | K13: Tháng | L13: BC Kỹ thuật | M13: KQ/ Chỉ tiêu x 100% | N13: =I13 -> 100 | O13: 90 | P13: =O13/N13 -> 0.9 | Q13: =P13*F13 -> 0.027 | R13: =N13 -> 100 | S13: =R13*[1]CS!$W$12/100 -> 112.5 | T13: =S13*[1]CS!$W$13/100 -> 125 | U13: =T13*[1]CS!$W$14/100 -> 137.5 | V13: =U13*[1]CS!$W$15/100 -> 150
B14: JD11 | C14: JD111 | D14: Hoàn thành công việc của bộ phận | E14: =F14 -> 0.1 | F14: 0.1 | G14: Tỷ lệ hoàn thành KPI của trưởng phòng | I14: 100 | J14: % | K14: Tháng | L14: BC Nhân sự | M14: KQ/ Chỉ tiêu x 100% | N14: 100 | O14: 100 | P14: =O14/N14 -> 1 | Q14: =P14*F14 -> 0.1
A15: Tổng | E15: =SUM(E6:E14) -> 1 | F15: =SUM(F6:F14) -> 1 | Q15: =SUM(Q6:Q14) -> 0.95478788
L17: Ngày …. Tháng ….. Năm …….
L18: Người nhận mục tiêu
C20: KPI mở rộng
D21: Sáng tạo | G21: Số cải tiến công việc cần có
D22: Tuân thủ nội quy | G22: Số lần đi làm muộn
